BEGIN:VCALENDAR
VERSION:2.0
PRODID:-//The Green Dragon Tavern - ECPv6.15.13.1//NONSGML v1.0//EN
CALSCALE:GREGORIAN
METHOD:PUBLISH
X-WR-CALNAME:The Green Dragon Tavern
X-ORIGINAL-URL:https://www.greendragonboston.com
X-WR-CALDESC:Events for The Green Dragon Tavern
REFRESH-INTERVAL;VALUE=DURATION:PT1H
X-Robots-Tag:noindex
X-PUBLISHED-TTL:PT1H
BEGIN:VTIMEZONE
TZID:America/New_York
BEGIN:DAYLIGHT
TZOFFSETFROM:-0500
TZOFFSETTO:-0400
TZNAME:EDT
DTSTART:20250309T070000
END:DAYLIGHT
BEGIN:STANDARD
TZOFFSETFROM:-0400
TZOFFSETTO:-0500
TZNAME:EST
DTSTART:20251102T060000
END:STANDARD
BEGIN:DAYLIGHT
TZOFFSETFROM:-0500
TZOFFSETTO:-0400
TZNAME:EDT
DTSTART:20260308T070000
END:DAYLIGHT
BEGIN:STANDARD
TZOFFSETFROM:-0400
TZOFFSETTO:-0500
TZNAME:EST
DTSTART:20261101T060000
END:STANDARD
BEGIN:DAYLIGHT
TZOFFSETFROM:-0500
TZOFFSETTO:-0400
TZNAME:EDT
DTSTART:20270314T070000
END:DAYLIGHT
BEGIN:STANDARD
TZOFFSETFROM:-0400
TZOFFSETTO:-0500
TZNAME:EST
DTSTART:20271107T060000
END:STANDARD
END:VTIMEZONE
BEGIN:VEVENT
DTSTART;TZID=America/New_York:20260423T210000
DTEND;TZID=America/New_York:20260423T233000
DTSTAMP:20260423T012914
CREATED:20240206T180455Z
LAST-MODIFIED:20240206T180455Z
UID:10003527-1776978000-1776987000@www.greendragonboston.com
SUMMARY:Spittin Vinnies
DESCRIPTION:
URL:https://www.greendragonboston.com/event/spittin-vinnies-2/2026-04-23/
LOCATION:The Green Dragon Tavern\, 11 Marshall St.\, Boston\, MA\, 02108\, United States
GEO:42.361468;-71.056849
X-APPLE-STRUCTURED-LOCATION;VALUE=URI;X-ADDRESS=The Green Dragon Tavern 11 Marshall St. Boston MA 02108 United States;X-APPLE-RADIUS=500;X-TITLE=11 Marshall St.:geo:-71.056849,42.361468
END:VEVENT
BEGIN:VEVENT
DTSTART;TZID=America/New_York:20260430T210000
DTEND;TZID=America/New_York:20260430T233000
DTSTAMP:20260423T012914
CREATED:20240206T180455Z
LAST-MODIFIED:20240206T180455Z
UID:10003528-1777582800-1777591800@www.greendragonboston.com
SUMMARY:Spittin Vinnies
DESCRIPTION:
URL:https://www.greendragonboston.com/event/spittin-vinnies-2/2026-04-30/
LOCATION:The Green Dragon Tavern\, 11 Marshall St.\, Boston\, MA\, 02108\, United States
GEO:42.361468;-71.056849
X-APPLE-STRUCTURED-LOCATION;VALUE=URI;X-ADDRESS=The Green Dragon Tavern 11 Marshall St. Boston MA 02108 United States;X-APPLE-RADIUS=500;X-TITLE=11 Marshall St.:geo:-71.056849,42.361468
END:VEVENT
BEGIN:VEVENT
DTSTART;TZID=America/New_York:20260507T210000
DTEND;TZID=America/New_York:20260507T233000
DTSTAMP:20260423T012914
CREATED:20240206T180455Z
LAST-MODIFIED:20240206T180455Z
UID:10003529-1778187600-1778196600@www.greendragonboston.com
SUMMARY:Spittin Vinnies
DESCRIPTION:
URL:https://www.greendragonboston.com/event/spittin-vinnies-2/2026-05-07/
LOCATION:The Green Dragon Tavern\, 11 Marshall St.\, Boston\, MA\, 02108\, United States
GEO:42.361468;-71.056849
X-APPLE-STRUCTURED-LOCATION;VALUE=URI;X-ADDRESS=The Green Dragon Tavern 11 Marshall St. Boston MA 02108 United States;X-APPLE-RADIUS=500;X-TITLE=11 Marshall St.:geo:-71.056849,42.361468
END:VEVENT
BEGIN:VEVENT
DTSTART;TZID=America/New_York:20260514T210000
DTEND;TZID=America/New_York:20260514T233000
DTSTAMP:20260423T012914
CREATED:20240206T180455Z
LAST-MODIFIED:20240206T180455Z
UID:10003530-1778792400-1778801400@www.greendragonboston.com
SUMMARY:Spittin Vinnies
DESCRIPTION:
URL:https://www.greendragonboston.com/event/spittin-vinnies-2/2026-05-14/
LOCATION:The Green Dragon Tavern\, 11 Marshall St.\, Boston\, MA\, 02108\, United States
GEO:42.361468;-71.056849
X-APPLE-STRUCTURED-LOCATION;VALUE=URI;X-ADDRESS=The Green Dragon Tavern 11 Marshall St. Boston MA 02108 United States;X-APPLE-RADIUS=500;X-TITLE=11 Marshall St.:geo:-71.056849,42.361468
END:VEVENT
BEGIN:VEVENT
DTSTART;TZID=America/New_York:20260521T210000
DTEND;TZID=America/New_York:20260521T233000
DTSTAMP:20260423T012914
CREATED:20240206T180455Z
LAST-MODIFIED:20240206T180455Z
UID:10003531-1779397200-1779406200@www.greendragonboston.com
SUMMARY:Spittin Vinnies
DESCRIPTION:
URL:https://www.greendragonboston.com/event/spittin-vinnies-2/2026-05-21/
LOCATION:The Green Dragon Tavern\, 11 Marshall St.\, Boston\, MA\, 02108\, United States
GEO:42.361468;-71.056849
X-APPLE-STRUCTURED-LOCATION;VALUE=URI;X-ADDRESS=The Green Dragon Tavern 11 Marshall St. Boston MA 02108 United States;X-APPLE-RADIUS=500;X-TITLE=11 Marshall St.:geo:-71.056849,42.361468
END:VEVENT
BEGIN:VEVENT
DTSTART;TZID=America/New_York:20260528T210000
DTEND;TZID=America/New_York:20260528T233000
DTSTAMP:20260423T012914
CREATED:20240206T180455Z
LAST-MODIFIED:20240206T180455Z
UID:10003532-1780002000-1780011000@www.greendragonboston.com
SUMMARY:Spittin Vinnies
DESCRIPTION:
URL:https://www.greendragonboston.com/event/spittin-vinnies-2/2026-05-28/
LOCATION:The Green Dragon Tavern\, 11 Marshall St.\, Boston\, MA\, 02108\, United States
GEO:42.361468;-71.056849
X-APPLE-STRUCTURED-LOCATION;VALUE=URI;X-ADDRESS=The Green Dragon Tavern 11 Marshall St. Boston MA 02108 United States;X-APPLE-RADIUS=500;X-TITLE=11 Marshall St.:geo:-71.056849,42.361468
END:VEVENT
BEGIN:VEVENT
DTSTART;TZID=America/New_York:20260604T210000
DTEND;TZID=America/New_York:20260604T233000
DTSTAMP:20260423T012914
CREATED:20240206T180455Z
LAST-MODIFIED:20240206T180455Z
UID:10003533-1780606800-1780615800@www.greendragonboston.com
SUMMARY:Spittin Vinnies
DESCRIPTION:
URL:https://www.greendragonboston.com/event/spittin-vinnies-2/2026-06-04/
LOCATION:The Green Dragon Tavern\, 11 Marshall St.\, Boston\, MA\, 02108\, United States
GEO:42.361468;-71.056849
X-APPLE-STRUCTURED-LOCATION;VALUE=URI;X-ADDRESS=The Green Dragon Tavern 11 Marshall St. Boston MA 02108 United States;X-APPLE-RADIUS=500;X-TITLE=11 Marshall St.:geo:-71.056849,42.361468
END:VEVENT
BEGIN:VEVENT
DTSTART;TZID=America/New_York:20260611T210000
DTEND;TZID=America/New_York:20260611T233000
DTSTAMP:20260423T012914
CREATED:20240206T180455Z
LAST-MODIFIED:20240206T180455Z
UID:10003534-1781211600-1781220600@www.greendragonboston.com
SUMMARY:Spittin Vinnies
DESCRIPTION:
URL:https://www.greendragonboston.com/event/spittin-vinnies-2/2026-06-11/
LOCATION:The Green Dragon Tavern\, 11 Marshall St.\, Boston\, MA\, 02108\, United States
GEO:42.361468;-71.056849
X-APPLE-STRUCTURED-LOCATION;VALUE=URI;X-ADDRESS=The Green Dragon Tavern 11 Marshall St. Boston MA 02108 United States;X-APPLE-RADIUS=500;X-TITLE=11 Marshall St.:geo:-71.056849,42.361468
END:VEVENT
BEGIN:VEVENT
DTSTART;TZID=America/New_York:20260618T210000
DTEND;TZID=America/New_York:20260618T233000
DTSTAMP:20260423T012914
CREATED:20240206T180455Z
LAST-MODIFIED:20240206T180455Z
UID:10003535-1781816400-1781825400@www.greendragonboston.com
SUMMARY:Spittin Vinnies
DESCRIPTION:
URL:https://www.greendragonboston.com/event/spittin-vinnies-2/2026-06-18/
LOCATION:The Green Dragon Tavern\, 11 Marshall St.\, Boston\, MA\, 02108\, United States
GEO:42.361468;-71.056849
X-APPLE-STRUCTURED-LOCATION;VALUE=URI;X-ADDRESS=The Green Dragon Tavern 11 Marshall St. Boston MA 02108 United States;X-APPLE-RADIUS=500;X-TITLE=11 Marshall St.:geo:-71.056849,42.361468
END:VEVENT
BEGIN:VEVENT
DTSTART;TZID=America/New_York:20260625T210000
DTEND;TZID=America/New_York:20260625T233000
DTSTAMP:20260423T012914
CREATED:20240206T180455Z
LAST-MODIFIED:20240206T180455Z
UID:10003536-1782421200-1782430200@www.greendragonboston.com
SUMMARY:Spittin Vinnies
DESCRIPTION:
URL:https://www.greendragonboston.com/event/spittin-vinnies-2/2026-06-25/
LOCATION:The Green Dragon Tavern\, 11 Marshall St.\, Boston\, MA\, 02108\, United States
GEO:42.361468;-71.056849
X-APPLE-STRUCTURED-LOCATION;VALUE=URI;X-ADDRESS=The Green Dragon Tavern 11 Marshall St. Boston MA 02108 United States;X-APPLE-RADIUS=500;X-TITLE=11 Marshall St.:geo:-71.056849,42.361468
END:VEVENT
BEGIN:VEVENT
DTSTART;TZID=America/New_York:20260702T210000
DTEND;TZID=America/New_York:20260702T233000
DTSTAMP:20260423T012914
CREATED:20240206T180455Z
LAST-MODIFIED:20240206T180455Z
UID:10003537-1783026000-1783035000@www.greendragonboston.com
SUMMARY:Spittin Vinnies
DESCRIPTION:
URL:https://www.greendragonboston.com/event/spittin-vinnies-2/2026-07-02/
LOCATION:The Green Dragon Tavern\, 11 Marshall St.\, Boston\, MA\, 02108\, United States
GEO:42.361468;-71.056849
X-APPLE-STRUCTURED-LOCATION;VALUE=URI;X-ADDRESS=The Green Dragon Tavern 11 Marshall St. Boston MA 02108 United States;X-APPLE-RADIUS=500;X-TITLE=11 Marshall St.:geo:-71.056849,42.361468
END:VEVENT
BEGIN:VEVENT
DTSTART;TZID=America/New_York:20260709T210000
DTEND;TZID=America/New_York:20260709T233000
DTSTAMP:20260423T012914
CREATED:20240206T180455Z
LAST-MODIFIED:20240206T180455Z
UID:10003538-1783630800-1783639800@www.greendragonboston.com
SUMMARY:Spittin Vinnies
DESCRIPTION:
URL:https://www.greendragonboston.com/event/spittin-vinnies-2/2026-07-09/
LOCATION:The Green Dragon Tavern\, 11 Marshall St.\, Boston\, MA\, 02108\, United States
GEO:42.361468;-71.056849
X-APPLE-STRUCTURED-LOCATION;VALUE=URI;X-ADDRESS=The Green Dragon Tavern 11 Marshall St. Boston MA 02108 United States;X-APPLE-RADIUS=500;X-TITLE=11 Marshall St.:geo:-71.056849,42.361468
END:VEVENT
BEGIN:VEVENT
DTSTART;TZID=America/New_York:20260716T210000
DTEND;TZID=America/New_York:20260716T233000
DTSTAMP:20260423T012914
CREATED:20240206T180455Z
LAST-MODIFIED:20240206T180455Z
UID:10003539-1784235600-1784244600@www.greendragonboston.com
SUMMARY:Spittin Vinnies
DESCRIPTION:
URL:https://www.greendragonboston.com/event/spittin-vinnies-2/2026-07-16/
LOCATION:The Green Dragon Tavern\, 11 Marshall St.\, Boston\, MA\, 02108\, United States
GEO:42.361468;-71.056849
X-APPLE-STRUCTURED-LOCATION;VALUE=URI;X-ADDRESS=The Green Dragon Tavern 11 Marshall St. Boston MA 02108 United States;X-APPLE-RADIUS=500;X-TITLE=11 Marshall St.:geo:-71.056849,42.361468
END:VEVENT
BEGIN:VEVENT
DTSTART;TZID=America/New_York:20260723T210000
DTEND;TZID=America/New_York:20260723T233000
DTSTAMP:20260423T012914
CREATED:20240206T180455Z
LAST-MODIFIED:20240206T180455Z
UID:10003540-1784840400-1784849400@www.greendragonboston.com
SUMMARY:Spittin Vinnies
DESCRIPTION:
URL:https://www.greendragonboston.com/event/spittin-vinnies-2/2026-07-23/
LOCATION:The Green Dragon Tavern\, 11 Marshall St.\, Boston\, MA\, 02108\, United States
GEO:42.361468;-71.056849
X-APPLE-STRUCTURED-LOCATION;VALUE=URI;X-ADDRESS=The Green Dragon Tavern 11 Marshall St. Boston MA 02108 United States;X-APPLE-RADIUS=500;X-TITLE=11 Marshall St.:geo:-71.056849,42.361468
END:VEVENT
BEGIN:VEVENT
DTSTART;TZID=America/New_York:20260730T210000
DTEND;TZID=America/New_York:20260730T233000
DTSTAMP:20260423T012914
CREATED:20240206T180455Z
LAST-MODIFIED:20240206T180455Z
UID:10003541-1785445200-1785454200@www.greendragonboston.com
SUMMARY:Spittin Vinnies
DESCRIPTION:
URL:https://www.greendragonboston.com/event/spittin-vinnies-2/2026-07-30/
LOCATION:The Green Dragon Tavern\, 11 Marshall St.\, Boston\, MA\, 02108\, United States
GEO:42.361468;-71.056849
X-APPLE-STRUCTURED-LOCATION;VALUE=URI;X-ADDRESS=The Green Dragon Tavern 11 Marshall St. Boston MA 02108 United States;X-APPLE-RADIUS=500;X-TITLE=11 Marshall St.:geo:-71.056849,42.361468
END:VEVENT
BEGIN:VEVENT
DTSTART;TZID=America/New_York:20260806T210000
DTEND;TZID=America/New_York:20260806T233000
DTSTAMP:20260423T012914
CREATED:20240206T180455Z
LAST-MODIFIED:20240206T180455Z
UID:10003542-1786050000-1786059000@www.greendragonboston.com
SUMMARY:Spittin Vinnies
DESCRIPTION:
URL:https://www.greendragonboston.com/event/spittin-vinnies-2/2026-08-06/
LOCATION:The Green Dragon Tavern\, 11 Marshall St.\, Boston\, MA\, 02108\, United States
GEO:42.361468;-71.056849
X-APPLE-STRUCTURED-LOCATION;VALUE=URI;X-ADDRESS=The Green Dragon Tavern 11 Marshall St. Boston MA 02108 United States;X-APPLE-RADIUS=500;X-TITLE=11 Marshall St.:geo:-71.056849,42.361468
END:VEVENT
BEGIN:VEVENT
DTSTART;TZID=America/New_York:20260813T210000
DTEND;TZID=America/New_York:20260813T233000
DTSTAMP:20260423T012914
CREATED:20240206T180455Z
LAST-MODIFIED:20240206T180455Z
UID:10003543-1786654800-1786663800@www.greendragonboston.com
SUMMARY:Spittin Vinnies
DESCRIPTION:
URL:https://www.greendragonboston.com/event/spittin-vinnies-2/2026-08-13/
LOCATION:The Green Dragon Tavern\, 11 Marshall St.\, Boston\, MA\, 02108\, United States
GEO:42.361468;-71.056849
X-APPLE-STRUCTURED-LOCATION;VALUE=URI;X-ADDRESS=The Green Dragon Tavern 11 Marshall St. Boston MA 02108 United States;X-APPLE-RADIUS=500;X-TITLE=11 Marshall St.:geo:-71.056849,42.361468
END:VEVENT
BEGIN:VEVENT
DTSTART;TZID=America/New_York:20260820T210000
DTEND;TZID=America/New_York:20260820T233000
DTSTAMP:20260423T012914
CREATED:20240206T180455Z
LAST-MODIFIED:20240206T180455Z
UID:10003544-1787259600-1787268600@www.greendragonboston.com
SUMMARY:Spittin Vinnies
DESCRIPTION:
URL:https://www.greendragonboston.com/event/spittin-vinnies-2/2026-08-20/
LOCATION:The Green Dragon Tavern\, 11 Marshall St.\, Boston\, MA\, 02108\, United States
GEO:42.361468;-71.056849
X-APPLE-STRUCTURED-LOCATION;VALUE=URI;X-ADDRESS=The Green Dragon Tavern 11 Marshall St. Boston MA 02108 United States;X-APPLE-RADIUS=500;X-TITLE=11 Marshall St.:geo:-71.056849,42.361468
END:VEVENT
BEGIN:VEVENT
DTSTART;TZID=America/New_York:20260827T210000
DTEND;TZID=America/New_York:20260827T233000
DTSTAMP:20260423T012914
CREATED:20240206T180455Z
LAST-MODIFIED:20240206T180455Z
UID:10003545-1787864400-1787873400@www.greendragonboston.com
SUMMARY:Spittin Vinnies
DESCRIPTION:
URL:https://www.greendragonboston.com/event/spittin-vinnies-2/2026-08-27/
LOCATION:The Green Dragon Tavern\, 11 Marshall St.\, Boston\, MA\, 02108\, United States
GEO:42.361468;-71.056849
X-APPLE-STRUCTURED-LOCATION;VALUE=URI;X-ADDRESS=The Green Dragon Tavern 11 Marshall St. Boston MA 02108 United States;X-APPLE-RADIUS=500;X-TITLE=11 Marshall St.:geo:-71.056849,42.361468
END:VEVENT
BEGIN:VEVENT
DTSTART;TZID=America/New_York:20260903T210000
DTEND;TZID=America/New_York:20260903T233000
DTSTAMP:20260423T012914
CREATED:20240206T180455Z
LAST-MODIFIED:20240206T180455Z
UID:10003546-1788469200-1788478200@www.greendragonboston.com
SUMMARY:Spittin Vinnies
DESCRIPTION:
URL:https://www.greendragonboston.com/event/spittin-vinnies-2/2026-09-03/
LOCATION:The Green Dragon Tavern\, 11 Marshall St.\, Boston\, MA\, 02108\, United States
GEO:42.361468;-71.056849
X-APPLE-STRUCTURED-LOCATION;VALUE=URI;X-ADDRESS=The Green Dragon Tavern 11 Marshall St. Boston MA 02108 United States;X-APPLE-RADIUS=500;X-TITLE=11 Marshall St.:geo:-71.056849,42.361468
END:VEVENT
BEGIN:VEVENT
DTSTART;TZID=America/New_York:20260910T210000
DTEND;TZID=America/New_York:20260910T233000
DTSTAMP:20260423T012914
CREATED:20240206T180455Z
LAST-MODIFIED:20240206T180455Z
UID:10003547-1789074000-1789083000@www.greendragonboston.com
SUMMARY:Spittin Vinnies
DESCRIPTION:
URL:https://www.greendragonboston.com/event/spittin-vinnies-2/2026-09-10/
LOCATION:The Green Dragon Tavern\, 11 Marshall St.\, Boston\, MA\, 02108\, United States
GEO:42.361468;-71.056849
X-APPLE-STRUCTURED-LOCATION;VALUE=URI;X-ADDRESS=The Green Dragon Tavern 11 Marshall St. Boston MA 02108 United States;X-APPLE-RADIUS=500;X-TITLE=11 Marshall St.:geo:-71.056849,42.361468
END:VEVENT
BEGIN:VEVENT
DTSTART;TZID=America/New_York:20260917T210000
DTEND;TZID=America/New_York:20260917T233000
DTSTAMP:20260423T012914
CREATED:20240206T180455Z
LAST-MODIFIED:20240206T180455Z
UID:10003548-1789678800-1789687800@www.greendragonboston.com
SUMMARY:Spittin Vinnies
DESCRIPTION:
URL:https://www.greendragonboston.com/event/spittin-vinnies-2/2026-09-17/
LOCATION:The Green Dragon Tavern\, 11 Marshall St.\, Boston\, MA\, 02108\, United States
GEO:42.361468;-71.056849
X-APPLE-STRUCTURED-LOCATION;VALUE=URI;X-ADDRESS=The Green Dragon Tavern 11 Marshall St. Boston MA 02108 United States;X-APPLE-RADIUS=500;X-TITLE=11 Marshall St.:geo:-71.056849,42.361468
END:VEVENT
BEGIN:VEVENT
DTSTART;TZID=America/New_York:20260924T210000
DTEND;TZID=America/New_York:20260924T233000
DTSTAMP:20260423T012914
CREATED:20240206T180455Z
LAST-MODIFIED:20240206T180455Z
UID:10003549-1790283600-1790292600@www.greendragonboston.com
SUMMARY:Spittin Vinnies
DESCRIPTION:
URL:https://www.greendragonboston.com/event/spittin-vinnies-2/2026-09-24/
LOCATION:The Green Dragon Tavern\, 11 Marshall St.\, Boston\, MA\, 02108\, United States
GEO:42.361468;-71.056849
X-APPLE-STRUCTURED-LOCATION;VALUE=URI;X-ADDRESS=The Green Dragon Tavern 11 Marshall St. Boston MA 02108 United States;X-APPLE-RADIUS=500;X-TITLE=11 Marshall St.:geo:-71.056849,42.361468
END:VEVENT
BEGIN:VEVENT
DTSTART;TZID=America/New_York:20261001T210000
DTEND;TZID=America/New_York:20261001T233000
DTSTAMP:20260423T012914
CREATED:20240206T180455Z
LAST-MODIFIED:20240206T180455Z
UID:10003550-1790888400-1790897400@www.greendragonboston.com
SUMMARY:Spittin Vinnies
DESCRIPTION:
URL:https://www.greendragonboston.com/event/spittin-vinnies-2/2026-10-01/
LOCATION:The Green Dragon Tavern\, 11 Marshall St.\, Boston\, MA\, 02108\, United States
GEO:42.361468;-71.056849
X-APPLE-STRUCTURED-LOCATION;VALUE=URI;X-ADDRESS=The Green Dragon Tavern 11 Marshall St. Boston MA 02108 United States;X-APPLE-RADIUS=500;X-TITLE=11 Marshall St.:geo:-71.056849,42.361468
END:VEVENT
BEGIN:VEVENT
DTSTART;TZID=America/New_York:20261008T210000
DTEND;TZID=America/New_York:20261008T233000
DTSTAMP:20260423T012914
CREATED:20240206T180455Z
LAST-MODIFIED:20240206T180455Z
UID:10003551-1791493200-1791502200@www.greendragonboston.com
SUMMARY:Spittin Vinnies
DESCRIPTION:
URL:https://www.greendragonboston.com/event/spittin-vinnies-2/2026-10-08/
LOCATION:The Green Dragon Tavern\, 11 Marshall St.\, Boston\, MA\, 02108\, United States
GEO:42.361468;-71.056849
X-APPLE-STRUCTURED-LOCATION;VALUE=URI;X-ADDRESS=The Green Dragon Tavern 11 Marshall St. Boston MA 02108 United States;X-APPLE-RADIUS=500;X-TITLE=11 Marshall St.:geo:-71.056849,42.361468
END:VEVENT
BEGIN:VEVENT
DTSTART;TZID=America/New_York:20261015T210000
DTEND;TZID=America/New_York:20261015T233000
DTSTAMP:20260423T012914
CREATED:20240206T180455Z
LAST-MODIFIED:20240206T180455Z
UID:10003552-1792098000-1792107000@www.greendragonboston.com
SUMMARY:Spittin Vinnies
DESCRIPTION:
URL:https://www.greendragonboston.com/event/spittin-vinnies-2/2026-10-15/
LOCATION:The Green Dragon Tavern\, 11 Marshall St.\, Boston\, MA\, 02108\, United States
GEO:42.361468;-71.056849
X-APPLE-STRUCTURED-LOCATION;VALUE=URI;X-ADDRESS=The Green Dragon Tavern 11 Marshall St. Boston MA 02108 United States;X-APPLE-RADIUS=500;X-TITLE=11 Marshall St.:geo:-71.056849,42.361468
END:VEVENT
BEGIN:VEVENT
DTSTART;TZID=America/New_York:20261022T210000
DTEND;TZID=America/New_York:20261022T233000
DTSTAMP:20260423T012914
CREATED:20240206T180455Z
LAST-MODIFIED:20240206T180455Z
UID:10003553-1792702800-1792711800@www.greendragonboston.com
SUMMARY:Spittin Vinnies
DESCRIPTION:
URL:https://www.greendragonboston.com/event/spittin-vinnies-2/2026-10-22/
LOCATION:The Green Dragon Tavern\, 11 Marshall St.\, Boston\, MA\, 02108\, United States
GEO:42.361468;-71.056849
X-APPLE-STRUCTURED-LOCATION;VALUE=URI;X-ADDRESS=The Green Dragon Tavern 11 Marshall St. Boston MA 02108 United States;X-APPLE-RADIUS=500;X-TITLE=11 Marshall St.:geo:-71.056849,42.361468
END:VEVENT
BEGIN:VEVENT
DTSTART;TZID=America/New_York:20261029T210000
DTEND;TZID=America/New_York:20261029T233000
DTSTAMP:20260423T012914
CREATED:20240206T180455Z
LAST-MODIFIED:20240206T180455Z
UID:10003554-1793307600-1793316600@www.greendragonboston.com
SUMMARY:Spittin Vinnies
DESCRIPTION:
URL:https://www.greendragonboston.com/event/spittin-vinnies-2/2026-10-29/
LOCATION:The Green Dragon Tavern\, 11 Marshall St.\, Boston\, MA\, 02108\, United States
GEO:42.361468;-71.056849
X-APPLE-STRUCTURED-LOCATION;VALUE=URI;X-ADDRESS=The Green Dragon Tavern 11 Marshall St. Boston MA 02108 United States;X-APPLE-RADIUS=500;X-TITLE=11 Marshall St.:geo:-71.056849,42.361468
END:VEVENT
BEGIN:VEVENT
DTSTART;TZID=America/New_York:20261105T210000
DTEND;TZID=America/New_York:20261105T233000
DTSTAMP:20260423T012914
CREATED:20240206T180455Z
LAST-MODIFIED:20240206T180455Z
UID:10003555-1793912400-1793921400@www.greendragonboston.com
SUMMARY:Spittin Vinnies
DESCRIPTION:
URL:https://www.greendragonboston.com/event/spittin-vinnies-2/2026-11-05/
LOCATION:The Green Dragon Tavern\, 11 Marshall St.\, Boston\, MA\, 02108\, United States
GEO:42.361468;-71.056849
X-APPLE-STRUCTURED-LOCATION;VALUE=URI;X-ADDRESS=The Green Dragon Tavern 11 Marshall St. Boston MA 02108 United States;X-APPLE-RADIUS=500;X-TITLE=11 Marshall St.:geo:-71.056849,42.361468
END:VEVENT
BEGIN:VEVENT
DTSTART;TZID=America/New_York:20261112T210000
DTEND;TZID=America/New_York:20261112T233000
DTSTAMP:20260423T012914
CREATED:20240206T180455Z
LAST-MODIFIED:20240206T180455Z
UID:10003556-1794517200-1794526200@www.greendragonboston.com
SUMMARY:Spittin Vinnies
DESCRIPTION:
URL:https://www.greendragonboston.com/event/spittin-vinnies-2/2026-11-12/
LOCATION:The Green Dragon Tavern\, 11 Marshall St.\, Boston\, MA\, 02108\, United States
GEO:42.361468;-71.056849
X-APPLE-STRUCTURED-LOCATION;VALUE=URI;X-ADDRESS=The Green Dragon Tavern 11 Marshall St. Boston MA 02108 United States;X-APPLE-RADIUS=500;X-TITLE=11 Marshall St.:geo:-71.056849,42.361468
END:VEVENT
END:VCALENDAR