BEGIN:VCALENDAR
VERSION:2.0
PRODID:-//The Green Dragon Tavern - ECPv6.15.13.1//NONSGML v1.0//EN
CALSCALE:GREGORIAN
METHOD:PUBLISH
X-WR-CALNAME:The Green Dragon Tavern
X-ORIGINAL-URL:https://www.greendragonboston.com
X-WR-CALDESC:Events for The Green Dragon Tavern
REFRESH-INTERVAL;VALUE=DURATION:PT1H
X-Robots-Tag:noindex
X-PUBLISHED-TTL:PT1H
BEGIN:VTIMEZONE
TZID:America/New_York
BEGIN:DAYLIGHT
TZOFFSETFROM:-0500
TZOFFSETTO:-0400
TZNAME:EDT
DTSTART:20230312T070000
END:DAYLIGHT
BEGIN:STANDARD
TZOFFSETFROM:-0400
TZOFFSETTO:-0500
TZNAME:EST
DTSTART:20231105T060000
END:STANDARD
BEGIN:DAYLIGHT
TZOFFSETFROM:-0500
TZOFFSETTO:-0400
TZNAME:EDT
DTSTART:20240310T070000
END:DAYLIGHT
BEGIN:STANDARD
TZOFFSETFROM:-0400
TZOFFSETTO:-0500
TZNAME:EST
DTSTART:20241103T060000
END:STANDARD
BEGIN:DAYLIGHT
TZOFFSETFROM:-0500
TZOFFSETTO:-0400
TZNAME:EDT
DTSTART:20250309T070000
END:DAYLIGHT
BEGIN:STANDARD
TZOFFSETFROM:-0400
TZOFFSETTO:-0500
TZNAME:EST
DTSTART:20251102T060000
END:STANDARD
END:VTIMEZONE
BEGIN:VEVENT
DTSTART;TZID=America/New_York:20241123T213000
DTEND;TZID=America/New_York:20241124T013000
DTSTAMP:20260425T234751
CREATED:20241119T203347Z
LAST-MODIFIED:20241119T203347Z
UID:10003737-1732397400-1732411800@www.greendragonboston.com
SUMMARY:Trash Party
DESCRIPTION:
URL:https://www.greendragonboston.com/event/trash-party/
LOCATION:The Green Dragon Tavern\, 11 Marshall St.\, Boston\, MA\, 02108\, United States
GEO:42.361468;-71.056849
X-APPLE-STRUCTURED-LOCATION;VALUE=URI;X-ADDRESS=The Green Dragon Tavern 11 Marshall St. Boston MA 02108 United States;X-APPLE-RADIUS=500;X-TITLE=11 Marshall St.:geo:-71.056849,42.361468
END:VEVENT
BEGIN:VEVENT
DTSTART;TZID=America/New_York:20241122T213000
DTEND;TZID=America/New_York:20241123T013000
DTSTAMP:20260425T234751
CREATED:20241119T203247Z
LAST-MODIFIED:20241119T203247Z
UID:10003736-1732311000-1732325400@www.greendragonboston.com
SUMMARY:Dr SLICK
DESCRIPTION:
URL:https://www.greendragonboston.com/event/dr-slick/
LOCATION:The Green Dragon Tavern\, 11 Marshall St.\, Boston\, MA\, 02108\, United States
GEO:42.361468;-71.056849
X-APPLE-STRUCTURED-LOCATION;VALUE=URI;X-ADDRESS=The Green Dragon Tavern 11 Marshall St. Boston MA 02108 United States;X-APPLE-RADIUS=500;X-TITLE=11 Marshall St.:geo:-71.056849,42.361468
END:VEVENT
BEGIN:VEVENT
DTSTART;TZID=America/New_York:20241121T210000
DTEND;TZID=America/New_York:20241121T233000
DTSTAMP:20260425T234751
CREATED:20240206T180455Z
LAST-MODIFIED:20240206T180455Z
UID:10003453-1732222800-1732231800@www.greendragonboston.com
SUMMARY:Spittin Vinnies
DESCRIPTION:
URL:https://www.greendragonboston.com/event/spittin-vinnies-2/2024-11-21/
LOCATION:The Green Dragon Tavern\, 11 Marshall St.\, Boston\, MA\, 02108\, United States
GEO:42.361468;-71.056849
X-APPLE-STRUCTURED-LOCATION;VALUE=URI;X-ADDRESS=The Green Dragon Tavern 11 Marshall St. Boston MA 02108 United States;X-APPLE-RADIUS=500;X-TITLE=11 Marshall St.:geo:-71.056849,42.361468
END:VEVENT
BEGIN:VEVENT
DTSTART;TZID=America/New_York:20241120T213000
DTEND;TZID=America/New_York:20241120T233000
DTSTAMP:20260425T234751
CREATED:20241119T204840Z
LAST-MODIFIED:20251218T122350Z
UID:10003192-1732138200-1732145400@www.greendragonboston.com
SUMMARY:The Great Blue Wail
DESCRIPTION:
URL:https://www.greendragonboston.com/event/the-great-blue-wail-2/2024-11-20/
LOCATION:The Green Dragon Tavern\, 11 Marshall St.\, Boston\, MA\, 02108\, United States
GEO:42.361468;-71.056849
X-APPLE-STRUCTURED-LOCATION;VALUE=URI;X-ADDRESS=The Green Dragon Tavern 11 Marshall St. Boston MA 02108 United States;X-APPLE-RADIUS=500;X-TITLE=11 Marshall St.:geo:-71.056849,42.361468
END:VEVENT
BEGIN:VEVENT
DTSTART;TZID=America/New_York:20241117T213000
DTEND;TZID=America/New_York:20241118T013000
DTSTAMP:20260425T234751
CREATED:20240206T180217Z
LAST-MODIFIED:20240604T165353Z
UID:10002668-1731879000-1731893400@www.greendragonboston.com
SUMMARY:Bonus Cat
DESCRIPTION:
URL:https://www.greendragonboston.com/event/bonus-cat-2/2024-11-17/
LOCATION:The Green Dragon Tavern\, 11 Marshall St.\, Boston\, MA\, 02108\, United States
GEO:42.361468;-71.056849
X-APPLE-STRUCTURED-LOCATION;VALUE=URI;X-ADDRESS=The Green Dragon Tavern 11 Marshall St. Boston MA 02108 United States;X-APPLE-RADIUS=500;X-TITLE=11 Marshall St.:geo:-71.056849,42.361468
END:VEVENT
BEGIN:VEVENT
DTSTART;TZID=America/New_York:20241114T210000
DTEND;TZID=America/New_York:20241114T233000
DTSTAMP:20260425T234751
CREATED:20240206T180455Z
LAST-MODIFIED:20240206T180455Z
UID:10003452-1731618000-1731627000@www.greendragonboston.com
SUMMARY:Spittin Vinnies
DESCRIPTION:
URL:https://www.greendragonboston.com/event/spittin-vinnies-2/2024-11-14/
LOCATION:The Green Dragon Tavern\, 11 Marshall St.\, Boston\, MA\, 02108\, United States
GEO:42.361468;-71.056849
X-APPLE-STRUCTURED-LOCATION;VALUE=URI;X-ADDRESS=The Green Dragon Tavern 11 Marshall St. Boston MA 02108 United States;X-APPLE-RADIUS=500;X-TITLE=11 Marshall St.:geo:-71.056849,42.361468
END:VEVENT
BEGIN:VEVENT
DTSTART;TZID=America/New_York:20241113T213000
DTEND;TZID=America/New_York:20241113T233000
DTSTAMP:20260425T234751
CREATED:20240206T180400Z
LAST-MODIFIED:20240206T180400Z
UID:10003191-1731533400-1731540600@www.greendragonboston.com
SUMMARY:The Great Blue Wail
DESCRIPTION:
URL:https://www.greendragonboston.com/event/the-great-blue-wail/2024-11-13/
LOCATION:The Green Dragon Tavern\, 11 Marshall St.\, Boston\, MA\, 02108\, United States
GEO:42.361468;-71.056849
X-APPLE-STRUCTURED-LOCATION;VALUE=URI;X-ADDRESS=The Green Dragon Tavern 11 Marshall St. Boston MA 02108 United States;X-APPLE-RADIUS=500;X-TITLE=11 Marshall St.:geo:-71.056849,42.361468
END:VEVENT
BEGIN:VEVENT
DTSTART;TZID=America/New_York:20241110T213000
DTEND;TZID=America/New_York:20241111T013000
DTSTAMP:20260425T234751
CREATED:20240206T180217Z
LAST-MODIFIED:20240604T165353Z
UID:10002667-1731274200-1731288600@www.greendragonboston.com
SUMMARY:Bonus Cat
DESCRIPTION:
URL:https://www.greendragonboston.com/event/bonus-cat-2/2024-11-10/
LOCATION:The Green Dragon Tavern\, 11 Marshall St.\, Boston\, MA\, 02108\, United States
GEO:42.361468;-71.056849
X-APPLE-STRUCTURED-LOCATION;VALUE=URI;X-ADDRESS=The Green Dragon Tavern 11 Marshall St. Boston MA 02108 United States;X-APPLE-RADIUS=500;X-TITLE=11 Marshall St.:geo:-71.056849,42.361468
END:VEVENT
BEGIN:VEVENT
DTSTART;TZID=America/New_York:20241107T210000
DTEND;TZID=America/New_York:20241107T233000
DTSTAMP:20260425T234751
CREATED:20240206T180455Z
LAST-MODIFIED:20240206T180455Z
UID:10003451-1731013200-1731022200@www.greendragonboston.com
SUMMARY:Spittin Vinnies
DESCRIPTION:
URL:https://www.greendragonboston.com/event/spittin-vinnies-2/2024-11-07/
LOCATION:The Green Dragon Tavern\, 11 Marshall St.\, Boston\, MA\, 02108\, United States
GEO:42.361468;-71.056849
X-APPLE-STRUCTURED-LOCATION;VALUE=URI;X-ADDRESS=The Green Dragon Tavern 11 Marshall St. Boston MA 02108 United States;X-APPLE-RADIUS=500;X-TITLE=11 Marshall St.:geo:-71.056849,42.361468
END:VEVENT
BEGIN:VEVENT
DTSTART;TZID=America/New_York:20241106T213000
DTEND;TZID=America/New_York:20241106T233000
DTSTAMP:20260425T234751
CREATED:20240206T180400Z
LAST-MODIFIED:20240206T180400Z
UID:10003190-1730928600-1730935800@www.greendragonboston.com
SUMMARY:The Great Blue Wail
DESCRIPTION:
URL:https://www.greendragonboston.com/event/the-great-blue-wail/2024-11-06/
LOCATION:The Green Dragon Tavern\, 11 Marshall St.\, Boston\, MA\, 02108\, United States
GEO:42.361468;-71.056849
X-APPLE-STRUCTURED-LOCATION;VALUE=URI;X-ADDRESS=The Green Dragon Tavern 11 Marshall St. Boston MA 02108 United States;X-APPLE-RADIUS=500;X-TITLE=11 Marshall St.:geo:-71.056849,42.361468
END:VEVENT
BEGIN:VEVENT
DTSTART;TZID=America/New_York:20241103T213000
DTEND;TZID=America/New_York:20241104T013000
DTSTAMP:20260425T234751
CREATED:20240206T180217Z
LAST-MODIFIED:20240604T165353Z
UID:10002666-1730669400-1730683800@www.greendragonboston.com
SUMMARY:Bonus Cat
DESCRIPTION:
URL:https://www.greendragonboston.com/event/bonus-cat-2/2024-11-03/
LOCATION:The Green Dragon Tavern\, 11 Marshall St.\, Boston\, MA\, 02108\, United States
GEO:42.361468;-71.056849
X-APPLE-STRUCTURED-LOCATION;VALUE=URI;X-ADDRESS=The Green Dragon Tavern 11 Marshall St. Boston MA 02108 United States;X-APPLE-RADIUS=500;X-TITLE=11 Marshall St.:geo:-71.056849,42.361468
END:VEVENT
BEGIN:VEVENT
DTSTART;TZID=America/New_York:20241031T210000
DTEND;TZID=America/New_York:20241031T233000
DTSTAMP:20260425T234751
CREATED:20240206T180455Z
LAST-MODIFIED:20240206T180455Z
UID:10003450-1730408400-1730417400@www.greendragonboston.com
SUMMARY:Spittin Vinnies
DESCRIPTION:
URL:https://www.greendragonboston.com/event/spittin-vinnies-2/2024-10-31/
LOCATION:The Green Dragon Tavern\, 11 Marshall St.\, Boston\, MA\, 02108\, United States
GEO:42.361468;-71.056849
X-APPLE-STRUCTURED-LOCATION;VALUE=URI;X-ADDRESS=The Green Dragon Tavern 11 Marshall St. Boston MA 02108 United States;X-APPLE-RADIUS=500;X-TITLE=11 Marshall St.:geo:-71.056849,42.361468
END:VEVENT
BEGIN:VEVENT
DTSTART;TZID=America/New_York:20241030T213000
DTEND;TZID=America/New_York:20241030T233000
DTSTAMP:20260425T234751
CREATED:20240206T180400Z
LAST-MODIFIED:20240206T180400Z
UID:10003189-1730323800-1730331000@www.greendragonboston.com
SUMMARY:The Great Blue Wail
DESCRIPTION:
URL:https://www.greendragonboston.com/event/the-great-blue-wail/2024-10-30/
LOCATION:The Green Dragon Tavern\, 11 Marshall St.\, Boston\, MA\, 02108\, United States
GEO:42.361468;-71.056849
X-APPLE-STRUCTURED-LOCATION;VALUE=URI;X-ADDRESS=The Green Dragon Tavern 11 Marshall St. Boston MA 02108 United States;X-APPLE-RADIUS=500;X-TITLE=11 Marshall St.:geo:-71.056849,42.361468
END:VEVENT
BEGIN:VEVENT
DTSTART;TZID=America/New_York:20241027T213000
DTEND;TZID=America/New_York:20241028T013000
DTSTAMP:20260425T234751
CREATED:20240206T180217Z
LAST-MODIFIED:20240604T165353Z
UID:10002665-1730064600-1730079000@www.greendragonboston.com
SUMMARY:Bonus Cat
DESCRIPTION:
URL:https://www.greendragonboston.com/event/bonus-cat-2/2024-10-27/
LOCATION:The Green Dragon Tavern\, 11 Marshall St.\, Boston\, MA\, 02108\, United States
GEO:42.361468;-71.056849
X-APPLE-STRUCTURED-LOCATION;VALUE=URI;X-ADDRESS=The Green Dragon Tavern 11 Marshall St. Boston MA 02108 United States;X-APPLE-RADIUS=500;X-TITLE=11 Marshall St.:geo:-71.056849,42.361468
END:VEVENT
BEGIN:VEVENT
DTSTART;TZID=America/New_York:20241024T210000
DTEND;TZID=America/New_York:20241024T233000
DTSTAMP:20260425T234751
CREATED:20240206T180455Z
LAST-MODIFIED:20240206T180455Z
UID:10003449-1729803600-1729812600@www.greendragonboston.com
SUMMARY:Spittin Vinnies
DESCRIPTION:
URL:https://www.greendragonboston.com/event/spittin-vinnies-2/2024-10-24/
LOCATION:The Green Dragon Tavern\, 11 Marshall St.\, Boston\, MA\, 02108\, United States
GEO:42.361468;-71.056849
X-APPLE-STRUCTURED-LOCATION;VALUE=URI;X-ADDRESS=The Green Dragon Tavern 11 Marshall St. Boston MA 02108 United States;X-APPLE-RADIUS=500;X-TITLE=11 Marshall St.:geo:-71.056849,42.361468
END:VEVENT
BEGIN:VEVENT
DTSTART;TZID=America/New_York:20241023T213000
DTEND;TZID=America/New_York:20241023T233000
DTSTAMP:20260425T234751
CREATED:20240206T180400Z
LAST-MODIFIED:20240206T180400Z
UID:10003188-1729719000-1729726200@www.greendragonboston.com
SUMMARY:The Great Blue Wail
DESCRIPTION:
URL:https://www.greendragonboston.com/event/the-great-blue-wail/2024-10-23/
LOCATION:The Green Dragon Tavern\, 11 Marshall St.\, Boston\, MA\, 02108\, United States
GEO:42.361468;-71.056849
X-APPLE-STRUCTURED-LOCATION;VALUE=URI;X-ADDRESS=The Green Dragon Tavern 11 Marshall St. Boston MA 02108 United States;X-APPLE-RADIUS=500;X-TITLE=11 Marshall St.:geo:-71.056849,42.361468
END:VEVENT
BEGIN:VEVENT
DTSTART;TZID=America/New_York:20241020T213000
DTEND;TZID=America/New_York:20241021T013000
DTSTAMP:20260425T234751
CREATED:20240206T180217Z
LAST-MODIFIED:20240604T165353Z
UID:10002664-1729459800-1729474200@www.greendragonboston.com
SUMMARY:Bonus Cat
DESCRIPTION:
URL:https://www.greendragonboston.com/event/bonus-cat-2/2024-10-20/
LOCATION:The Green Dragon Tavern\, 11 Marshall St.\, Boston\, MA\, 02108\, United States
GEO:42.361468;-71.056849
X-APPLE-STRUCTURED-LOCATION;VALUE=URI;X-ADDRESS=The Green Dragon Tavern 11 Marshall St. Boston MA 02108 United States;X-APPLE-RADIUS=500;X-TITLE=11 Marshall St.:geo:-71.056849,42.361468
END:VEVENT
BEGIN:VEVENT
DTSTART;TZID=America/New_York:20241017T210000
DTEND;TZID=America/New_York:20241017T233000
DTSTAMP:20260425T234751
CREATED:20240206T180455Z
LAST-MODIFIED:20240206T180455Z
UID:10003448-1729198800-1729207800@www.greendragonboston.com
SUMMARY:Spittin Vinnies
DESCRIPTION:
URL:https://www.greendragonboston.com/event/spittin-vinnies-2/2024-10-17/
LOCATION:The Green Dragon Tavern\, 11 Marshall St.\, Boston\, MA\, 02108\, United States
GEO:42.361468;-71.056849
X-APPLE-STRUCTURED-LOCATION;VALUE=URI;X-ADDRESS=The Green Dragon Tavern 11 Marshall St. Boston MA 02108 United States;X-APPLE-RADIUS=500;X-TITLE=11 Marshall St.:geo:-71.056849,42.361468
END:VEVENT
BEGIN:VEVENT
DTSTART;TZID=America/New_York:20241016T213000
DTEND;TZID=America/New_York:20241016T233000
DTSTAMP:20260425T234751
CREATED:20240206T180400Z
LAST-MODIFIED:20240206T180400Z
UID:10003187-1729114200-1729121400@www.greendragonboston.com
SUMMARY:The Great Blue Wail
DESCRIPTION:
URL:https://www.greendragonboston.com/event/the-great-blue-wail/2024-10-16/
LOCATION:The Green Dragon Tavern\, 11 Marshall St.\, Boston\, MA\, 02108\, United States
GEO:42.361468;-71.056849
X-APPLE-STRUCTURED-LOCATION;VALUE=URI;X-ADDRESS=The Green Dragon Tavern 11 Marshall St. Boston MA 02108 United States;X-APPLE-RADIUS=500;X-TITLE=11 Marshall St.:geo:-71.056849,42.361468
END:VEVENT
BEGIN:VEVENT
DTSTART;TZID=America/New_York:20241013T213000
DTEND;TZID=America/New_York:20241014T013000
DTSTAMP:20260425T234751
CREATED:20240206T180217Z
LAST-MODIFIED:20240604T165353Z
UID:10002663-1728855000-1728869400@www.greendragonboston.com
SUMMARY:Bonus Cat
DESCRIPTION:
URL:https://www.greendragonboston.com/event/bonus-cat-2/2024-10-13/
LOCATION:The Green Dragon Tavern\, 11 Marshall St.\, Boston\, MA\, 02108\, United States
GEO:42.361468;-71.056849
X-APPLE-STRUCTURED-LOCATION;VALUE=URI;X-ADDRESS=The Green Dragon Tavern 11 Marshall St. Boston MA 02108 United States;X-APPLE-RADIUS=500;X-TITLE=11 Marshall St.:geo:-71.056849,42.361468
END:VEVENT
BEGIN:VEVENT
DTSTART;TZID=America/New_York:20241010T210000
DTEND;TZID=America/New_York:20241010T233000
DTSTAMP:20260425T234751
CREATED:20240206T180455Z
LAST-MODIFIED:20240206T180455Z
UID:10003447-1728594000-1728603000@www.greendragonboston.com
SUMMARY:Spittin Vinnies
DESCRIPTION:
URL:https://www.greendragonboston.com/event/spittin-vinnies-2/2024-10-10/
LOCATION:The Green Dragon Tavern\, 11 Marshall St.\, Boston\, MA\, 02108\, United States
GEO:42.361468;-71.056849
X-APPLE-STRUCTURED-LOCATION;VALUE=URI;X-ADDRESS=The Green Dragon Tavern 11 Marshall St. Boston MA 02108 United States;X-APPLE-RADIUS=500;X-TITLE=11 Marshall St.:geo:-71.056849,42.361468
END:VEVENT
BEGIN:VEVENT
DTSTART;TZID=America/New_York:20241009T213000
DTEND;TZID=America/New_York:20241009T233000
DTSTAMP:20260425T234751
CREATED:20240206T180400Z
LAST-MODIFIED:20240206T180400Z
UID:10003186-1728509400-1728516600@www.greendragonboston.com
SUMMARY:The Great Blue Wail
DESCRIPTION:
URL:https://www.greendragonboston.com/event/the-great-blue-wail/2024-10-09/
LOCATION:The Green Dragon Tavern\, 11 Marshall St.\, Boston\, MA\, 02108\, United States
GEO:42.361468;-71.056849
X-APPLE-STRUCTURED-LOCATION;VALUE=URI;X-ADDRESS=The Green Dragon Tavern 11 Marshall St. Boston MA 02108 United States;X-APPLE-RADIUS=500;X-TITLE=11 Marshall St.:geo:-71.056849,42.361468
END:VEVENT
BEGIN:VEVENT
DTSTART;TZID=America/New_York:20241006T213000
DTEND;TZID=America/New_York:20241007T013000
DTSTAMP:20260425T234751
CREATED:20240206T180217Z
LAST-MODIFIED:20240604T165353Z
UID:10002662-1728250200-1728264600@www.greendragonboston.com
SUMMARY:Bonus Cat
DESCRIPTION:
URL:https://www.greendragonboston.com/event/bonus-cat-2/2024-10-06/
LOCATION:The Green Dragon Tavern\, 11 Marshall St.\, Boston\, MA\, 02108\, United States
GEO:42.361468;-71.056849
X-APPLE-STRUCTURED-LOCATION;VALUE=URI;X-ADDRESS=The Green Dragon Tavern 11 Marshall St. Boston MA 02108 United States;X-APPLE-RADIUS=500;X-TITLE=11 Marshall St.:geo:-71.056849,42.361468
END:VEVENT
BEGIN:VEVENT
DTSTART;TZID=America/New_York:20241003T210000
DTEND;TZID=America/New_York:20241003T233000
DTSTAMP:20260425T234751
CREATED:20240206T180455Z
LAST-MODIFIED:20240206T180455Z
UID:10003446-1727989200-1727998200@www.greendragonboston.com
SUMMARY:Spittin Vinnies
DESCRIPTION:
URL:https://www.greendragonboston.com/event/spittin-vinnies-2/2024-10-03/
LOCATION:The Green Dragon Tavern\, 11 Marshall St.\, Boston\, MA\, 02108\, United States
GEO:42.361468;-71.056849
X-APPLE-STRUCTURED-LOCATION;VALUE=URI;X-ADDRESS=The Green Dragon Tavern 11 Marshall St. Boston MA 02108 United States;X-APPLE-RADIUS=500;X-TITLE=11 Marshall St.:geo:-71.056849,42.361468
END:VEVENT
BEGIN:VEVENT
DTSTART;TZID=America/New_York:20241002T213000
DTEND;TZID=America/New_York:20241002T233000
DTSTAMP:20260425T234751
CREATED:20240206T180400Z
LAST-MODIFIED:20240206T180400Z
UID:10003185-1727904600-1727911800@www.greendragonboston.com
SUMMARY:The Great Blue Wail
DESCRIPTION:
URL:https://www.greendragonboston.com/event/the-great-blue-wail/2024-10-02/
LOCATION:The Green Dragon Tavern\, 11 Marshall St.\, Boston\, MA\, 02108\, United States
GEO:42.361468;-71.056849
X-APPLE-STRUCTURED-LOCATION;VALUE=URI;X-ADDRESS=The Green Dragon Tavern 11 Marshall St. Boston MA 02108 United States;X-APPLE-RADIUS=500;X-TITLE=11 Marshall St.:geo:-71.056849,42.361468
END:VEVENT
BEGIN:VEVENT
DTSTART;TZID=America/New_York:20240929T213000
DTEND;TZID=America/New_York:20240930T013000
DTSTAMP:20260425T234751
CREATED:20240206T180217Z
LAST-MODIFIED:20240604T165353Z
UID:10002661-1727645400-1727659800@www.greendragonboston.com
SUMMARY:Bonus Cat
DESCRIPTION:
URL:https://www.greendragonboston.com/event/bonus-cat-2/2024-09-29/
LOCATION:The Green Dragon Tavern\, 11 Marshall St.\, Boston\, MA\, 02108\, United States
GEO:42.361468;-71.056849
X-APPLE-STRUCTURED-LOCATION;VALUE=URI;X-ADDRESS=The Green Dragon Tavern 11 Marshall St. Boston MA 02108 United States;X-APPLE-RADIUS=500;X-TITLE=11 Marshall St.:geo:-71.056849,42.361468
END:VEVENT
BEGIN:VEVENT
DTSTART;TZID=America/New_York:20240926T210000
DTEND;TZID=America/New_York:20240926T233000
DTSTAMP:20260425T234751
CREATED:20240206T180455Z
LAST-MODIFIED:20240206T180455Z
UID:10003445-1727384400-1727393400@www.greendragonboston.com
SUMMARY:Spittin Vinnies
DESCRIPTION:
URL:https://www.greendragonboston.com/event/spittin-vinnies-2/2024-09-26/
LOCATION:The Green Dragon Tavern\, 11 Marshall St.\, Boston\, MA\, 02108\, United States
GEO:42.361468;-71.056849
X-APPLE-STRUCTURED-LOCATION;VALUE=URI;X-ADDRESS=The Green Dragon Tavern 11 Marshall St. Boston MA 02108 United States;X-APPLE-RADIUS=500;X-TITLE=11 Marshall St.:geo:-71.056849,42.361468
END:VEVENT
BEGIN:VEVENT
DTSTART;TZID=America/New_York:20240925T213000
DTEND;TZID=America/New_York:20240925T233000
DTSTAMP:20260425T234751
CREATED:20240206T180400Z
LAST-MODIFIED:20240206T180400Z
UID:10003184-1727299800-1727307000@www.greendragonboston.com
SUMMARY:The Great Blue Wail
DESCRIPTION:
URL:https://www.greendragonboston.com/event/the-great-blue-wail/2024-09-25/
LOCATION:The Green Dragon Tavern\, 11 Marshall St.\, Boston\, MA\, 02108\, United States
GEO:42.361468;-71.056849
X-APPLE-STRUCTURED-LOCATION;VALUE=URI;X-ADDRESS=The Green Dragon Tavern 11 Marshall St. Boston MA 02108 United States;X-APPLE-RADIUS=500;X-TITLE=11 Marshall St.:geo:-71.056849,42.361468
END:VEVENT
BEGIN:VEVENT
DTSTART;TZID=America/New_York:20240922T213000
DTEND;TZID=America/New_York:20240923T013000
DTSTAMP:20260425T234751
CREATED:20240206T180217Z
LAST-MODIFIED:20240604T165353Z
UID:10002660-1727040600-1727055000@www.greendragonboston.com
SUMMARY:Bonus Cat
DESCRIPTION:
URL:https://www.greendragonboston.com/event/bonus-cat-2/2024-09-22/
LOCATION:The Green Dragon Tavern\, 11 Marshall St.\, Boston\, MA\, 02108\, United States
GEO:42.361468;-71.056849
X-APPLE-STRUCTURED-LOCATION;VALUE=URI;X-ADDRESS=The Green Dragon Tavern 11 Marshall St. Boston MA 02108 United States;X-APPLE-RADIUS=500;X-TITLE=11 Marshall St.:geo:-71.056849,42.361468
END:VEVENT
BEGIN:VEVENT
DTSTART;TZID=America/New_York:20240919T210000
DTEND;TZID=America/New_York:20240919T233000
DTSTAMP:20260425T234751
CREATED:20240206T180455Z
LAST-MODIFIED:20240206T180455Z
UID:10003444-1726779600-1726788600@www.greendragonboston.com
SUMMARY:Spittin Vinnies
DESCRIPTION:
URL:https://www.greendragonboston.com/event/spittin-vinnies-2/2024-09-19/
LOCATION:The Green Dragon Tavern\, 11 Marshall St.\, Boston\, MA\, 02108\, United States
GEO:42.361468;-71.056849
X-APPLE-STRUCTURED-LOCATION;VALUE=URI;X-ADDRESS=The Green Dragon Tavern 11 Marshall St. Boston MA 02108 United States;X-APPLE-RADIUS=500;X-TITLE=11 Marshall St.:geo:-71.056849,42.361468
END:VEVENT
END:VCALENDAR