BEGIN:VCALENDAR
VERSION:2.0
PRODID:-//The Green Dragon Tavern - ECPv6.15.13.1//NONSGML v1.0//EN
CALSCALE:GREGORIAN
METHOD:PUBLISH
X-ORIGINAL-URL:https://www.greendragonboston.com
X-WR-CALDESC:Events for The Green Dragon Tavern
REFRESH-INTERVAL;VALUE=DURATION:PT1H
X-Robots-Tag:noindex
X-PUBLISHED-TTL:PT1H
BEGIN:VTIMEZONE
TZID:America/New_York
BEGIN:DAYLIGHT
TZOFFSETFROM:-0500
TZOFFSETTO:-0400
TZNAME:EDT
DTSTART:20260308T070000
END:DAYLIGHT
BEGIN:STANDARD
TZOFFSETFROM:-0400
TZOFFSETTO:-0500
TZNAME:EST
DTSTART:20261101T060000
END:STANDARD
BEGIN:DAYLIGHT
TZOFFSETFROM:-0500
TZOFFSETTO:-0400
TZNAME:EDT
DTSTART:20270314T070000
END:DAYLIGHT
BEGIN:STANDARD
TZOFFSETFROM:-0400
TZOFFSETTO:-0500
TZNAME:EST
DTSTART:20271107T060000
END:STANDARD
BEGIN:DAYLIGHT
TZOFFSETFROM:-0500
TZOFFSETTO:-0400
TZNAME:EDT
DTSTART:20280312T070000
END:DAYLIGHT
BEGIN:STANDARD
TZOFFSETFROM:-0400
TZOFFSETTO:-0500
TZNAME:EST
DTSTART:20281105T060000
END:STANDARD
END:VTIMEZONE
BEGIN:VEVENT
DTSTART;TZID=America/New_York:20270905T213000
DTEND;TZID=America/New_York:20270906T013000
DTSTAMP:20260425T123027
CREATED:20240206T180217Z
LAST-MODIFIED:20240604T165353Z
UID:10002814-1820179800-1820194200@www.greendragonboston.com
SUMMARY:Bonus Cat
DESCRIPTION:
URL:https://www.greendragonboston.com/event/bonus-cat-2/2027-09-05/
LOCATION:The Green Dragon Tavern\, 11 Marshall St.\, Boston\, MA\, 02108\, United States
GEO:42.361468;-71.056849
X-APPLE-STRUCTURED-LOCATION;VALUE=URI;X-ADDRESS=The Green Dragon Tavern 11 Marshall St. Boston MA 02108 United States;X-APPLE-RADIUS=500;X-TITLE=11 Marshall St.:geo:-71.056849,42.361468
END:VEVENT
BEGIN:VEVENT
DTSTART;TZID=America/New_York:20270906T210000
DTEND;TZID=America/New_York:20270906T233000
DTSTAMP:20260425T123027
CREATED:20260309T202053Z
LAST-MODIFIED:20260309T202053Z
UID:10004082-1820264400-1820273400@www.greendragonboston.com
SUMMARY:Open Comedy Night
DESCRIPTION:
URL:https://www.greendragonboston.com/event/open-comedy-night/2027-09-06/
LOCATION:The Green Dragon Tavern\, 11 Marshall St.\, Boston\, MA\, 02108\, United States
GEO:42.361468;-71.056849
X-APPLE-STRUCTURED-LOCATION;VALUE=URI;X-ADDRESS=The Green Dragon Tavern 11 Marshall St. Boston MA 02108 United States;X-APPLE-RADIUS=500;X-TITLE=11 Marshall St.:geo:-71.056849,42.361468
END:VEVENT
BEGIN:VEVENT
DTSTART;TZID=America/New_York:20270908T213000
DTEND;TZID=America/New_York:20270908T233000
DTSTAMP:20260425T123027
CREATED:20241119T204840Z
LAST-MODIFIED:20251218T122350Z
UID:10003338-1820439000-1820446200@www.greendragonboston.com
SUMMARY:The Great Blue Wail
DESCRIPTION:
URL:https://www.greendragonboston.com/event/the-great-blue-wail-2/2027-09-08/
LOCATION:The Green Dragon Tavern\, 11 Marshall St.\, Boston\, MA\, 02108\, United States
GEO:42.361468;-71.056849
X-APPLE-STRUCTURED-LOCATION;VALUE=URI;X-ADDRESS=The Green Dragon Tavern 11 Marshall St. Boston MA 02108 United States;X-APPLE-RADIUS=500;X-TITLE=11 Marshall St.:geo:-71.056849,42.361468
END:VEVENT
BEGIN:VEVENT
DTSTART;TZID=America/New_York:20270909T210000
DTEND;TZID=America/New_York:20270909T233000
DTSTAMP:20260425T123027
CREATED:20240206T180455Z
LAST-MODIFIED:20240206T180455Z
UID:10003599-1820523600-1820532600@www.greendragonboston.com
SUMMARY:Spittin Vinnies
DESCRIPTION:
URL:https://www.greendragonboston.com/event/spittin-vinnies-2/2027-09-09/
LOCATION:The Green Dragon Tavern\, 11 Marshall St.\, Boston\, MA\, 02108\, United States
GEO:42.361468;-71.056849
X-APPLE-STRUCTURED-LOCATION;VALUE=URI;X-ADDRESS=The Green Dragon Tavern 11 Marshall St. Boston MA 02108 United States;X-APPLE-RADIUS=500;X-TITLE=11 Marshall St.:geo:-71.056849,42.361468
END:VEVENT
BEGIN:VEVENT
DTSTART;TZID=America/New_York:20270912T213000
DTEND;TZID=America/New_York:20270913T013000
DTSTAMP:20260425T123027
CREATED:20240206T180217Z
LAST-MODIFIED:20240604T165353Z
UID:10002815-1820784600-1820799000@www.greendragonboston.com
SUMMARY:Bonus Cat
DESCRIPTION:
URL:https://www.greendragonboston.com/event/bonus-cat-2/2027-09-12/
LOCATION:The Green Dragon Tavern\, 11 Marshall St.\, Boston\, MA\, 02108\, United States
GEO:42.361468;-71.056849
X-APPLE-STRUCTURED-LOCATION;VALUE=URI;X-ADDRESS=The Green Dragon Tavern 11 Marshall St. Boston MA 02108 United States;X-APPLE-RADIUS=500;X-TITLE=11 Marshall St.:geo:-71.056849,42.361468
END:VEVENT
BEGIN:VEVENT
DTSTART;TZID=America/New_York:20270913T210000
DTEND;TZID=America/New_York:20270913T233000
DTSTAMP:20260425T123027
CREATED:20260309T202053Z
LAST-MODIFIED:20260309T202053Z
UID:10004083-1820869200-1820878200@www.greendragonboston.com
SUMMARY:Open Comedy Night
DESCRIPTION:
URL:https://www.greendragonboston.com/event/open-comedy-night/2027-09-13/
LOCATION:The Green Dragon Tavern\, 11 Marshall St.\, Boston\, MA\, 02108\, United States
GEO:42.361468;-71.056849
X-APPLE-STRUCTURED-LOCATION;VALUE=URI;X-ADDRESS=The Green Dragon Tavern 11 Marshall St. Boston MA 02108 United States;X-APPLE-RADIUS=500;X-TITLE=11 Marshall St.:geo:-71.056849,42.361468
END:VEVENT
BEGIN:VEVENT
DTSTART;TZID=America/New_York:20270915T213000
DTEND;TZID=America/New_York:20270915T233000
DTSTAMP:20260425T123027
CREATED:20241119T204840Z
LAST-MODIFIED:20251218T122350Z
UID:10003339-1821043800-1821051000@www.greendragonboston.com
SUMMARY:The Great Blue Wail
DESCRIPTION:
URL:https://www.greendragonboston.com/event/the-great-blue-wail-2/2027-09-15/
LOCATION:The Green Dragon Tavern\, 11 Marshall St.\, Boston\, MA\, 02108\, United States
GEO:42.361468;-71.056849
X-APPLE-STRUCTURED-LOCATION;VALUE=URI;X-ADDRESS=The Green Dragon Tavern 11 Marshall St. Boston MA 02108 United States;X-APPLE-RADIUS=500;X-TITLE=11 Marshall St.:geo:-71.056849,42.361468
END:VEVENT
BEGIN:VEVENT
DTSTART;TZID=America/New_York:20270916T210000
DTEND;TZID=America/New_York:20270916T233000
DTSTAMP:20260425T123027
CREATED:20240206T180455Z
LAST-MODIFIED:20240206T180455Z
UID:10003600-1821128400-1821137400@www.greendragonboston.com
SUMMARY:Spittin Vinnies
DESCRIPTION:
URL:https://www.greendragonboston.com/event/spittin-vinnies-2/2027-09-16/
LOCATION:The Green Dragon Tavern\, 11 Marshall St.\, Boston\, MA\, 02108\, United States
GEO:42.361468;-71.056849
X-APPLE-STRUCTURED-LOCATION;VALUE=URI;X-ADDRESS=The Green Dragon Tavern 11 Marshall St. Boston MA 02108 United States;X-APPLE-RADIUS=500;X-TITLE=11 Marshall St.:geo:-71.056849,42.361468
END:VEVENT
BEGIN:VEVENT
DTSTART;TZID=America/New_York:20270919T213000
DTEND;TZID=America/New_York:20270920T013000
DTSTAMP:20260425T123027
CREATED:20240206T180217Z
LAST-MODIFIED:20240604T165353Z
UID:10002816-1821389400-1821403800@www.greendragonboston.com
SUMMARY:Bonus Cat
DESCRIPTION:
URL:https://www.greendragonboston.com/event/bonus-cat-2/2027-09-19/
LOCATION:The Green Dragon Tavern\, 11 Marshall St.\, Boston\, MA\, 02108\, United States
GEO:42.361468;-71.056849
X-APPLE-STRUCTURED-LOCATION;VALUE=URI;X-ADDRESS=The Green Dragon Tavern 11 Marshall St. Boston MA 02108 United States;X-APPLE-RADIUS=500;X-TITLE=11 Marshall St.:geo:-71.056849,42.361468
END:VEVENT
BEGIN:VEVENT
DTSTART;TZID=America/New_York:20270920T210000
DTEND;TZID=America/New_York:20270920T233000
DTSTAMP:20260425T123027
CREATED:20260309T202053Z
LAST-MODIFIED:20260309T202053Z
UID:10004084-1821474000-1821483000@www.greendragonboston.com
SUMMARY:Open Comedy Night
DESCRIPTION:
URL:https://www.greendragonboston.com/event/open-comedy-night/2027-09-20/
LOCATION:The Green Dragon Tavern\, 11 Marshall St.\, Boston\, MA\, 02108\, United States
GEO:42.361468;-71.056849
X-APPLE-STRUCTURED-LOCATION;VALUE=URI;X-ADDRESS=The Green Dragon Tavern 11 Marshall St. Boston MA 02108 United States;X-APPLE-RADIUS=500;X-TITLE=11 Marshall St.:geo:-71.056849,42.361468
END:VEVENT
BEGIN:VEVENT
DTSTART;TZID=America/New_York:20270922T213000
DTEND;TZID=America/New_York:20270922T233000
DTSTAMP:20260425T123027
CREATED:20241119T204840Z
LAST-MODIFIED:20251218T122350Z
UID:10003340-1821648600-1821655800@www.greendragonboston.com
SUMMARY:The Great Blue Wail
DESCRIPTION:
URL:https://www.greendragonboston.com/event/the-great-blue-wail-2/2027-09-22/
LOCATION:The Green Dragon Tavern\, 11 Marshall St.\, Boston\, MA\, 02108\, United States
GEO:42.361468;-71.056849
X-APPLE-STRUCTURED-LOCATION;VALUE=URI;X-ADDRESS=The Green Dragon Tavern 11 Marshall St. Boston MA 02108 United States;X-APPLE-RADIUS=500;X-TITLE=11 Marshall St.:geo:-71.056849,42.361468
END:VEVENT
BEGIN:VEVENT
DTSTART;TZID=America/New_York:20270923T210000
DTEND;TZID=America/New_York:20270923T233000
DTSTAMP:20260425T123027
CREATED:20240206T180455Z
LAST-MODIFIED:20240206T180455Z
UID:10003601-1821733200-1821742200@www.greendragonboston.com
SUMMARY:Spittin Vinnies
DESCRIPTION:
URL:https://www.greendragonboston.com/event/spittin-vinnies-2/2027-09-23/
LOCATION:The Green Dragon Tavern\, 11 Marshall St.\, Boston\, MA\, 02108\, United States
GEO:42.361468;-71.056849
X-APPLE-STRUCTURED-LOCATION;VALUE=URI;X-ADDRESS=The Green Dragon Tavern 11 Marshall St. Boston MA 02108 United States;X-APPLE-RADIUS=500;X-TITLE=11 Marshall St.:geo:-71.056849,42.361468
END:VEVENT
BEGIN:VEVENT
DTSTART;TZID=America/New_York:20270926T213000
DTEND;TZID=America/New_York:20270927T013000
DTSTAMP:20260425T123027
CREATED:20240206T180217Z
LAST-MODIFIED:20240604T165353Z
UID:10002817-1821994200-1822008600@www.greendragonboston.com
SUMMARY:Bonus Cat
DESCRIPTION:
URL:https://www.greendragonboston.com/event/bonus-cat-2/2027-09-26/
LOCATION:The Green Dragon Tavern\, 11 Marshall St.\, Boston\, MA\, 02108\, United States
GEO:42.361468;-71.056849
X-APPLE-STRUCTURED-LOCATION;VALUE=URI;X-ADDRESS=The Green Dragon Tavern 11 Marshall St. Boston MA 02108 United States;X-APPLE-RADIUS=500;X-TITLE=11 Marshall St.:geo:-71.056849,42.361468
END:VEVENT
BEGIN:VEVENT
DTSTART;TZID=America/New_York:20270927T210000
DTEND;TZID=America/New_York:20270927T233000
DTSTAMP:20260425T123027
CREATED:20260309T202053Z
LAST-MODIFIED:20260309T202053Z
UID:10004085-1822078800-1822087800@www.greendragonboston.com
SUMMARY:Open Comedy Night
DESCRIPTION:
URL:https://www.greendragonboston.com/event/open-comedy-night/2027-09-27/
LOCATION:The Green Dragon Tavern\, 11 Marshall St.\, Boston\, MA\, 02108\, United States
GEO:42.361468;-71.056849
X-APPLE-STRUCTURED-LOCATION;VALUE=URI;X-ADDRESS=The Green Dragon Tavern 11 Marshall St. Boston MA 02108 United States;X-APPLE-RADIUS=500;X-TITLE=11 Marshall St.:geo:-71.056849,42.361468
END:VEVENT
BEGIN:VEVENT
DTSTART;TZID=America/New_York:20270929T213000
DTEND;TZID=America/New_York:20270929T233000
DTSTAMP:20260425T123027
CREATED:20241119T204840Z
LAST-MODIFIED:20251218T122350Z
UID:10003341-1822253400-1822260600@www.greendragonboston.com
SUMMARY:The Great Blue Wail
DESCRIPTION:
URL:https://www.greendragonboston.com/event/the-great-blue-wail-2/2027-09-29/
LOCATION:The Green Dragon Tavern\, 11 Marshall St.\, Boston\, MA\, 02108\, United States
GEO:42.361468;-71.056849
X-APPLE-STRUCTURED-LOCATION;VALUE=URI;X-ADDRESS=The Green Dragon Tavern 11 Marshall St. Boston MA 02108 United States;X-APPLE-RADIUS=500;X-TITLE=11 Marshall St.:geo:-71.056849,42.361468
END:VEVENT
BEGIN:VEVENT
DTSTART;TZID=America/New_York:20270930T210000
DTEND;TZID=America/New_York:20270930T233000
DTSTAMP:20260425T123027
CREATED:20240206T180455Z
LAST-MODIFIED:20240206T180455Z
UID:10003602-1822338000-1822347000@www.greendragonboston.com
SUMMARY:Spittin Vinnies
DESCRIPTION:
URL:https://www.greendragonboston.com/event/spittin-vinnies-2/2027-09-30/
LOCATION:The Green Dragon Tavern\, 11 Marshall St.\, Boston\, MA\, 02108\, United States
GEO:42.361468;-71.056849
X-APPLE-STRUCTURED-LOCATION;VALUE=URI;X-ADDRESS=The Green Dragon Tavern 11 Marshall St. Boston MA 02108 United States;X-APPLE-RADIUS=500;X-TITLE=11 Marshall St.:geo:-71.056849,42.361468
END:VEVENT
BEGIN:VEVENT
DTSTART;TZID=America/New_York:20271003T213000
DTEND;TZID=America/New_York:20271004T013000
DTSTAMP:20260425T123027
CREATED:20240206T180217Z
LAST-MODIFIED:20240604T165353Z
UID:10002818-1822599000-1822613400@www.greendragonboston.com
SUMMARY:Bonus Cat
DESCRIPTION:
URL:https://www.greendragonboston.com/event/bonus-cat-2/2027-10-03/
LOCATION:The Green Dragon Tavern\, 11 Marshall St.\, Boston\, MA\, 02108\, United States
GEO:42.361468;-71.056849
X-APPLE-STRUCTURED-LOCATION;VALUE=URI;X-ADDRESS=The Green Dragon Tavern 11 Marshall St. Boston MA 02108 United States;X-APPLE-RADIUS=500;X-TITLE=11 Marshall St.:geo:-71.056849,42.361468
END:VEVENT
BEGIN:VEVENT
DTSTART;TZID=America/New_York:20271004T210000
DTEND;TZID=America/New_York:20271004T233000
DTSTAMP:20260425T123027
CREATED:20260309T202053Z
LAST-MODIFIED:20260309T202053Z
UID:10004086-1822683600-1822692600@www.greendragonboston.com
SUMMARY:Open Comedy Night
DESCRIPTION:
URL:https://www.greendragonboston.com/event/open-comedy-night/2027-10-04/
LOCATION:The Green Dragon Tavern\, 11 Marshall St.\, Boston\, MA\, 02108\, United States
GEO:42.361468;-71.056849
X-APPLE-STRUCTURED-LOCATION;VALUE=URI;X-ADDRESS=The Green Dragon Tavern 11 Marshall St. Boston MA 02108 United States;X-APPLE-RADIUS=500;X-TITLE=11 Marshall St.:geo:-71.056849,42.361468
END:VEVENT
BEGIN:VEVENT
DTSTART;TZID=America/New_York:20271006T213000
DTEND;TZID=America/New_York:20271006T233000
DTSTAMP:20260425T123027
CREATED:20241119T204840Z
LAST-MODIFIED:20251218T122350Z
UID:10003342-1822858200-1822865400@www.greendragonboston.com
SUMMARY:The Great Blue Wail
DESCRIPTION:
URL:https://www.greendragonboston.com/event/the-great-blue-wail-2/2027-10-06/
LOCATION:The Green Dragon Tavern\, 11 Marshall St.\, Boston\, MA\, 02108\, United States
GEO:42.361468;-71.056849
X-APPLE-STRUCTURED-LOCATION;VALUE=URI;X-ADDRESS=The Green Dragon Tavern 11 Marshall St. Boston MA 02108 United States;X-APPLE-RADIUS=500;X-TITLE=11 Marshall St.:geo:-71.056849,42.361468
END:VEVENT
BEGIN:VEVENT
DTSTART;TZID=America/New_York:20271007T210000
DTEND;TZID=America/New_York:20271007T233000
DTSTAMP:20260425T123027
CREATED:20240206T180455Z
LAST-MODIFIED:20240206T180455Z
UID:10003603-1822942800-1822951800@www.greendragonboston.com
SUMMARY:Spittin Vinnies
DESCRIPTION:
URL:https://www.greendragonboston.com/event/spittin-vinnies-2/2027-10-07/
LOCATION:The Green Dragon Tavern\, 11 Marshall St.\, Boston\, MA\, 02108\, United States
GEO:42.361468;-71.056849
X-APPLE-STRUCTURED-LOCATION;VALUE=URI;X-ADDRESS=The Green Dragon Tavern 11 Marshall St. Boston MA 02108 United States;X-APPLE-RADIUS=500;X-TITLE=11 Marshall St.:geo:-71.056849,42.361468
END:VEVENT
BEGIN:VEVENT
DTSTART;TZID=America/New_York:20271010T213000
DTEND;TZID=America/New_York:20271011T013000
DTSTAMP:20260425T123027
CREATED:20240206T180217Z
LAST-MODIFIED:20240604T165353Z
UID:10002819-1823203800-1823218200@www.greendragonboston.com
SUMMARY:Bonus Cat
DESCRIPTION:
URL:https://www.greendragonboston.com/event/bonus-cat-2/2027-10-10/
LOCATION:The Green Dragon Tavern\, 11 Marshall St.\, Boston\, MA\, 02108\, United States
GEO:42.361468;-71.056849
X-APPLE-STRUCTURED-LOCATION;VALUE=URI;X-ADDRESS=The Green Dragon Tavern 11 Marshall St. Boston MA 02108 United States;X-APPLE-RADIUS=500;X-TITLE=11 Marshall St.:geo:-71.056849,42.361468
END:VEVENT
BEGIN:VEVENT
DTSTART;TZID=America/New_York:20271011T210000
DTEND;TZID=America/New_York:20271011T233000
DTSTAMP:20260425T123027
CREATED:20260309T202053Z
LAST-MODIFIED:20260309T202053Z
UID:10004087-1823288400-1823297400@www.greendragonboston.com
SUMMARY:Open Comedy Night
DESCRIPTION:
URL:https://www.greendragonboston.com/event/open-comedy-night/2027-10-11/
LOCATION:The Green Dragon Tavern\, 11 Marshall St.\, Boston\, MA\, 02108\, United States
GEO:42.361468;-71.056849
X-APPLE-STRUCTURED-LOCATION;VALUE=URI;X-ADDRESS=The Green Dragon Tavern 11 Marshall St. Boston MA 02108 United States;X-APPLE-RADIUS=500;X-TITLE=11 Marshall St.:geo:-71.056849,42.361468
END:VEVENT
BEGIN:VEVENT
DTSTART;TZID=America/New_York:20271013T213000
DTEND;TZID=America/New_York:20271013T233000
DTSTAMP:20260425T123027
CREATED:20241119T204840Z
LAST-MODIFIED:20251218T122350Z
UID:10003343-1823463000-1823470200@www.greendragonboston.com
SUMMARY:The Great Blue Wail
DESCRIPTION:
URL:https://www.greendragonboston.com/event/the-great-blue-wail-2/2027-10-13/
LOCATION:The Green Dragon Tavern\, 11 Marshall St.\, Boston\, MA\, 02108\, United States
GEO:42.361468;-71.056849
X-APPLE-STRUCTURED-LOCATION;VALUE=URI;X-ADDRESS=The Green Dragon Tavern 11 Marshall St. Boston MA 02108 United States;X-APPLE-RADIUS=500;X-TITLE=11 Marshall St.:geo:-71.056849,42.361468
END:VEVENT
BEGIN:VEVENT
DTSTART;TZID=America/New_York:20271014T210000
DTEND;TZID=America/New_York:20271014T233000
DTSTAMP:20260425T123027
CREATED:20240206T180455Z
LAST-MODIFIED:20240206T180455Z
UID:10003604-1823547600-1823556600@www.greendragonboston.com
SUMMARY:Spittin Vinnies
DESCRIPTION:
URL:https://www.greendragonboston.com/event/spittin-vinnies-2/2027-10-14/
LOCATION:The Green Dragon Tavern\, 11 Marshall St.\, Boston\, MA\, 02108\, United States
GEO:42.361468;-71.056849
X-APPLE-STRUCTURED-LOCATION;VALUE=URI;X-ADDRESS=The Green Dragon Tavern 11 Marshall St. Boston MA 02108 United States;X-APPLE-RADIUS=500;X-TITLE=11 Marshall St.:geo:-71.056849,42.361468
END:VEVENT
BEGIN:VEVENT
DTSTART;TZID=America/New_York:20271017T213000
DTEND;TZID=America/New_York:20271018T013000
DTSTAMP:20260425T123027
CREATED:20240206T180217Z
LAST-MODIFIED:20240604T165353Z
UID:10002820-1823808600-1823823000@www.greendragonboston.com
SUMMARY:Bonus Cat
DESCRIPTION:
URL:https://www.greendragonboston.com/event/bonus-cat-2/2027-10-17/
LOCATION:The Green Dragon Tavern\, 11 Marshall St.\, Boston\, MA\, 02108\, United States
GEO:42.361468;-71.056849
X-APPLE-STRUCTURED-LOCATION;VALUE=URI;X-ADDRESS=The Green Dragon Tavern 11 Marshall St. Boston MA 02108 United States;X-APPLE-RADIUS=500;X-TITLE=11 Marshall St.:geo:-71.056849,42.361468
END:VEVENT
BEGIN:VEVENT
DTSTART;TZID=America/New_York:20271018T210000
DTEND;TZID=America/New_York:20271018T233000
DTSTAMP:20260425T123027
CREATED:20260309T202053Z
LAST-MODIFIED:20260309T202053Z
UID:10004088-1823893200-1823902200@www.greendragonboston.com
SUMMARY:Open Comedy Night
DESCRIPTION:
URL:https://www.greendragonboston.com/event/open-comedy-night/2027-10-18/
LOCATION:The Green Dragon Tavern\, 11 Marshall St.\, Boston\, MA\, 02108\, United States
GEO:42.361468;-71.056849
X-APPLE-STRUCTURED-LOCATION;VALUE=URI;X-ADDRESS=The Green Dragon Tavern 11 Marshall St. Boston MA 02108 United States;X-APPLE-RADIUS=500;X-TITLE=11 Marshall St.:geo:-71.056849,42.361468
END:VEVENT
BEGIN:VEVENT
DTSTART;TZID=America/New_York:20271020T213000
DTEND;TZID=America/New_York:20271020T233000
DTSTAMP:20260425T123027
CREATED:20241119T204840Z
LAST-MODIFIED:20251218T122350Z
UID:10003344-1824067800-1824075000@www.greendragonboston.com
SUMMARY:The Great Blue Wail
DESCRIPTION:
URL:https://www.greendragonboston.com/event/the-great-blue-wail-2/2027-10-20/
LOCATION:The Green Dragon Tavern\, 11 Marshall St.\, Boston\, MA\, 02108\, United States
GEO:42.361468;-71.056849
X-APPLE-STRUCTURED-LOCATION;VALUE=URI;X-ADDRESS=The Green Dragon Tavern 11 Marshall St. Boston MA 02108 United States;X-APPLE-RADIUS=500;X-TITLE=11 Marshall St.:geo:-71.056849,42.361468
END:VEVENT
BEGIN:VEVENT
DTSTART;TZID=America/New_York:20271021T210000
DTEND;TZID=America/New_York:20271021T233000
DTSTAMP:20260425T123027
CREATED:20240206T180455Z
LAST-MODIFIED:20240206T180455Z
UID:10003605-1824152400-1824161400@www.greendragonboston.com
SUMMARY:Spittin Vinnies
DESCRIPTION:
URL:https://www.greendragonboston.com/event/spittin-vinnies-2/2027-10-21/
LOCATION:The Green Dragon Tavern\, 11 Marshall St.\, Boston\, MA\, 02108\, United States
GEO:42.361468;-71.056849
X-APPLE-STRUCTURED-LOCATION;VALUE=URI;X-ADDRESS=The Green Dragon Tavern 11 Marshall St. Boston MA 02108 United States;X-APPLE-RADIUS=500;X-TITLE=11 Marshall St.:geo:-71.056849,42.361468
END:VEVENT
BEGIN:VEVENT
DTSTART;TZID=America/New_York:20271024T213000
DTEND;TZID=America/New_York:20271025T013000
DTSTAMP:20260425T123027
CREATED:20240206T180217Z
LAST-MODIFIED:20240604T165353Z
UID:10002821-1824413400-1824427800@www.greendragonboston.com
SUMMARY:Bonus Cat
DESCRIPTION:
URL:https://www.greendragonboston.com/event/bonus-cat-2/2027-10-24/
LOCATION:The Green Dragon Tavern\, 11 Marshall St.\, Boston\, MA\, 02108\, United States
GEO:42.361468;-71.056849
X-APPLE-STRUCTURED-LOCATION;VALUE=URI;X-ADDRESS=The Green Dragon Tavern 11 Marshall St. Boston MA 02108 United States;X-APPLE-RADIUS=500;X-TITLE=11 Marshall St.:geo:-71.056849,42.361468
END:VEVENT
BEGIN:VEVENT
DTSTART;TZID=America/New_York:20271025T210000
DTEND;TZID=America/New_York:20271025T233000
DTSTAMP:20260425T123027
CREATED:20260309T202053Z
LAST-MODIFIED:20260309T202053Z
UID:10004089-1824498000-1824507000@www.greendragonboston.com
SUMMARY:Open Comedy Night
DESCRIPTION:
URL:https://www.greendragonboston.com/event/open-comedy-night/2027-10-25/
LOCATION:The Green Dragon Tavern\, 11 Marshall St.\, Boston\, MA\, 02108\, United States
GEO:42.361468;-71.056849
X-APPLE-STRUCTURED-LOCATION;VALUE=URI;X-ADDRESS=The Green Dragon Tavern 11 Marshall St. Boston MA 02108 United States;X-APPLE-RADIUS=500;X-TITLE=11 Marshall St.:geo:-71.056849,42.361468
END:VEVENT
END:VCALENDAR