BEGIN:VCALENDAR
VERSION:2.0
PRODID:-//The Green Dragon Tavern - ECPv6.15.13.1//NONSGML v1.0//EN
CALSCALE:GREGORIAN
METHOD:PUBLISH
X-WR-CALNAME:The Green Dragon Tavern
X-ORIGINAL-URL:https://www.greendragonboston.com
X-WR-CALDESC:Events for The Green Dragon Tavern
REFRESH-INTERVAL;VALUE=DURATION:PT1H
X-Robots-Tag:noindex
X-PUBLISHED-TTL:PT1H
BEGIN:VTIMEZONE
TZID:America/New_York
BEGIN:DAYLIGHT
TZOFFSETFROM:-0500
TZOFFSETTO:-0400
TZNAME:EDT
DTSTART:20240310T070000
END:DAYLIGHT
BEGIN:STANDARD
TZOFFSETFROM:-0400
TZOFFSETTO:-0500
TZNAME:EST
DTSTART:20241103T060000
END:STANDARD
BEGIN:DAYLIGHT
TZOFFSETFROM:-0500
TZOFFSETTO:-0400
TZNAME:EDT
DTSTART:20250309T070000
END:DAYLIGHT
BEGIN:STANDARD
TZOFFSETFROM:-0400
TZOFFSETTO:-0500
TZNAME:EST
DTSTART:20251102T060000
END:STANDARD
BEGIN:DAYLIGHT
TZOFFSETFROM:-0500
TZOFFSETTO:-0400
TZNAME:EDT
DTSTART:20260308T070000
END:DAYLIGHT
BEGIN:STANDARD
TZOFFSETFROM:-0400
TZOFFSETTO:-0500
TZNAME:EST
DTSTART:20261101T060000
END:STANDARD
END:VTIMEZONE
BEGIN:VEVENT
DTSTART;TZID=America/New_York:20250319T213000
DTEND;TZID=America/New_York:20250319T233000
DTSTAMP:20260425T075528
CREATED:20241119T204840Z
LAST-MODIFIED:20251218T122350Z
UID:10003209-1742419800-1742427000@www.greendragonboston.com
SUMMARY:The Great Blue Wail
DESCRIPTION:
URL:https://www.greendragonboston.com/event/the-great-blue-wail-2/2025-03-19/
LOCATION:The Green Dragon Tavern\, 11 Marshall St.\, Boston\, MA\, 02108\, United States
GEO:42.361468;-71.056849
X-APPLE-STRUCTURED-LOCATION;VALUE=URI;X-ADDRESS=The Green Dragon Tavern 11 Marshall St. Boston MA 02108 United States;X-APPLE-RADIUS=500;X-TITLE=11 Marshall St.:geo:-71.056849,42.361468
END:VEVENT
BEGIN:VEVENT
DTSTART;TZID=America/New_York:20250317T210000
DTEND;TZID=America/New_York:20250318T013000
DTSTAMP:20260425T075528
CREATED:20250306T145111Z
LAST-MODIFIED:20250306T145111Z
UID:10003811-1742245200-1742261400@www.greendragonboston.com
SUMMARY:Wolfpack 9pm till late
DESCRIPTION:
URL:https://www.greendragonboston.com/event/wolfpack-9pm-till-late/
LOCATION:The Green Dragon Tavern\, 11 Marshall St.\, Boston\, MA\, 02108\, United States
GEO:42.361468;-71.056849
X-APPLE-STRUCTURED-LOCATION;VALUE=URI;X-ADDRESS=The Green Dragon Tavern 11 Marshall St. Boston MA 02108 United States;X-APPLE-RADIUS=500;X-TITLE=11 Marshall St.:geo:-71.056849,42.361468
END:VEVENT
BEGIN:VEVENT
DTSTART;TZID=America/New_York:20250317T170000
DTEND;TZID=America/New_York:20250317T200000
DTSTAMP:20260425T075528
CREATED:20250306T145029Z
LAST-MODIFIED:20250306T145029Z
UID:10003810-1742230800-1742241600@www.greendragonboston.com
SUMMARY:HARBOR BHUOYS 5-8pm
DESCRIPTION:
URL:https://www.greendragonboston.com/event/harbor-bhuoys-5-8pm/
LOCATION:The Green Dragon Tavern\, 11 Marshall St.\, Boston\, MA\, 02108\, United States
GEO:42.361468;-71.056849
X-APPLE-STRUCTURED-LOCATION;VALUE=URI;X-ADDRESS=The Green Dragon Tavern 11 Marshall St. Boston MA 02108 United States;X-APPLE-RADIUS=500;X-TITLE=11 Marshall St.:geo:-71.056849,42.361468
END:VEVENT
BEGIN:VEVENT
DTSTART;TZID=America/New_York:20250317T120000
DTEND;TZID=America/New_York:20250317T160000
DTSTAMP:20260425T075528
CREATED:20250306T144953Z
LAST-MODIFIED:20250306T144953Z
UID:10003809-1742212800-1742227200@www.greendragonboston.com
SUMMARY:Finbar Doyle 12-4pm
DESCRIPTION:
URL:https://www.greendragonboston.com/event/finbar-doyle-12-4pm/
LOCATION:The Green Dragon Tavern\, 11 Marshall St.\, Boston\, MA\, 02108\, United States
GEO:42.361468;-71.056849
X-APPLE-STRUCTURED-LOCATION;VALUE=URI;X-ADDRESS=The Green Dragon Tavern 11 Marshall St. Boston MA 02108 United States;X-APPLE-RADIUS=500;X-TITLE=11 Marshall St.:geo:-71.056849,42.361468
END:VEVENT
BEGIN:VEVENT
DTSTART;TZID=America/New_York:20250316T213000
DTEND;TZID=America/New_York:20250317T013000
DTSTAMP:20260425T075528
CREATED:20240206T180217Z
LAST-MODIFIED:20240604T165353Z
UID:10002685-1742160600-1742175000@www.greendragonboston.com
SUMMARY:Bonus Cat
DESCRIPTION:
URL:https://www.greendragonboston.com/event/bonus-cat-2/2025-03-16/
LOCATION:The Green Dragon Tavern\, 11 Marshall St.\, Boston\, MA\, 02108\, United States
GEO:42.361468;-71.056849
X-APPLE-STRUCTURED-LOCATION;VALUE=URI;X-ADDRESS=The Green Dragon Tavern 11 Marshall St. Boston MA 02108 United States;X-APPLE-RADIUS=500;X-TITLE=11 Marshall St.:geo:-71.056849,42.361468
END:VEVENT
BEGIN:VEVENT
DTSTART;TZID=America/New_York:20250315T213000
DTEND;TZID=America/New_York:20250316T013000
DTSTAMP:20260425T075528
CREATED:20250306T144854Z
LAST-MODIFIED:20250306T144854Z
UID:10003808-1742074200-1742088600@www.greendragonboston.com
SUMMARY:Cherry Bomb till late
DESCRIPTION:
URL:https://www.greendragonboston.com/event/cherry-bomb-till-late-3/2025-03-15/
LOCATION:The Green Dragon Tavern\, 11 Marshall St.\, Boston\, MA\, 02108\, United States
GEO:42.361468;-71.056849
X-APPLE-STRUCTURED-LOCATION;VALUE=URI;X-ADDRESS=The Green Dragon Tavern 11 Marshall St. Boston MA 02108 United States;X-APPLE-RADIUS=500;X-TITLE=11 Marshall St.:geo:-71.056849,42.361468
END:VEVENT
BEGIN:VEVENT
DTSTART;TZID=America/New_York:20250315T120000
DTEND;TZID=America/New_York:20250315T180000
DTSTAMP:20260425T075528
CREATED:20250312T165559Z
LAST-MODIFIED:20250312T165559Z
UID:10003874-1742040000-1742061600@www.greendragonboston.com
SUMMARY:JOIN US FOR BOSTON'S BIGGEST AND BEST PUB CRAWL - SATURDAY MARCH 15 FROM 12PM
DESCRIPTION:CLICK HERE OR ON IMAGE FOR TICKETS
URL:https://www.greendragonboston.com/event/join-us-for-bostons-biggest-and-best-pub-crawl-saturday-march-15-from-12pm/
LOCATION:The Green Dragon Tavern\, 11 Marshall St.\, Boston\, MA\, 02108\, United States
GEO:42.361468;-71.056849
X-APPLE-STRUCTURED-LOCATION;VALUE=URI;X-ADDRESS=The Green Dragon Tavern 11 Marshall St. Boston MA 02108 United States;X-APPLE-RADIUS=500;X-TITLE=11 Marshall St.:geo:-71.056849,42.361468
END:VEVENT
BEGIN:VEVENT
DTSTART;TZID=America/New_York:20250314T213000
DTEND;TZID=America/New_York:20250315T013000
DTSTAMP:20260425T075528
CREATED:20250306T144721Z
LAST-MODIFIED:20250306T144721Z
UID:10003805-1741987800-1742002200@www.greendragonboston.com
SUMMARY:Wolfpack
DESCRIPTION:
URL:https://www.greendragonboston.com/event/wolfpack-2/2025-03-14/
LOCATION:The Green Dragon Tavern\, 11 Marshall St.\, Boston\, MA\, 02108\, United States
GEO:42.361468;-71.056849
X-APPLE-STRUCTURED-LOCATION;VALUE=URI;X-ADDRESS=The Green Dragon Tavern 11 Marshall St. Boston MA 02108 United States;X-APPLE-RADIUS=500;X-TITLE=11 Marshall St.:geo:-71.056849,42.361468
END:VEVENT
BEGIN:VEVENT
DTSTART;TZID=America/New_York:20250313T210000
DTEND;TZID=America/New_York:20250313T233000
DTSTAMP:20260425T075528
CREATED:20240206T180455Z
LAST-MODIFIED:20240206T180455Z
UID:10003469-1741899600-1741908600@www.greendragonboston.com
SUMMARY:Spittin Vinnies
DESCRIPTION:
URL:https://www.greendragonboston.com/event/spittin-vinnies-2/2025-03-13/
LOCATION:The Green Dragon Tavern\, 11 Marshall St.\, Boston\, MA\, 02108\, United States
GEO:42.361468;-71.056849
X-APPLE-STRUCTURED-LOCATION;VALUE=URI;X-ADDRESS=The Green Dragon Tavern 11 Marshall St. Boston MA 02108 United States;X-APPLE-RADIUS=500;X-TITLE=11 Marshall St.:geo:-71.056849,42.361468
END:VEVENT
BEGIN:VEVENT
DTSTART;TZID=America/New_York:20250312T213000
DTEND;TZID=America/New_York:20250312T233000
DTSTAMP:20260425T075528
CREATED:20241119T204840Z
LAST-MODIFIED:20251218T122350Z
UID:10003208-1741815000-1741822200@www.greendragonboston.com
SUMMARY:The Great Blue Wail
DESCRIPTION:
URL:https://www.greendragonboston.com/event/the-great-blue-wail-2/2025-03-12/
LOCATION:The Green Dragon Tavern\, 11 Marshall St.\, Boston\, MA\, 02108\, United States
GEO:42.361468;-71.056849
X-APPLE-STRUCTURED-LOCATION;VALUE=URI;X-ADDRESS=The Green Dragon Tavern 11 Marshall St. Boston MA 02108 United States;X-APPLE-RADIUS=500;X-TITLE=11 Marshall St.:geo:-71.056849,42.361468
END:VEVENT
BEGIN:VEVENT
DTSTART;TZID=America/New_York:20250312T193000
DTEND;TZID=America/New_York:20250312T213000
DTSTAMP:20260425T075528
CREATED:20250311T175500Z
LAST-MODIFIED:20250311T175500Z
UID:10003873-1741807800-1741815000@www.greendragonboston.com
SUMMARY:GET YOUR ENGRAVED PINT GLASS-WEDNESDAY 3/12 FROM 7.30-9.30PM
DESCRIPTION:
URL:https://www.greendragonboston.com/event/get-your-engraved-pint-glass-wednesday-3-12-from-7-30-9-30pm/
LOCATION:The Green Dragon Tavern\, 11 Marshall St.\, Boston\, MA\, 02108\, United States
GEO:42.361468;-71.056849
X-APPLE-STRUCTURED-LOCATION;VALUE=URI;X-ADDRESS=The Green Dragon Tavern 11 Marshall St. Boston MA 02108 United States;X-APPLE-RADIUS=500;X-TITLE=11 Marshall St.:geo:-71.056849,42.361468
END:VEVENT
BEGIN:VEVENT
DTSTART;TZID=America/New_York:20250309T213000
DTEND;TZID=America/New_York:20250310T013000
DTSTAMP:20260425T075528
CREATED:20240206T180217Z
LAST-MODIFIED:20240604T165353Z
UID:10002684-1741555800-1741570200@www.greendragonboston.com
SUMMARY:Bonus Cat
DESCRIPTION:
URL:https://www.greendragonboston.com/event/bonus-cat-2/2025-03-09/
LOCATION:The Green Dragon Tavern\, 11 Marshall St.\, Boston\, MA\, 02108\, United States
GEO:42.361468;-71.056849
X-APPLE-STRUCTURED-LOCATION;VALUE=URI;X-ADDRESS=The Green Dragon Tavern 11 Marshall St. Boston MA 02108 United States;X-APPLE-RADIUS=500;X-TITLE=11 Marshall St.:geo:-71.056849,42.361468
END:VEVENT
BEGIN:VEVENT
DTSTART;TZID=America/New_York:20250308T213000
DTEND;TZID=America/New_York:20250309T013000
DTSTAMP:20260425T075528
CREATED:20250306T144854Z
LAST-MODIFIED:20250306T144854Z
UID:10003807-1741469400-1741483800@www.greendragonboston.com
SUMMARY:Cherry Bomb till late
DESCRIPTION:
URL:https://www.greendragonboston.com/event/cherry-bomb-till-late-3/2025-03-08/
LOCATION:The Green Dragon Tavern\, 11 Marshall St.\, Boston\, MA\, 02108\, United States
GEO:42.361468;-71.056849
X-APPLE-STRUCTURED-LOCATION;VALUE=URI;X-ADDRESS=The Green Dragon Tavern 11 Marshall St. Boston MA 02108 United States;X-APPLE-RADIUS=500;X-TITLE=11 Marshall St.:geo:-71.056849,42.361468
END:VEVENT
BEGIN:VEVENT
DTSTART;TZID=America/New_York:20250307T213000
DTEND;TZID=America/New_York:20250308T013000
DTSTAMP:20260425T075528
CREATED:20250306T144404Z
LAST-MODIFIED:20250306T144404Z
UID:10003804-1741383000-1741397400@www.greendragonboston.com
SUMMARY:MARLEY STRIEM BAND
DESCRIPTION:
URL:https://www.greendragonboston.com/event/marley-striem-band-2/
LOCATION:The Green Dragon Tavern\, 11 Marshall St.\, Boston\, MA\, 02108\, United States
GEO:42.361468;-71.056849
X-APPLE-STRUCTURED-LOCATION;VALUE=URI;X-ADDRESS=The Green Dragon Tavern 11 Marshall St. Boston MA 02108 United States;X-APPLE-RADIUS=500;X-TITLE=11 Marshall St.:geo:-71.056849,42.361468
END:VEVENT
BEGIN:VEVENT
DTSTART;TZID=America/New_York:20250306T210000
DTEND;TZID=America/New_York:20250306T233000
DTSTAMP:20260425T075528
CREATED:20240206T180455Z
LAST-MODIFIED:20240206T180455Z
UID:10003468-1741294800-1741303800@www.greendragonboston.com
SUMMARY:Spittin Vinnies
DESCRIPTION:
URL:https://www.greendragonboston.com/event/spittin-vinnies-2/2025-03-06/
LOCATION:The Green Dragon Tavern\, 11 Marshall St.\, Boston\, MA\, 02108\, United States
GEO:42.361468;-71.056849
X-APPLE-STRUCTURED-LOCATION;VALUE=URI;X-ADDRESS=The Green Dragon Tavern 11 Marshall St. Boston MA 02108 United States;X-APPLE-RADIUS=500;X-TITLE=11 Marshall St.:geo:-71.056849,42.361468
END:VEVENT
BEGIN:VEVENT
DTSTART;TZID=America/New_York:20250305T213000
DTEND;TZID=America/New_York:20250305T233000
DTSTAMP:20260425T075528
CREATED:20241119T204840Z
LAST-MODIFIED:20251218T122350Z
UID:10003207-1741210200-1741217400@www.greendragonboston.com
SUMMARY:The Great Blue Wail
DESCRIPTION:
URL:https://www.greendragonboston.com/event/the-great-blue-wail-2/2025-03-05/
LOCATION:The Green Dragon Tavern\, 11 Marshall St.\, Boston\, MA\, 02108\, United States
GEO:42.361468;-71.056849
X-APPLE-STRUCTURED-LOCATION;VALUE=URI;X-ADDRESS=The Green Dragon Tavern 11 Marshall St. Boston MA 02108 United States;X-APPLE-RADIUS=500;X-TITLE=11 Marshall St.:geo:-71.056849,42.361468
END:VEVENT
BEGIN:VEVENT
DTSTART;TZID=America/New_York:20250302T213000
DTEND;TZID=America/New_York:20250303T013000
DTSTAMP:20260425T075528
CREATED:20240206T180217Z
LAST-MODIFIED:20240604T165353Z
UID:10002683-1740951000-1740965400@www.greendragonboston.com
SUMMARY:Bonus Cat
DESCRIPTION:
URL:https://www.greendragonboston.com/event/bonus-cat-2/2025-03-02/
LOCATION:The Green Dragon Tavern\, 11 Marshall St.\, Boston\, MA\, 02108\, United States
GEO:42.361468;-71.056849
X-APPLE-STRUCTURED-LOCATION;VALUE=URI;X-ADDRESS=The Green Dragon Tavern 11 Marshall St. Boston MA 02108 United States;X-APPLE-RADIUS=500;X-TITLE=11 Marshall St.:geo:-71.056849,42.361468
END:VEVENT
BEGIN:VEVENT
DTSTART;TZID=America/New_York:20250301T213000
DTEND;TZID=America/New_York:20250302T013000
DTSTAMP:20260425T075528
CREATED:20250127T225144Z
LAST-MODIFIED:20250127T225144Z
UID:10003803-1740864600-1740879000@www.greendragonboston.com
SUMMARY:STRAIGHT JACKET
DESCRIPTION:
URL:https://www.greendragonboston.com/event/straight-jacket/
LOCATION:The Green Dragon Tavern\, 11 Marshall St.\, Boston\, MA\, 02108\, United States
GEO:42.361468;-71.056849
X-APPLE-STRUCTURED-LOCATION;VALUE=URI;X-ADDRESS=The Green Dragon Tavern 11 Marshall St. Boston MA 02108 United States;X-APPLE-RADIUS=500;X-TITLE=11 Marshall St.:geo:-71.056849,42.361468
END:VEVENT
BEGIN:VEVENT
DTSTART;TZID=America/New_York:20250228T213000
DTEND;TZID=America/New_York:20250301T013000
DTSTAMP:20260425T075528
CREATED:20250127T224915Z
LAST-MODIFIED:20250127T225035Z
UID:10003802-1740778200-1740792600@www.greendragonboston.com
SUMMARY:MARLEY STRIEM BAND
DESCRIPTION:
URL:https://www.greendragonboston.com/event/marley-striem-band/
LOCATION:The Green Dragon Tavern\, 11 Marshall St.\, Boston\, MA\, 02108\, United States
GEO:42.361468;-71.056849
X-APPLE-STRUCTURED-LOCATION;VALUE=URI;X-ADDRESS=The Green Dragon Tavern 11 Marshall St. Boston MA 02108 United States;X-APPLE-RADIUS=500;X-TITLE=11 Marshall St.:geo:-71.056849,42.361468
END:VEVENT
BEGIN:VEVENT
DTSTART;TZID=America/New_York:20250227T210000
DTEND;TZID=America/New_York:20250227T233000
DTSTAMP:20260425T075528
CREATED:20240206T180455Z
LAST-MODIFIED:20240206T180455Z
UID:10003467-1740690000-1740699000@www.greendragonboston.com
SUMMARY:Spittin Vinnies
DESCRIPTION:
URL:https://www.greendragonboston.com/event/spittin-vinnies-2/2025-02-27/
LOCATION:The Green Dragon Tavern\, 11 Marshall St.\, Boston\, MA\, 02108\, United States
GEO:42.361468;-71.056849
X-APPLE-STRUCTURED-LOCATION;VALUE=URI;X-ADDRESS=The Green Dragon Tavern 11 Marshall St. Boston MA 02108 United States;X-APPLE-RADIUS=500;X-TITLE=11 Marshall St.:geo:-71.056849,42.361468
END:VEVENT
BEGIN:VEVENT
DTSTART;TZID=America/New_York:20250226T213000
DTEND;TZID=America/New_York:20250226T233000
DTSTAMP:20260425T075528
CREATED:20241119T204840Z
LAST-MODIFIED:20251218T122350Z
UID:10003206-1740605400-1740612600@www.greendragonboston.com
SUMMARY:The Great Blue Wail
DESCRIPTION:
URL:https://www.greendragonboston.com/event/the-great-blue-wail-2/2025-02-26/
LOCATION:The Green Dragon Tavern\, 11 Marshall St.\, Boston\, MA\, 02108\, United States
GEO:42.361468;-71.056849
X-APPLE-STRUCTURED-LOCATION;VALUE=URI;X-ADDRESS=The Green Dragon Tavern 11 Marshall St. Boston MA 02108 United States;X-APPLE-RADIUS=500;X-TITLE=11 Marshall St.:geo:-71.056849,42.361468
END:VEVENT
BEGIN:VEVENT
DTSTART;TZID=America/New_York:20250223T213000
DTEND;TZID=America/New_York:20250224T013000
DTSTAMP:20260425T075528
CREATED:20240206T180217Z
LAST-MODIFIED:20240604T165353Z
UID:10002682-1740346200-1740360600@www.greendragonboston.com
SUMMARY:Bonus Cat
DESCRIPTION:
URL:https://www.greendragonboston.com/event/bonus-cat-2/2025-02-23/
LOCATION:The Green Dragon Tavern\, 11 Marshall St.\, Boston\, MA\, 02108\, United States
GEO:42.361468;-71.056849
X-APPLE-STRUCTURED-LOCATION;VALUE=URI;X-ADDRESS=The Green Dragon Tavern 11 Marshall St. Boston MA 02108 United States;X-APPLE-RADIUS=500;X-TITLE=11 Marshall St.:geo:-71.056849,42.361468
END:VEVENT
BEGIN:VEVENT
DTSTART;TZID=America/New_York:20250222T213000
DTEND;TZID=America/New_York:20250223T013000
DTSTAMP:20260425T075528
CREATED:20250127T224828Z
LAST-MODIFIED:20250127T224828Z
UID:10003801-1740259800-1740274200@www.greendragonboston.com
SUMMARY:Mocking birds 9:30 till late
DESCRIPTION:
URL:https://www.greendragonboston.com/event/mocking-birds-930-till-late-2/
LOCATION:The Green Dragon Tavern\, 11 Marshall St.\, Boston\, MA\, 02108\, United States
GEO:42.361468;-71.056849
X-APPLE-STRUCTURED-LOCATION;VALUE=URI;X-ADDRESS=The Green Dragon Tavern 11 Marshall St. Boston MA 02108 United States;X-APPLE-RADIUS=500;X-TITLE=11 Marshall St.:geo:-71.056849,42.361468
END:VEVENT
BEGIN:VEVENT
DTSTART;TZID=America/New_York:20250221T213000
DTEND;TZID=America/New_York:20250222T013000
DTSTAMP:20260425T075528
CREATED:20250127T224738Z
LAST-MODIFIED:20250127T224738Z
UID:10003800-1740173400-1740187800@www.greendragonboston.com
SUMMARY:OVERTONE
DESCRIPTION:
URL:https://www.greendragonboston.com/event/overtone-2/
LOCATION:The Green Dragon Tavern\, 11 Marshall St.\, Boston\, MA\, 02108\, United States
GEO:42.361468;-71.056849
X-APPLE-STRUCTURED-LOCATION;VALUE=URI;X-ADDRESS=The Green Dragon Tavern 11 Marshall St. Boston MA 02108 United States;X-APPLE-RADIUS=500;X-TITLE=11 Marshall St.:geo:-71.056849,42.361468
END:VEVENT
BEGIN:VEVENT
DTSTART;TZID=America/New_York:20250220T210000
DTEND;TZID=America/New_York:20250220T233000
DTSTAMP:20260425T075528
CREATED:20240206T180455Z
LAST-MODIFIED:20240206T180455Z
UID:10003466-1740085200-1740094200@www.greendragonboston.com
SUMMARY:Spittin Vinnies
DESCRIPTION:
URL:https://www.greendragonboston.com/event/spittin-vinnies-2/2025-02-20/
LOCATION:The Green Dragon Tavern\, 11 Marshall St.\, Boston\, MA\, 02108\, United States
GEO:42.361468;-71.056849
X-APPLE-STRUCTURED-LOCATION;VALUE=URI;X-ADDRESS=The Green Dragon Tavern 11 Marshall St. Boston MA 02108 United States;X-APPLE-RADIUS=500;X-TITLE=11 Marshall St.:geo:-71.056849,42.361468
END:VEVENT
BEGIN:VEVENT
DTSTART;TZID=America/New_York:20250219T213000
DTEND;TZID=America/New_York:20250219T233000
DTSTAMP:20260425T075528
CREATED:20241119T204840Z
LAST-MODIFIED:20251218T122350Z
UID:10003205-1740000600-1740007800@www.greendragonboston.com
SUMMARY:The Great Blue Wail
DESCRIPTION:
URL:https://www.greendragonboston.com/event/the-great-blue-wail-2/2025-02-19/
LOCATION:The Green Dragon Tavern\, 11 Marshall St.\, Boston\, MA\, 02108\, United States
GEO:42.361468;-71.056849
X-APPLE-STRUCTURED-LOCATION;VALUE=URI;X-ADDRESS=The Green Dragon Tavern 11 Marshall St. Boston MA 02108 United States;X-APPLE-RADIUS=500;X-TITLE=11 Marshall St.:geo:-71.056849,42.361468
END:VEVENT
BEGIN:VEVENT
DTSTART;TZID=America/New_York:20250216T213000
DTEND;TZID=America/New_York:20250217T013000
DTSTAMP:20260425T075528
CREATED:20240206T180217Z
LAST-MODIFIED:20240604T165353Z
UID:10002681-1739741400-1739755800@www.greendragonboston.com
SUMMARY:Bonus Cat
DESCRIPTION:
URL:https://www.greendragonboston.com/event/bonus-cat-2/2025-02-16/
LOCATION:The Green Dragon Tavern\, 11 Marshall St.\, Boston\, MA\, 02108\, United States
GEO:42.361468;-71.056849
X-APPLE-STRUCTURED-LOCATION;VALUE=URI;X-ADDRESS=The Green Dragon Tavern 11 Marshall St. Boston MA 02108 United States;X-APPLE-RADIUS=500;X-TITLE=11 Marshall St.:geo:-71.056849,42.361468
END:VEVENT
BEGIN:VEVENT
DTSTART;TZID=America/New_York:20250215T213000
DTEND;TZID=America/New_York:20250216T013000
DTSTAMP:20260425T075528
CREATED:20250127T224506Z
LAST-MODIFIED:20250127T224506Z
UID:10003799-1739655000-1739669400@www.greendragonboston.com
SUMMARY:Cherry Bomb till late
DESCRIPTION:
URL:https://www.greendragonboston.com/event/cherry-bomb-till-late/
LOCATION:The Green Dragon Tavern\, 11 Marshall St.\, Boston\, MA\, 02108\, United States
GEO:42.361468;-71.056849
X-APPLE-STRUCTURED-LOCATION;VALUE=URI;X-ADDRESS=The Green Dragon Tavern 11 Marshall St. Boston MA 02108 United States;X-APPLE-RADIUS=500;X-TITLE=11 Marshall St.:geo:-71.056849,42.361468
END:VEVENT
BEGIN:VEVENT
DTSTART;TZID=America/New_York:20250214T213000
DTEND;TZID=America/New_York:20250215T013000
DTSTAMP:20260425T075528
CREATED:20250127T224400Z
LAST-MODIFIED:20250127T224400Z
UID:10003798-1739568600-1739583000@www.greendragonboston.com
SUMMARY:WHISKEY PRINCESS
DESCRIPTION:
URL:https://www.greendragonboston.com/event/whiskey-princess/
LOCATION:The Green Dragon Tavern\, 11 Marshall St.\, Boston\, MA\, 02108\, United States
GEO:42.361468;-71.056849
X-APPLE-STRUCTURED-LOCATION;VALUE=URI;X-ADDRESS=The Green Dragon Tavern 11 Marshall St. Boston MA 02108 United States;X-APPLE-RADIUS=500;X-TITLE=11 Marshall St.:geo:-71.056849,42.361468
END:VEVENT
BEGIN:VEVENT
DTSTART;TZID=America/New_York:20250213T210000
DTEND;TZID=America/New_York:20250213T233000
DTSTAMP:20260425T075528
CREATED:20240206T180455Z
LAST-MODIFIED:20240206T180455Z
UID:10003465-1739480400-1739489400@www.greendragonboston.com
SUMMARY:Spittin Vinnies
DESCRIPTION:
URL:https://www.greendragonboston.com/event/spittin-vinnies-2/2025-02-13/
LOCATION:The Green Dragon Tavern\, 11 Marshall St.\, Boston\, MA\, 02108\, United States
GEO:42.361468;-71.056849
X-APPLE-STRUCTURED-LOCATION;VALUE=URI;X-ADDRESS=The Green Dragon Tavern 11 Marshall St. Boston MA 02108 United States;X-APPLE-RADIUS=500;X-TITLE=11 Marshall St.:geo:-71.056849,42.361468
END:VEVENT
END:VCALENDAR