BEGIN:VCALENDAR
VERSION:2.0
PRODID:-//The Green Dragon Tavern - ECPv6.15.13.1//NONSGML v1.0//EN
CALSCALE:GREGORIAN
METHOD:PUBLISH
X-WR-CALNAME:The Green Dragon Tavern
X-ORIGINAL-URL:https://www.greendragonboston.com
X-WR-CALDESC:Events for The Green Dragon Tavern
REFRESH-INTERVAL;VALUE=DURATION:PT1H
X-Robots-Tag:noindex
X-PUBLISHED-TTL:PT1H
BEGIN:VTIMEZONE
TZID:America/New_York
BEGIN:DAYLIGHT
TZOFFSETFROM:-0500
TZOFFSETTO:-0400
TZNAME:EDT
DTSTART:20240310T070000
END:DAYLIGHT
BEGIN:STANDARD
TZOFFSETFROM:-0400
TZOFFSETTO:-0500
TZNAME:EST
DTSTART:20241103T060000
END:STANDARD
BEGIN:DAYLIGHT
TZOFFSETFROM:-0500
TZOFFSETTO:-0400
TZNAME:EDT
DTSTART:20250309T070000
END:DAYLIGHT
BEGIN:STANDARD
TZOFFSETFROM:-0400
TZOFFSETTO:-0500
TZNAME:EST
DTSTART:20251102T060000
END:STANDARD
BEGIN:DAYLIGHT
TZOFFSETFROM:-0500
TZOFFSETTO:-0400
TZNAME:EDT
DTSTART:20260308T070000
END:DAYLIGHT
BEGIN:STANDARD
TZOFFSETFROM:-0400
TZOFFSETTO:-0500
TZNAME:EST
DTSTART:20261101T060000
END:STANDARD
END:VTIMEZONE
BEGIN:VEVENT
DTSTART;TZID=America/New_York:20250618T213000
DTEND;TZID=America/New_York:20250618T233000
DTSTAMP:20260424T164652
CREATED:20241119T204840Z
LAST-MODIFIED:20251218T122350Z
UID:10003222-1750282200-1750289400@www.greendragonboston.com
SUMMARY:The Great Blue Wail
DESCRIPTION:
URL:https://www.greendragonboston.com/event/the-great-blue-wail-2/2025-06-18/
LOCATION:The Green Dragon Tavern\, 11 Marshall St.\, Boston\, MA\, 02108\, United States
GEO:42.361468;-71.056849
X-APPLE-STRUCTURED-LOCATION;VALUE=URI;X-ADDRESS=The Green Dragon Tavern 11 Marshall St. Boston MA 02108 United States;X-APPLE-RADIUS=500;X-TITLE=11 Marshall St.:geo:-71.056849,42.361468
END:VEVENT
BEGIN:VEVENT
DTSTART;TZID=America/New_York:20250615T213000
DTEND;TZID=America/New_York:20250616T013000
DTSTAMP:20260424T164653
CREATED:20240206T180217Z
LAST-MODIFIED:20240604T165353Z
UID:10002698-1750023000-1750037400@www.greendragonboston.com
SUMMARY:Bonus Cat
DESCRIPTION:
URL:https://www.greendragonboston.com/event/bonus-cat-2/2025-06-15/
LOCATION:The Green Dragon Tavern\, 11 Marshall St.\, Boston\, MA\, 02108\, United States
GEO:42.361468;-71.056849
X-APPLE-STRUCTURED-LOCATION;VALUE=URI;X-ADDRESS=The Green Dragon Tavern 11 Marshall St. Boston MA 02108 United States;X-APPLE-RADIUS=500;X-TITLE=11 Marshall St.:geo:-71.056849,42.361468
END:VEVENT
BEGIN:VEVENT
DTSTART;TZID=America/New_York:20250614T213000
DTEND;TZID=America/New_York:20250615T013000
DTSTAMP:20260424T164653
CREATED:20250425T194333Z
LAST-MODIFIED:20250425T194333Z
UID:10003892-1749936600-1749951000@www.greendragonboston.com
SUMMARY:Cherry Bomb till late
DESCRIPTION:
URL:https://www.greendragonboston.com/event/cherry-bomb-till-late-6/
LOCATION:The Green Dragon Tavern\, 11 Marshall St.\, Boston\, MA\, 02108\, United States
GEO:42.361468;-71.056849
X-APPLE-STRUCTURED-LOCATION;VALUE=URI;X-ADDRESS=The Green Dragon Tavern 11 Marshall St. Boston MA 02108 United States;X-APPLE-RADIUS=500;X-TITLE=11 Marshall St.:geo:-71.056849,42.361468
END:VEVENT
BEGIN:VEVENT
DTSTART;TZID=America/New_York:20250613T213000
DTEND;TZID=America/New_York:20250614T013000
DTSTAMP:20260424T164653
CREATED:20250425T194222Z
LAST-MODIFIED:20250425T194222Z
UID:10003891-1749850200-1749864600@www.greendragonboston.com
SUMMARY:Vibrant 9:30pm till late
DESCRIPTION:
URL:https://www.greendragonboston.com/event/vibrant-930pm-till-late-2/
LOCATION:The Green Dragon Tavern\, 11 Marshall St.\, Boston\, MA\, 02108\, United States
GEO:42.361468;-71.056849
X-APPLE-STRUCTURED-LOCATION;VALUE=URI;X-ADDRESS=The Green Dragon Tavern 11 Marshall St. Boston MA 02108 United States;X-APPLE-RADIUS=500;X-TITLE=11 Marshall St.:geo:-71.056849,42.361468
END:VEVENT
BEGIN:VEVENT
DTSTART;TZID=America/New_York:20250612T210000
DTEND;TZID=America/New_York:20250612T233000
DTSTAMP:20260424T164653
CREATED:20240206T180455Z
LAST-MODIFIED:20240206T180455Z
UID:10003482-1749762000-1749771000@www.greendragonboston.com
SUMMARY:Spittin Vinnies
DESCRIPTION:
URL:https://www.greendragonboston.com/event/spittin-vinnies-2/2025-06-12/
LOCATION:The Green Dragon Tavern\, 11 Marshall St.\, Boston\, MA\, 02108\, United States
GEO:42.361468;-71.056849
X-APPLE-STRUCTURED-LOCATION;VALUE=URI;X-ADDRESS=The Green Dragon Tavern 11 Marshall St. Boston MA 02108 United States;X-APPLE-RADIUS=500;X-TITLE=11 Marshall St.:geo:-71.056849,42.361468
END:VEVENT
BEGIN:VEVENT
DTSTART;TZID=America/New_York:20250611T213000
DTEND;TZID=America/New_York:20250611T233000
DTSTAMP:20260424T164653
CREATED:20241119T204840Z
LAST-MODIFIED:20251218T122350Z
UID:10003221-1749677400-1749684600@www.greendragonboston.com
SUMMARY:The Great Blue Wail
DESCRIPTION:
URL:https://www.greendragonboston.com/event/the-great-blue-wail-2/2025-06-11/
LOCATION:The Green Dragon Tavern\, 11 Marshall St.\, Boston\, MA\, 02108\, United States
GEO:42.361468;-71.056849
X-APPLE-STRUCTURED-LOCATION;VALUE=URI;X-ADDRESS=The Green Dragon Tavern 11 Marshall St. Boston MA 02108 United States;X-APPLE-RADIUS=500;X-TITLE=11 Marshall St.:geo:-71.056849,42.361468
END:VEVENT
BEGIN:VEVENT
DTSTART;TZID=America/New_York:20250608T213000
DTEND;TZID=America/New_York:20250609T013000
DTSTAMP:20260424T164653
CREATED:20240206T180217Z
LAST-MODIFIED:20240604T165353Z
UID:10002697-1749418200-1749432600@www.greendragonboston.com
SUMMARY:Bonus Cat
DESCRIPTION:
URL:https://www.greendragonboston.com/event/bonus-cat-2/2025-06-08/
LOCATION:The Green Dragon Tavern\, 11 Marshall St.\, Boston\, MA\, 02108\, United States
GEO:42.361468;-71.056849
X-APPLE-STRUCTURED-LOCATION;VALUE=URI;X-ADDRESS=The Green Dragon Tavern 11 Marshall St. Boston MA 02108 United States;X-APPLE-RADIUS=500;X-TITLE=11 Marshall St.:geo:-71.056849,42.361468
END:VEVENT
BEGIN:VEVENT
DTSTART;TZID=America/New_York:20250607T213000
DTEND;TZID=America/New_York:20250608T013000
DTSTAMP:20260424T164653
CREATED:20250425T192402Z
LAST-MODIFIED:20250425T192402Z
UID:10003890-1749331800-1749346200@www.greendragonboston.com
SUMMARY:Eli Cash till late
DESCRIPTION:
URL:https://www.greendragonboston.com/event/eli-cash-till-late-6/
LOCATION:The Green Dragon Tavern\, 11 Marshall St.\, Boston\, MA\, 02108\, United States
GEO:42.361468;-71.056849
X-APPLE-STRUCTURED-LOCATION;VALUE=URI;X-ADDRESS=The Green Dragon Tavern 11 Marshall St. Boston MA 02108 United States;X-APPLE-RADIUS=500;X-TITLE=11 Marshall St.:geo:-71.056849,42.361468
END:VEVENT
BEGIN:VEVENT
DTSTART;TZID=America/New_York:20250606T213000
DTEND;TZID=America/New_York:20250607T013000
DTSTAMP:20260424T164653
CREATED:20250425T192319Z
LAST-MODIFIED:20250425T192319Z
UID:10003889-1749245400-1749259800@www.greendragonboston.com
SUMMARY:Booty Giuliani 9:30pm till late
DESCRIPTION:
URL:https://www.greendragonboston.com/event/booty-giuliani-930pm-till-late-2/
LOCATION:The Green Dragon Tavern\, 11 Marshall St.\, Boston\, MA\, 02108\, United States
GEO:42.361468;-71.056849
X-APPLE-STRUCTURED-LOCATION;VALUE=URI;X-ADDRESS=The Green Dragon Tavern 11 Marshall St. Boston MA 02108 United States;X-APPLE-RADIUS=500;X-TITLE=11 Marshall St.:geo:-71.056849,42.361468
END:VEVENT
BEGIN:VEVENT
DTSTART;TZID=America/New_York:20250605T210000
DTEND;TZID=America/New_York:20250605T233000
DTSTAMP:20260424T164653
CREATED:20240206T180455Z
LAST-MODIFIED:20240206T180455Z
UID:10003481-1749157200-1749166200@www.greendragonboston.com
SUMMARY:Spittin Vinnies
DESCRIPTION:
URL:https://www.greendragonboston.com/event/spittin-vinnies-2/2025-06-05/
LOCATION:The Green Dragon Tavern\, 11 Marshall St.\, Boston\, MA\, 02108\, United States
GEO:42.361468;-71.056849
X-APPLE-STRUCTURED-LOCATION;VALUE=URI;X-ADDRESS=The Green Dragon Tavern 11 Marshall St. Boston MA 02108 United States;X-APPLE-RADIUS=500;X-TITLE=11 Marshall St.:geo:-71.056849,42.361468
END:VEVENT
BEGIN:VEVENT
DTSTART;TZID=America/New_York:20250604T213000
DTEND;TZID=America/New_York:20250604T233000
DTSTAMP:20260424T164653
CREATED:20241119T204840Z
LAST-MODIFIED:20251218T122350Z
UID:10003220-1749072600-1749079800@www.greendragonboston.com
SUMMARY:The Great Blue Wail
DESCRIPTION:
URL:https://www.greendragonboston.com/event/the-great-blue-wail-2/2025-06-04/
LOCATION:The Green Dragon Tavern\, 11 Marshall St.\, Boston\, MA\, 02108\, United States
GEO:42.361468;-71.056849
X-APPLE-STRUCTURED-LOCATION;VALUE=URI;X-ADDRESS=The Green Dragon Tavern 11 Marshall St. Boston MA 02108 United States;X-APPLE-RADIUS=500;X-TITLE=11 Marshall St.:geo:-71.056849,42.361468
END:VEVENT
BEGIN:VEVENT
DTSTART;TZID=America/New_York:20250601T213000
DTEND;TZID=America/New_York:20250602T013000
DTSTAMP:20260424T164653
CREATED:20240206T180217Z
LAST-MODIFIED:20240604T165353Z
UID:10002696-1748813400-1748827800@www.greendragonboston.com
SUMMARY:Bonus Cat
DESCRIPTION:
URL:https://www.greendragonboston.com/event/bonus-cat-2/2025-06-01/
LOCATION:The Green Dragon Tavern\, 11 Marshall St.\, Boston\, MA\, 02108\, United States
GEO:42.361468;-71.056849
X-APPLE-STRUCTURED-LOCATION;VALUE=URI;X-ADDRESS=The Green Dragon Tavern 11 Marshall St. Boston MA 02108 United States;X-APPLE-RADIUS=500;X-TITLE=11 Marshall St.:geo:-71.056849,42.361468
END:VEVENT
BEGIN:VEVENT
DTSTART;TZID=America/New_York:20250529T210000
DTEND;TZID=America/New_York:20250529T233000
DTSTAMP:20260424T164653
CREATED:20240206T180455Z
LAST-MODIFIED:20240206T180455Z
UID:10003480-1748552400-1748561400@www.greendragonboston.com
SUMMARY:Spittin Vinnies
DESCRIPTION:
URL:https://www.greendragonboston.com/event/spittin-vinnies-2/2025-05-29/
LOCATION:The Green Dragon Tavern\, 11 Marshall St.\, Boston\, MA\, 02108\, United States
GEO:42.361468;-71.056849
X-APPLE-STRUCTURED-LOCATION;VALUE=URI;X-ADDRESS=The Green Dragon Tavern 11 Marshall St. Boston MA 02108 United States;X-APPLE-RADIUS=500;X-TITLE=11 Marshall St.:geo:-71.056849,42.361468
END:VEVENT
BEGIN:VEVENT
DTSTART;TZID=America/New_York:20250528T213000
DTEND;TZID=America/New_York:20250528T233000
DTSTAMP:20260424T164653
CREATED:20241119T204840Z
LAST-MODIFIED:20251218T122350Z
UID:10003219-1748467800-1748475000@www.greendragonboston.com
SUMMARY:The Great Blue Wail
DESCRIPTION:
URL:https://www.greendragonboston.com/event/the-great-blue-wail-2/2025-05-28/
LOCATION:The Green Dragon Tavern\, 11 Marshall St.\, Boston\, MA\, 02108\, United States
GEO:42.361468;-71.056849
X-APPLE-STRUCTURED-LOCATION;VALUE=URI;X-ADDRESS=The Green Dragon Tavern 11 Marshall St. Boston MA 02108 United States;X-APPLE-RADIUS=500;X-TITLE=11 Marshall St.:geo:-71.056849,42.361468
END:VEVENT
BEGIN:VEVENT
DTSTART;TZID=America/New_York:20250525T213000
DTEND;TZID=America/New_York:20250526T013000
DTSTAMP:20260424T164653
CREATED:20240206T180217Z
LAST-MODIFIED:20240604T165353Z
UID:10002695-1748208600-1748223000@www.greendragonboston.com
SUMMARY:Bonus Cat
DESCRIPTION:
URL:https://www.greendragonboston.com/event/bonus-cat-2/2025-05-25/
LOCATION:The Green Dragon Tavern\, 11 Marshall St.\, Boston\, MA\, 02108\, United States
GEO:42.361468;-71.056849
X-APPLE-STRUCTURED-LOCATION;VALUE=URI;X-ADDRESS=The Green Dragon Tavern 11 Marshall St. Boston MA 02108 United States;X-APPLE-RADIUS=500;X-TITLE=11 Marshall St.:geo:-71.056849,42.361468
END:VEVENT
BEGIN:VEVENT
DTSTART;TZID=America/New_York:20250524T213000
DTEND;TZID=America/New_York:20250525T013000
DTSTAMP:20260424T164653
CREATED:20250425T192117Z
LAST-MODIFIED:20250425T192117Z
UID:10003888-1748122200-1748136600@www.greendragonboston.com
SUMMARY:NIGHTSHADE
DESCRIPTION:
URL:https://www.greendragonboston.com/event/nightshade-2/
LOCATION:The Green Dragon Tavern\, 11 Marshall St.\, Boston\, MA\, 02108\, United States
GEO:42.361468;-71.056849
X-APPLE-STRUCTURED-LOCATION;VALUE=URI;X-ADDRESS=The Green Dragon Tavern 11 Marshall St. Boston MA 02108 United States;X-APPLE-RADIUS=500;X-TITLE=11 Marshall St.:geo:-71.056849,42.361468
END:VEVENT
BEGIN:VEVENT
DTSTART;TZID=America/New_York:20250523T213000
DTEND;TZID=America/New_York:20250524T013000
DTSTAMP:20260424T164653
CREATED:20250425T192038Z
LAST-MODIFIED:20250425T192038Z
UID:10003887-1748035800-1748050200@www.greendragonboston.com
SUMMARY:OVERTONE
DESCRIPTION:
URL:https://www.greendragonboston.com/event/overtone-5/
LOCATION:The Green Dragon Tavern\, 11 Marshall St.\, Boston\, MA\, 02108\, United States
GEO:42.361468;-71.056849
X-APPLE-STRUCTURED-LOCATION;VALUE=URI;X-ADDRESS=The Green Dragon Tavern 11 Marshall St. Boston MA 02108 United States;X-APPLE-RADIUS=500;X-TITLE=11 Marshall St.:geo:-71.056849,42.361468
END:VEVENT
BEGIN:VEVENT
DTSTART;TZID=America/New_York:20250522T210000
DTEND;TZID=America/New_York:20250522T233000
DTSTAMP:20260424T164653
CREATED:20240206T180455Z
LAST-MODIFIED:20240206T180455Z
UID:10003479-1747947600-1747956600@www.greendragonboston.com
SUMMARY:Spittin Vinnies
DESCRIPTION:
URL:https://www.greendragonboston.com/event/spittin-vinnies-2/2025-05-22/
LOCATION:The Green Dragon Tavern\, 11 Marshall St.\, Boston\, MA\, 02108\, United States
GEO:42.361468;-71.056849
X-APPLE-STRUCTURED-LOCATION;VALUE=URI;X-ADDRESS=The Green Dragon Tavern 11 Marshall St. Boston MA 02108 United States;X-APPLE-RADIUS=500;X-TITLE=11 Marshall St.:geo:-71.056849,42.361468
END:VEVENT
BEGIN:VEVENT
DTSTART;TZID=America/New_York:20250521T213000
DTEND;TZID=America/New_York:20250521T233000
DTSTAMP:20260424T164653
CREATED:20241119T204840Z
LAST-MODIFIED:20251218T122350Z
UID:10003218-1747863000-1747870200@www.greendragonboston.com
SUMMARY:The Great Blue Wail
DESCRIPTION:
URL:https://www.greendragonboston.com/event/the-great-blue-wail-2/2025-05-21/
LOCATION:The Green Dragon Tavern\, 11 Marshall St.\, Boston\, MA\, 02108\, United States
GEO:42.361468;-71.056849
X-APPLE-STRUCTURED-LOCATION;VALUE=URI;X-ADDRESS=The Green Dragon Tavern 11 Marshall St. Boston MA 02108 United States;X-APPLE-RADIUS=500;X-TITLE=11 Marshall St.:geo:-71.056849,42.361468
END:VEVENT
BEGIN:VEVENT
DTSTART;TZID=America/New_York:20250518T213000
DTEND;TZID=America/New_York:20250519T013000
DTSTAMP:20260424T164653
CREATED:20240206T180217Z
LAST-MODIFIED:20240604T165353Z
UID:10002694-1747603800-1747618200@www.greendragonboston.com
SUMMARY:Bonus Cat
DESCRIPTION:
URL:https://www.greendragonboston.com/event/bonus-cat-2/2025-05-18/
LOCATION:The Green Dragon Tavern\, 11 Marshall St.\, Boston\, MA\, 02108\, United States
GEO:42.361468;-71.056849
X-APPLE-STRUCTURED-LOCATION;VALUE=URI;X-ADDRESS=The Green Dragon Tavern 11 Marshall St. Boston MA 02108 United States;X-APPLE-RADIUS=500;X-TITLE=11 Marshall St.:geo:-71.056849,42.361468
END:VEVENT
BEGIN:VEVENT
DTSTART;TZID=America/New_York:20250517T213000
DTEND;TZID=America/New_York:20250518T013000
DTSTAMP:20260424T164653
CREATED:20250425T191945Z
LAST-MODIFIED:20250425T191945Z
UID:10003886-1747517400-1747531800@www.greendragonboston.com
SUMMARY:Mocking birds 9:30 till late
DESCRIPTION:
URL:https://www.greendragonboston.com/event/mocking-birds-930-till-late/
LOCATION:The Green Dragon Tavern\, 11 Marshall St.\, Boston\, MA\, 02108\, United States
GEO:42.361468;-71.056849
X-APPLE-STRUCTURED-LOCATION;VALUE=URI;X-ADDRESS=The Green Dragon Tavern 11 Marshall St. Boston MA 02108 United States;X-APPLE-RADIUS=500;X-TITLE=11 Marshall St.:geo:-71.056849,42.361468
END:VEVENT
BEGIN:VEVENT
DTSTART;TZID=America/New_York:20250516T213000
DTEND;TZID=America/New_York:20250517T013000
DTSTAMP:20260424T164653
CREATED:20250425T191827Z
LAST-MODIFIED:20250425T191827Z
UID:10003885-1747431000-1747445400@www.greendragonboston.com
SUMMARY:Wolfpack till late
DESCRIPTION:
URL:https://www.greendragonboston.com/event/wolfpack-till-late/
LOCATION:The Green Dragon Tavern\, 11 Marshall St.\, Boston\, MA\, 02108\, United States
GEO:42.361468;-71.056849
X-APPLE-STRUCTURED-LOCATION;VALUE=URI;X-ADDRESS=The Green Dragon Tavern 11 Marshall St. Boston MA 02108 United States;X-APPLE-RADIUS=500;X-TITLE=11 Marshall St.:geo:-71.056849,42.361468
END:VEVENT
BEGIN:VEVENT
DTSTART;TZID=America/New_York:20250515T210000
DTEND;TZID=America/New_York:20250515T233000
DTSTAMP:20260424T164653
CREATED:20240206T180455Z
LAST-MODIFIED:20240206T180455Z
UID:10003478-1747342800-1747351800@www.greendragonboston.com
SUMMARY:Spittin Vinnies
DESCRIPTION:
URL:https://www.greendragonboston.com/event/spittin-vinnies-2/2025-05-15/
LOCATION:The Green Dragon Tavern\, 11 Marshall St.\, Boston\, MA\, 02108\, United States
GEO:42.361468;-71.056849
X-APPLE-STRUCTURED-LOCATION;VALUE=URI;X-ADDRESS=The Green Dragon Tavern 11 Marshall St. Boston MA 02108 United States;X-APPLE-RADIUS=500;X-TITLE=11 Marshall St.:geo:-71.056849,42.361468
END:VEVENT
BEGIN:VEVENT
DTSTART;TZID=America/New_York:20250514T213000
DTEND;TZID=America/New_York:20250514T233000
DTSTAMP:20260424T164653
CREATED:20241119T204840Z
LAST-MODIFIED:20251218T122350Z
UID:10003217-1747258200-1747265400@www.greendragonboston.com
SUMMARY:The Great Blue Wail
DESCRIPTION:
URL:https://www.greendragonboston.com/event/the-great-blue-wail-2/2025-05-14/
LOCATION:The Green Dragon Tavern\, 11 Marshall St.\, Boston\, MA\, 02108\, United States
GEO:42.361468;-71.056849
X-APPLE-STRUCTURED-LOCATION;VALUE=URI;X-ADDRESS=The Green Dragon Tavern 11 Marshall St. Boston MA 02108 United States;X-APPLE-RADIUS=500;X-TITLE=11 Marshall St.:geo:-71.056849,42.361468
END:VEVENT
BEGIN:VEVENT
DTSTART;TZID=America/New_York:20250511T213000
DTEND;TZID=America/New_York:20250512T013000
DTSTAMP:20260424T164653
CREATED:20240206T180217Z
LAST-MODIFIED:20240604T165353Z
UID:10002693-1746999000-1747013400@www.greendragonboston.com
SUMMARY:Bonus Cat
DESCRIPTION:
URL:https://www.greendragonboston.com/event/bonus-cat-2/2025-05-11/
LOCATION:The Green Dragon Tavern\, 11 Marshall St.\, Boston\, MA\, 02108\, United States
GEO:42.361468;-71.056849
X-APPLE-STRUCTURED-LOCATION;VALUE=URI;X-ADDRESS=The Green Dragon Tavern 11 Marshall St. Boston MA 02108 United States;X-APPLE-RADIUS=500;X-TITLE=11 Marshall St.:geo:-71.056849,42.361468
END:VEVENT
BEGIN:VEVENT
DTSTART;TZID=America/New_York:20250510T213000
DTEND;TZID=America/New_York:20250511T013000
DTSTAMP:20260424T164653
CREATED:20250425T191731Z
LAST-MODIFIED:20250425T191731Z
UID:10003884-1746912600-1746927000@www.greendragonboston.com
SUMMARY:Cherry Bomb till late
DESCRIPTION:
URL:https://www.greendragonboston.com/event/cherry-bomb-till-late-5/
LOCATION:The Green Dragon Tavern\, 11 Marshall St.\, Boston\, MA\, 02108\, United States
GEO:42.361468;-71.056849
X-APPLE-STRUCTURED-LOCATION;VALUE=URI;X-ADDRESS=The Green Dragon Tavern 11 Marshall St. Boston MA 02108 United States;X-APPLE-RADIUS=500;X-TITLE=11 Marshall St.:geo:-71.056849,42.361468
END:VEVENT
BEGIN:VEVENT
DTSTART;TZID=America/New_York:20250509T213000
DTEND;TZID=America/New_York:20250510T013000
DTSTAMP:20260424T164653
CREATED:20250425T191613Z
LAST-MODIFIED:20250425T191613Z
UID:10003883-1746826200-1746840600@www.greendragonboston.com
SUMMARY:Vibrant 9:30pm till late
DESCRIPTION:
URL:https://www.greendragonboston.com/event/vibrant-930pm-till-late/
LOCATION:The Green Dragon Tavern\, 11 Marshall St.\, Boston\, MA\, 02108\, United States
GEO:42.361468;-71.056849
X-APPLE-STRUCTURED-LOCATION;VALUE=URI;X-ADDRESS=The Green Dragon Tavern 11 Marshall St. Boston MA 02108 United States;X-APPLE-RADIUS=500;X-TITLE=11 Marshall St.:geo:-71.056849,42.361468
END:VEVENT
BEGIN:VEVENT
DTSTART;TZID=America/New_York:20250508T210000
DTEND;TZID=America/New_York:20250508T233000
DTSTAMP:20260424T164653
CREATED:20240206T180455Z
LAST-MODIFIED:20240206T180455Z
UID:10003477-1746738000-1746747000@www.greendragonboston.com
SUMMARY:Spittin Vinnies
DESCRIPTION:
URL:https://www.greendragonboston.com/event/spittin-vinnies-2/2025-05-08/
LOCATION:The Green Dragon Tavern\, 11 Marshall St.\, Boston\, MA\, 02108\, United States
GEO:42.361468;-71.056849
X-APPLE-STRUCTURED-LOCATION;VALUE=URI;X-ADDRESS=The Green Dragon Tavern 11 Marshall St. Boston MA 02108 United States;X-APPLE-RADIUS=500;X-TITLE=11 Marshall St.:geo:-71.056849,42.361468
END:VEVENT
BEGIN:VEVENT
DTSTART;TZID=America/New_York:20250507T213000
DTEND;TZID=America/New_York:20250507T233000
DTSTAMP:20260424T164653
CREATED:20241119T204840Z
LAST-MODIFIED:20251218T122350Z
UID:10003216-1746653400-1746660600@www.greendragonboston.com
SUMMARY:The Great Blue Wail
DESCRIPTION:
URL:https://www.greendragonboston.com/event/the-great-blue-wail-2/2025-05-07/
LOCATION:The Green Dragon Tavern\, 11 Marshall St.\, Boston\, MA\, 02108\, United States
GEO:42.361468;-71.056849
X-APPLE-STRUCTURED-LOCATION;VALUE=URI;X-ADDRESS=The Green Dragon Tavern 11 Marshall St. Boston MA 02108 United States;X-APPLE-RADIUS=500;X-TITLE=11 Marshall St.:geo:-71.056849,42.361468
END:VEVENT
BEGIN:VEVENT
DTSTART;TZID=America/New_York:20250504T213000
DTEND;TZID=America/New_York:20250505T013000
DTSTAMP:20260424T164653
CREATED:20240206T180217Z
LAST-MODIFIED:20240604T165353Z
UID:10002692-1746394200-1746408600@www.greendragonboston.com
SUMMARY:Bonus Cat
DESCRIPTION:
URL:https://www.greendragonboston.com/event/bonus-cat-2/2025-05-04/
LOCATION:The Green Dragon Tavern\, 11 Marshall St.\, Boston\, MA\, 02108\, United States
GEO:42.361468;-71.056849
X-APPLE-STRUCTURED-LOCATION;VALUE=URI;X-ADDRESS=The Green Dragon Tavern 11 Marshall St. Boston MA 02108 United States;X-APPLE-RADIUS=500;X-TITLE=11 Marshall St.:geo:-71.056849,42.361468
END:VEVENT
END:VCALENDAR