BEGIN:VCALENDAR
VERSION:2.0
PRODID:-//The Green Dragon Tavern - ECPv6.15.13.1//NONSGML v1.0//EN
CALSCALE:GREGORIAN
METHOD:PUBLISH
X-ORIGINAL-URL:https://www.greendragonboston.com
X-WR-CALDESC:Events for The Green Dragon Tavern
REFRESH-INTERVAL;VALUE=DURATION:PT1H
X-Robots-Tag:noindex
X-PUBLISHED-TTL:PT1H
BEGIN:VTIMEZONE
TZID:America/New_York
BEGIN:DAYLIGHT
TZOFFSETFROM:-0500
TZOFFSETTO:-0400
TZNAME:EDT
DTSTART:20250309T070000
END:DAYLIGHT
BEGIN:STANDARD
TZOFFSETFROM:-0400
TZOFFSETTO:-0500
TZNAME:EST
DTSTART:20251102T060000
END:STANDARD
BEGIN:DAYLIGHT
TZOFFSETFROM:-0500
TZOFFSETTO:-0400
TZNAME:EDT
DTSTART:20260308T070000
END:DAYLIGHT
BEGIN:STANDARD
TZOFFSETFROM:-0400
TZOFFSETTO:-0500
TZNAME:EST
DTSTART:20261101T060000
END:STANDARD
BEGIN:DAYLIGHT
TZOFFSETFROM:-0500
TZOFFSETTO:-0400
TZNAME:EDT
DTSTART:20270314T070000
END:DAYLIGHT
BEGIN:STANDARD
TZOFFSETFROM:-0400
TZOFFSETTO:-0500
TZNAME:EST
DTSTART:20271107T060000
END:STANDARD
END:VTIMEZONE
BEGIN:VEVENT
DTSTART;TZID=America/New_York:20260601T210000
DTEND;TZID=America/New_York:20260601T233000
DTSTAMP:20260423T064842
CREATED:20260309T202053Z
LAST-MODIFIED:20260309T202053Z
UID:10004016-1780347600-1780356600@www.greendragonboston.com
SUMMARY:Open Comedy Night
DESCRIPTION:
URL:https://www.greendragonboston.com/event/open-comedy-night/2026-06-01/
LOCATION:The Green Dragon Tavern\, 11 Marshall St.\, Boston\, MA\, 02108\, United States
GEO:42.361468;-71.056849
X-APPLE-STRUCTURED-LOCATION;VALUE=URI;X-ADDRESS=The Green Dragon Tavern 11 Marshall St. Boston MA 02108 United States;X-APPLE-RADIUS=500;X-TITLE=11 Marshall St.:geo:-71.056849,42.361468
END:VEVENT
BEGIN:VEVENT
DTSTART;TZID=America/New_York:20260603T213000
DTEND;TZID=America/New_York:20260603T233000
DTSTAMP:20260423T064842
CREATED:20241119T204840Z
LAST-MODIFIED:20251218T122350Z
UID:10003272-1780522200-1780529400@www.greendragonboston.com
SUMMARY:The Great Blue Wail
DESCRIPTION:
URL:https://www.greendragonboston.com/event/the-great-blue-wail-2/2026-06-03/
LOCATION:The Green Dragon Tavern\, 11 Marshall St.\, Boston\, MA\, 02108\, United States
GEO:42.361468;-71.056849
X-APPLE-STRUCTURED-LOCATION;VALUE=URI;X-ADDRESS=The Green Dragon Tavern 11 Marshall St. Boston MA 02108 United States;X-APPLE-RADIUS=500;X-TITLE=11 Marshall St.:geo:-71.056849,42.361468
END:VEVENT
BEGIN:VEVENT
DTSTART;TZID=America/New_York:20260604T210000
DTEND;TZID=America/New_York:20260604T233000
DTSTAMP:20260423T064842
CREATED:20240206T180455Z
LAST-MODIFIED:20240206T180455Z
UID:10003533-1780606800-1780615800@www.greendragonboston.com
SUMMARY:Spittin Vinnies
DESCRIPTION:
URL:https://www.greendragonboston.com/event/spittin-vinnies-2/2026-06-04/
LOCATION:The Green Dragon Tavern\, 11 Marshall St.\, Boston\, MA\, 02108\, United States
GEO:42.361468;-71.056849
X-APPLE-STRUCTURED-LOCATION;VALUE=URI;X-ADDRESS=The Green Dragon Tavern 11 Marshall St. Boston MA 02108 United States;X-APPLE-RADIUS=500;X-TITLE=11 Marshall St.:geo:-71.056849,42.361468
END:VEVENT
BEGIN:VEVENT
DTSTART;TZID=America/New_York:20260607T213000
DTEND;TZID=America/New_York:20260608T013000
DTSTAMP:20260423T064842
CREATED:20240206T180217Z
LAST-MODIFIED:20240604T165353Z
UID:10002749-1780867800-1780882200@www.greendragonboston.com
SUMMARY:Bonus Cat
DESCRIPTION:
URL:https://www.greendragonboston.com/event/bonus-cat-2/2026-06-07/
LOCATION:The Green Dragon Tavern\, 11 Marshall St.\, Boston\, MA\, 02108\, United States
GEO:42.361468;-71.056849
X-APPLE-STRUCTURED-LOCATION;VALUE=URI;X-ADDRESS=The Green Dragon Tavern 11 Marshall St. Boston MA 02108 United States;X-APPLE-RADIUS=500;X-TITLE=11 Marshall St.:geo:-71.056849,42.361468
END:VEVENT
BEGIN:VEVENT
DTSTART;TZID=America/New_York:20260608T210000
DTEND;TZID=America/New_York:20260608T233000
DTSTAMP:20260423T064842
CREATED:20260309T202053Z
LAST-MODIFIED:20260309T202053Z
UID:10004017-1780952400-1780961400@www.greendragonboston.com
SUMMARY:Open Comedy Night
DESCRIPTION:
URL:https://www.greendragonboston.com/event/open-comedy-night/2026-06-08/
LOCATION:The Green Dragon Tavern\, 11 Marshall St.\, Boston\, MA\, 02108\, United States
GEO:42.361468;-71.056849
X-APPLE-STRUCTURED-LOCATION;VALUE=URI;X-ADDRESS=The Green Dragon Tavern 11 Marshall St. Boston MA 02108 United States;X-APPLE-RADIUS=500;X-TITLE=11 Marshall St.:geo:-71.056849,42.361468
END:VEVENT
BEGIN:VEVENT
DTSTART;TZID=America/New_York:20260610T213000
DTEND;TZID=America/New_York:20260610T233000
DTSTAMP:20260423T064842
CREATED:20241119T204840Z
LAST-MODIFIED:20251218T122350Z
UID:10003273-1781127000-1781134200@www.greendragonboston.com
SUMMARY:The Great Blue Wail
DESCRIPTION:
URL:https://www.greendragonboston.com/event/the-great-blue-wail-2/2026-06-10/
LOCATION:The Green Dragon Tavern\, 11 Marshall St.\, Boston\, MA\, 02108\, United States
GEO:42.361468;-71.056849
X-APPLE-STRUCTURED-LOCATION;VALUE=URI;X-ADDRESS=The Green Dragon Tavern 11 Marshall St. Boston MA 02108 United States;X-APPLE-RADIUS=500;X-TITLE=11 Marshall St.:geo:-71.056849,42.361468
END:VEVENT
BEGIN:VEVENT
DTSTART;TZID=America/New_York:20260611T210000
DTEND;TZID=America/New_York:20260611T233000
DTSTAMP:20260423T064842
CREATED:20240206T180455Z
LAST-MODIFIED:20240206T180455Z
UID:10003534-1781211600-1781220600@www.greendragonboston.com
SUMMARY:Spittin Vinnies
DESCRIPTION:
URL:https://www.greendragonboston.com/event/spittin-vinnies-2/2026-06-11/
LOCATION:The Green Dragon Tavern\, 11 Marshall St.\, Boston\, MA\, 02108\, United States
GEO:42.361468;-71.056849
X-APPLE-STRUCTURED-LOCATION;VALUE=URI;X-ADDRESS=The Green Dragon Tavern 11 Marshall St. Boston MA 02108 United States;X-APPLE-RADIUS=500;X-TITLE=11 Marshall St.:geo:-71.056849,42.361468
END:VEVENT
BEGIN:VEVENT
DTSTART;TZID=America/New_York:20260614T213000
DTEND;TZID=America/New_York:20260615T013000
DTSTAMP:20260423T064842
CREATED:20240206T180217Z
LAST-MODIFIED:20240604T165353Z
UID:10002750-1781472600-1781487000@www.greendragonboston.com
SUMMARY:Bonus Cat
DESCRIPTION:
URL:https://www.greendragonboston.com/event/bonus-cat-2/2026-06-14/
LOCATION:The Green Dragon Tavern\, 11 Marshall St.\, Boston\, MA\, 02108\, United States
GEO:42.361468;-71.056849
X-APPLE-STRUCTURED-LOCATION;VALUE=URI;X-ADDRESS=The Green Dragon Tavern 11 Marshall St. Boston MA 02108 United States;X-APPLE-RADIUS=500;X-TITLE=11 Marshall St.:geo:-71.056849,42.361468
END:VEVENT
BEGIN:VEVENT
DTSTART;TZID=America/New_York:20260615T210000
DTEND;TZID=America/New_York:20260615T233000
DTSTAMP:20260423T064842
CREATED:20260309T202053Z
LAST-MODIFIED:20260309T202053Z
UID:10004018-1781557200-1781566200@www.greendragonboston.com
SUMMARY:Open Comedy Night
DESCRIPTION:
URL:https://www.greendragonboston.com/event/open-comedy-night/2026-06-15/
LOCATION:The Green Dragon Tavern\, 11 Marshall St.\, Boston\, MA\, 02108\, United States
GEO:42.361468;-71.056849
X-APPLE-STRUCTURED-LOCATION;VALUE=URI;X-ADDRESS=The Green Dragon Tavern 11 Marshall St. Boston MA 02108 United States;X-APPLE-RADIUS=500;X-TITLE=11 Marshall St.:geo:-71.056849,42.361468
END:VEVENT
BEGIN:VEVENT
DTSTART;TZID=America/New_York:20260617T213000
DTEND;TZID=America/New_York:20260617T233000
DTSTAMP:20260423T064842
CREATED:20241119T204840Z
LAST-MODIFIED:20251218T122350Z
UID:10003274-1781731800-1781739000@www.greendragonboston.com
SUMMARY:The Great Blue Wail
DESCRIPTION:
URL:https://www.greendragonboston.com/event/the-great-blue-wail-2/2026-06-17/
LOCATION:The Green Dragon Tavern\, 11 Marshall St.\, Boston\, MA\, 02108\, United States
GEO:42.361468;-71.056849
X-APPLE-STRUCTURED-LOCATION;VALUE=URI;X-ADDRESS=The Green Dragon Tavern 11 Marshall St. Boston MA 02108 United States;X-APPLE-RADIUS=500;X-TITLE=11 Marshall St.:geo:-71.056849,42.361468
END:VEVENT
BEGIN:VEVENT
DTSTART;TZID=America/New_York:20260618T210000
DTEND;TZID=America/New_York:20260618T233000
DTSTAMP:20260423T064842
CREATED:20240206T180455Z
LAST-MODIFIED:20240206T180455Z
UID:10003535-1781816400-1781825400@www.greendragonboston.com
SUMMARY:Spittin Vinnies
DESCRIPTION:
URL:https://www.greendragonboston.com/event/spittin-vinnies-2/2026-06-18/
LOCATION:The Green Dragon Tavern\, 11 Marshall St.\, Boston\, MA\, 02108\, United States
GEO:42.361468;-71.056849
X-APPLE-STRUCTURED-LOCATION;VALUE=URI;X-ADDRESS=The Green Dragon Tavern 11 Marshall St. Boston MA 02108 United States;X-APPLE-RADIUS=500;X-TITLE=11 Marshall St.:geo:-71.056849,42.361468
END:VEVENT
BEGIN:VEVENT
DTSTART;TZID=America/New_York:20260621T213000
DTEND;TZID=America/New_York:20260622T013000
DTSTAMP:20260423T064842
CREATED:20240206T180217Z
LAST-MODIFIED:20240604T165353Z
UID:10002751-1782077400-1782091800@www.greendragonboston.com
SUMMARY:Bonus Cat
DESCRIPTION:
URL:https://www.greendragonboston.com/event/bonus-cat-2/2026-06-21/
LOCATION:The Green Dragon Tavern\, 11 Marshall St.\, Boston\, MA\, 02108\, United States
GEO:42.361468;-71.056849
X-APPLE-STRUCTURED-LOCATION;VALUE=URI;X-ADDRESS=The Green Dragon Tavern 11 Marshall St. Boston MA 02108 United States;X-APPLE-RADIUS=500;X-TITLE=11 Marshall St.:geo:-71.056849,42.361468
END:VEVENT
BEGIN:VEVENT
DTSTART;TZID=America/New_York:20260622T210000
DTEND;TZID=America/New_York:20260622T233000
DTSTAMP:20260423T064842
CREATED:20260309T202053Z
LAST-MODIFIED:20260309T202053Z
UID:10004019-1782162000-1782171000@www.greendragonboston.com
SUMMARY:Open Comedy Night
DESCRIPTION:
URL:https://www.greendragonboston.com/event/open-comedy-night/2026-06-22/
LOCATION:The Green Dragon Tavern\, 11 Marshall St.\, Boston\, MA\, 02108\, United States
GEO:42.361468;-71.056849
X-APPLE-STRUCTURED-LOCATION;VALUE=URI;X-ADDRESS=The Green Dragon Tavern 11 Marshall St. Boston MA 02108 United States;X-APPLE-RADIUS=500;X-TITLE=11 Marshall St.:geo:-71.056849,42.361468
END:VEVENT
BEGIN:VEVENT
DTSTART;TZID=America/New_York:20260624T213000
DTEND;TZID=America/New_York:20260624T233000
DTSTAMP:20260423T064842
CREATED:20241119T204840Z
LAST-MODIFIED:20251218T122350Z
UID:10003275-1782336600-1782343800@www.greendragonboston.com
SUMMARY:The Great Blue Wail
DESCRIPTION:
URL:https://www.greendragonboston.com/event/the-great-blue-wail-2/2026-06-24/
LOCATION:The Green Dragon Tavern\, 11 Marshall St.\, Boston\, MA\, 02108\, United States
GEO:42.361468;-71.056849
X-APPLE-STRUCTURED-LOCATION;VALUE=URI;X-ADDRESS=The Green Dragon Tavern 11 Marshall St. Boston MA 02108 United States;X-APPLE-RADIUS=500;X-TITLE=11 Marshall St.:geo:-71.056849,42.361468
END:VEVENT
BEGIN:VEVENT
DTSTART;TZID=America/New_York:20260625T210000
DTEND;TZID=America/New_York:20260625T233000
DTSTAMP:20260423T064842
CREATED:20240206T180455Z
LAST-MODIFIED:20240206T180455Z
UID:10003536-1782421200-1782430200@www.greendragonboston.com
SUMMARY:Spittin Vinnies
DESCRIPTION:
URL:https://www.greendragonboston.com/event/spittin-vinnies-2/2026-06-25/
LOCATION:The Green Dragon Tavern\, 11 Marshall St.\, Boston\, MA\, 02108\, United States
GEO:42.361468;-71.056849
X-APPLE-STRUCTURED-LOCATION;VALUE=URI;X-ADDRESS=The Green Dragon Tavern 11 Marshall St. Boston MA 02108 United States;X-APPLE-RADIUS=500;X-TITLE=11 Marshall St.:geo:-71.056849,42.361468
END:VEVENT
BEGIN:VEVENT
DTSTART;TZID=America/New_York:20260628T213000
DTEND;TZID=America/New_York:20260629T013000
DTSTAMP:20260423T064843
CREATED:20240206T180217Z
LAST-MODIFIED:20240604T165353Z
UID:10002752-1782682200-1782696600@www.greendragonboston.com
SUMMARY:Bonus Cat
DESCRIPTION:
URL:https://www.greendragonboston.com/event/bonus-cat-2/2026-06-28/
LOCATION:The Green Dragon Tavern\, 11 Marshall St.\, Boston\, MA\, 02108\, United States
GEO:42.361468;-71.056849
X-APPLE-STRUCTURED-LOCATION;VALUE=URI;X-ADDRESS=The Green Dragon Tavern 11 Marshall St. Boston MA 02108 United States;X-APPLE-RADIUS=500;X-TITLE=11 Marshall St.:geo:-71.056849,42.361468
END:VEVENT
BEGIN:VEVENT
DTSTART;TZID=America/New_York:20260629T210000
DTEND;TZID=America/New_York:20260629T233000
DTSTAMP:20260423T064843
CREATED:20260309T202053Z
LAST-MODIFIED:20260309T202053Z
UID:10004020-1782766800-1782775800@www.greendragonboston.com
SUMMARY:Open Comedy Night
DESCRIPTION:
URL:https://www.greendragonboston.com/event/open-comedy-night/2026-06-29/
LOCATION:The Green Dragon Tavern\, 11 Marshall St.\, Boston\, MA\, 02108\, United States
GEO:42.361468;-71.056849
X-APPLE-STRUCTURED-LOCATION;VALUE=URI;X-ADDRESS=The Green Dragon Tavern 11 Marshall St. Boston MA 02108 United States;X-APPLE-RADIUS=500;X-TITLE=11 Marshall St.:geo:-71.056849,42.361468
END:VEVENT
BEGIN:VEVENT
DTSTART;TZID=America/New_York:20260701T213000
DTEND;TZID=America/New_York:20260701T233000
DTSTAMP:20260423T064843
CREATED:20241119T204840Z
LAST-MODIFIED:20251218T122350Z
UID:10003276-1782941400-1782948600@www.greendragonboston.com
SUMMARY:The Great Blue Wail
DESCRIPTION:
URL:https://www.greendragonboston.com/event/the-great-blue-wail-2/2026-07-01/
LOCATION:The Green Dragon Tavern\, 11 Marshall St.\, Boston\, MA\, 02108\, United States
GEO:42.361468;-71.056849
X-APPLE-STRUCTURED-LOCATION;VALUE=URI;X-ADDRESS=The Green Dragon Tavern 11 Marshall St. Boston MA 02108 United States;X-APPLE-RADIUS=500;X-TITLE=11 Marshall St.:geo:-71.056849,42.361468
END:VEVENT
BEGIN:VEVENT
DTSTART;TZID=America/New_York:20260702T210000
DTEND;TZID=America/New_York:20260702T233000
DTSTAMP:20260423T064843
CREATED:20240206T180455Z
LAST-MODIFIED:20240206T180455Z
UID:10003537-1783026000-1783035000@www.greendragonboston.com
SUMMARY:Spittin Vinnies
DESCRIPTION:
URL:https://www.greendragonboston.com/event/spittin-vinnies-2/2026-07-02/
LOCATION:The Green Dragon Tavern\, 11 Marshall St.\, Boston\, MA\, 02108\, United States
GEO:42.361468;-71.056849
X-APPLE-STRUCTURED-LOCATION;VALUE=URI;X-ADDRESS=The Green Dragon Tavern 11 Marshall St. Boston MA 02108 United States;X-APPLE-RADIUS=500;X-TITLE=11 Marshall St.:geo:-71.056849,42.361468
END:VEVENT
BEGIN:VEVENT
DTSTART;TZID=America/New_York:20260705T213000
DTEND;TZID=America/New_York:20260706T013000
DTSTAMP:20260423T064843
CREATED:20240206T180217Z
LAST-MODIFIED:20240604T165353Z
UID:10002753-1783287000-1783301400@www.greendragonboston.com
SUMMARY:Bonus Cat
DESCRIPTION:
URL:https://www.greendragonboston.com/event/bonus-cat-2/2026-07-05/
LOCATION:The Green Dragon Tavern\, 11 Marshall St.\, Boston\, MA\, 02108\, United States
GEO:42.361468;-71.056849
X-APPLE-STRUCTURED-LOCATION;VALUE=URI;X-ADDRESS=The Green Dragon Tavern 11 Marshall St. Boston MA 02108 United States;X-APPLE-RADIUS=500;X-TITLE=11 Marshall St.:geo:-71.056849,42.361468
END:VEVENT
BEGIN:VEVENT
DTSTART;TZID=America/New_York:20260706T210000
DTEND;TZID=America/New_York:20260706T233000
DTSTAMP:20260423T064843
CREATED:20260309T202053Z
LAST-MODIFIED:20260309T202053Z
UID:10004021-1783371600-1783380600@www.greendragonboston.com
SUMMARY:Open Comedy Night
DESCRIPTION:
URL:https://www.greendragonboston.com/event/open-comedy-night/2026-07-06/
LOCATION:The Green Dragon Tavern\, 11 Marshall St.\, Boston\, MA\, 02108\, United States
GEO:42.361468;-71.056849
X-APPLE-STRUCTURED-LOCATION;VALUE=URI;X-ADDRESS=The Green Dragon Tavern 11 Marshall St. Boston MA 02108 United States;X-APPLE-RADIUS=500;X-TITLE=11 Marshall St.:geo:-71.056849,42.361468
END:VEVENT
BEGIN:VEVENT
DTSTART;TZID=America/New_York:20260708T213000
DTEND;TZID=America/New_York:20260708T233000
DTSTAMP:20260423T064843
CREATED:20241119T204840Z
LAST-MODIFIED:20251218T122350Z
UID:10003277-1783546200-1783553400@www.greendragonboston.com
SUMMARY:The Great Blue Wail
DESCRIPTION:
URL:https://www.greendragonboston.com/event/the-great-blue-wail-2/2026-07-08/
LOCATION:The Green Dragon Tavern\, 11 Marshall St.\, Boston\, MA\, 02108\, United States
GEO:42.361468;-71.056849
X-APPLE-STRUCTURED-LOCATION;VALUE=URI;X-ADDRESS=The Green Dragon Tavern 11 Marshall St. Boston MA 02108 United States;X-APPLE-RADIUS=500;X-TITLE=11 Marshall St.:geo:-71.056849,42.361468
END:VEVENT
BEGIN:VEVENT
DTSTART;TZID=America/New_York:20260709T210000
DTEND;TZID=America/New_York:20260709T233000
DTSTAMP:20260423T064843
CREATED:20240206T180455Z
LAST-MODIFIED:20240206T180455Z
UID:10003538-1783630800-1783639800@www.greendragonboston.com
SUMMARY:Spittin Vinnies
DESCRIPTION:
URL:https://www.greendragonboston.com/event/spittin-vinnies-2/2026-07-09/
LOCATION:The Green Dragon Tavern\, 11 Marshall St.\, Boston\, MA\, 02108\, United States
GEO:42.361468;-71.056849
X-APPLE-STRUCTURED-LOCATION;VALUE=URI;X-ADDRESS=The Green Dragon Tavern 11 Marshall St. Boston MA 02108 United States;X-APPLE-RADIUS=500;X-TITLE=11 Marshall St.:geo:-71.056849,42.361468
END:VEVENT
BEGIN:VEVENT
DTSTART;TZID=America/New_York:20260712T213000
DTEND;TZID=America/New_York:20260713T013000
DTSTAMP:20260423T064843
CREATED:20240206T180217Z
LAST-MODIFIED:20240604T165353Z
UID:10002754-1783891800-1783906200@www.greendragonboston.com
SUMMARY:Bonus Cat
DESCRIPTION:
URL:https://www.greendragonboston.com/event/bonus-cat-2/2026-07-12/
LOCATION:The Green Dragon Tavern\, 11 Marshall St.\, Boston\, MA\, 02108\, United States
GEO:42.361468;-71.056849
X-APPLE-STRUCTURED-LOCATION;VALUE=URI;X-ADDRESS=The Green Dragon Tavern 11 Marshall St. Boston MA 02108 United States;X-APPLE-RADIUS=500;X-TITLE=11 Marshall St.:geo:-71.056849,42.361468
END:VEVENT
BEGIN:VEVENT
DTSTART;TZID=America/New_York:20260713T210000
DTEND;TZID=America/New_York:20260713T233000
DTSTAMP:20260423T064843
CREATED:20260309T202053Z
LAST-MODIFIED:20260309T202053Z
UID:10004022-1783976400-1783985400@www.greendragonboston.com
SUMMARY:Open Comedy Night
DESCRIPTION:
URL:https://www.greendragonboston.com/event/open-comedy-night/2026-07-13/
LOCATION:The Green Dragon Tavern\, 11 Marshall St.\, Boston\, MA\, 02108\, United States
GEO:42.361468;-71.056849
X-APPLE-STRUCTURED-LOCATION;VALUE=URI;X-ADDRESS=The Green Dragon Tavern 11 Marshall St. Boston MA 02108 United States;X-APPLE-RADIUS=500;X-TITLE=11 Marshall St.:geo:-71.056849,42.361468
END:VEVENT
BEGIN:VEVENT
DTSTART;TZID=America/New_York:20260715T213000
DTEND;TZID=America/New_York:20260715T233000
DTSTAMP:20260423T064843
CREATED:20241119T204840Z
LAST-MODIFIED:20251218T122350Z
UID:10003278-1784151000-1784158200@www.greendragonboston.com
SUMMARY:The Great Blue Wail
DESCRIPTION:
URL:https://www.greendragonboston.com/event/the-great-blue-wail-2/2026-07-15/
LOCATION:The Green Dragon Tavern\, 11 Marshall St.\, Boston\, MA\, 02108\, United States
GEO:42.361468;-71.056849
X-APPLE-STRUCTURED-LOCATION;VALUE=URI;X-ADDRESS=The Green Dragon Tavern 11 Marshall St. Boston MA 02108 United States;X-APPLE-RADIUS=500;X-TITLE=11 Marshall St.:geo:-71.056849,42.361468
END:VEVENT
BEGIN:VEVENT
DTSTART;TZID=America/New_York:20260716T210000
DTEND;TZID=America/New_York:20260716T233000
DTSTAMP:20260423T064843
CREATED:20240206T180455Z
LAST-MODIFIED:20240206T180455Z
UID:10003539-1784235600-1784244600@www.greendragonboston.com
SUMMARY:Spittin Vinnies
DESCRIPTION:
URL:https://www.greendragonboston.com/event/spittin-vinnies-2/2026-07-16/
LOCATION:The Green Dragon Tavern\, 11 Marshall St.\, Boston\, MA\, 02108\, United States
GEO:42.361468;-71.056849
X-APPLE-STRUCTURED-LOCATION;VALUE=URI;X-ADDRESS=The Green Dragon Tavern 11 Marshall St. Boston MA 02108 United States;X-APPLE-RADIUS=500;X-TITLE=11 Marshall St.:geo:-71.056849,42.361468
END:VEVENT
BEGIN:VEVENT
DTSTART;TZID=America/New_York:20260719T213000
DTEND;TZID=America/New_York:20260720T013000
DTSTAMP:20260423T064843
CREATED:20240206T180217Z
LAST-MODIFIED:20240604T165353Z
UID:10002755-1784496600-1784511000@www.greendragonboston.com
SUMMARY:Bonus Cat
DESCRIPTION:
URL:https://www.greendragonboston.com/event/bonus-cat-2/2026-07-19/
LOCATION:The Green Dragon Tavern\, 11 Marshall St.\, Boston\, MA\, 02108\, United States
GEO:42.361468;-71.056849
X-APPLE-STRUCTURED-LOCATION;VALUE=URI;X-ADDRESS=The Green Dragon Tavern 11 Marshall St. Boston MA 02108 United States;X-APPLE-RADIUS=500;X-TITLE=11 Marshall St.:geo:-71.056849,42.361468
END:VEVENT
BEGIN:VEVENT
DTSTART;TZID=America/New_York:20260720T210000
DTEND;TZID=America/New_York:20260720T233000
DTSTAMP:20260423T064843
CREATED:20260309T202053Z
LAST-MODIFIED:20260309T202053Z
UID:10004023-1784581200-1784590200@www.greendragonboston.com
SUMMARY:Open Comedy Night
DESCRIPTION:
URL:https://www.greendragonboston.com/event/open-comedy-night/2026-07-20/
LOCATION:The Green Dragon Tavern\, 11 Marshall St.\, Boston\, MA\, 02108\, United States
GEO:42.361468;-71.056849
X-APPLE-STRUCTURED-LOCATION;VALUE=URI;X-ADDRESS=The Green Dragon Tavern 11 Marshall St. Boston MA 02108 United States;X-APPLE-RADIUS=500;X-TITLE=11 Marshall St.:geo:-71.056849,42.361468
END:VEVENT
BEGIN:VEVENT
DTSTART;TZID=America/New_York:20260722T213000
DTEND;TZID=America/New_York:20260722T233000
DTSTAMP:20260423T064843
CREATED:20241119T204840Z
LAST-MODIFIED:20251218T122350Z
UID:10003279-1784755800-1784763000@www.greendragonboston.com
SUMMARY:The Great Blue Wail
DESCRIPTION:
URL:https://www.greendragonboston.com/event/the-great-blue-wail-2/2026-07-22/
LOCATION:The Green Dragon Tavern\, 11 Marshall St.\, Boston\, MA\, 02108\, United States
GEO:42.361468;-71.056849
X-APPLE-STRUCTURED-LOCATION;VALUE=URI;X-ADDRESS=The Green Dragon Tavern 11 Marshall St. Boston MA 02108 United States;X-APPLE-RADIUS=500;X-TITLE=11 Marshall St.:geo:-71.056849,42.361468
END:VEVENT
END:VCALENDAR