BEGIN:VCALENDAR
VERSION:2.0
PRODID:-//The Green Dragon Tavern - ECPv6.15.13.1//NONSGML v1.0//EN
CALSCALE:GREGORIAN
METHOD:PUBLISH
X-WR-CALNAME:The Green Dragon Tavern
X-ORIGINAL-URL:https://www.greendragonboston.com
X-WR-CALDESC:Events for The Green Dragon Tavern
REFRESH-INTERVAL;VALUE=DURATION:PT1H
X-Robots-Tag:noindex
X-PUBLISHED-TTL:PT1H
BEGIN:VTIMEZONE
TZID:America/New_York
BEGIN:DAYLIGHT
TZOFFSETFROM:-0500
TZOFFSETTO:-0400
TZNAME:EDT
DTSTART:20240310T070000
END:DAYLIGHT
BEGIN:STANDARD
TZOFFSETFROM:-0400
TZOFFSETTO:-0500
TZNAME:EST
DTSTART:20241103T060000
END:STANDARD
BEGIN:DAYLIGHT
TZOFFSETFROM:-0500
TZOFFSETTO:-0400
TZNAME:EDT
DTSTART:20250309T070000
END:DAYLIGHT
BEGIN:STANDARD
TZOFFSETFROM:-0400
TZOFFSETTO:-0500
TZNAME:EST
DTSTART:20251102T060000
END:STANDARD
BEGIN:DAYLIGHT
TZOFFSETFROM:-0500
TZOFFSETTO:-0400
TZNAME:EDT
DTSTART:20260308T070000
END:DAYLIGHT
BEGIN:STANDARD
TZOFFSETFROM:-0400
TZOFFSETTO:-0500
TZNAME:EST
DTSTART:20261101T060000
END:STANDARD
END:VTIMEZONE
BEGIN:VEVENT
DTSTART;TZID=America/New_York:20250724T210000
DTEND;TZID=America/New_York:20250724T233000
DTSTAMP:20260424T075856
CREATED:20240206T180455Z
LAST-MODIFIED:20240206T180455Z
UID:10003488-1753390800-1753399800@www.greendragonboston.com
SUMMARY:Spittin Vinnies
DESCRIPTION:
URL:https://www.greendragonboston.com/event/spittin-vinnies-2/2025-07-24/
LOCATION:The Green Dragon Tavern\, 11 Marshall St.\, Boston\, MA\, 02108\, United States
GEO:42.361468;-71.056849
X-APPLE-STRUCTURED-LOCATION;VALUE=URI;X-ADDRESS=The Green Dragon Tavern 11 Marshall St. Boston MA 02108 United States;X-APPLE-RADIUS=500;X-TITLE=11 Marshall St.:geo:-71.056849,42.361468
END:VEVENT
BEGIN:VEVENT
DTSTART;TZID=America/New_York:20250723T213000
DTEND;TZID=America/New_York:20250723T233000
DTSTAMP:20260424T075856
CREATED:20241119T204840Z
LAST-MODIFIED:20251218T122350Z
UID:10003227-1753306200-1753313400@www.greendragonboston.com
SUMMARY:The Great Blue Wail
DESCRIPTION:
URL:https://www.greendragonboston.com/event/the-great-blue-wail-2/2025-07-23/
LOCATION:The Green Dragon Tavern\, 11 Marshall St.\, Boston\, MA\, 02108\, United States
GEO:42.361468;-71.056849
X-APPLE-STRUCTURED-LOCATION;VALUE=URI;X-ADDRESS=The Green Dragon Tavern 11 Marshall St. Boston MA 02108 United States;X-APPLE-RADIUS=500;X-TITLE=11 Marshall St.:geo:-71.056849,42.361468
END:VEVENT
BEGIN:VEVENT
DTSTART;TZID=America/New_York:20250720T213000
DTEND;TZID=America/New_York:20250721T013000
DTSTAMP:20260424T075856
CREATED:20240206T180217Z
LAST-MODIFIED:20240604T165353Z
UID:10002703-1753047000-1753061400@www.greendragonboston.com
SUMMARY:Bonus Cat
DESCRIPTION:
URL:https://www.greendragonboston.com/event/bonus-cat-2/2025-07-20/
LOCATION:The Green Dragon Tavern\, 11 Marshall St.\, Boston\, MA\, 02108\, United States
GEO:42.361468;-71.056849
X-APPLE-STRUCTURED-LOCATION;VALUE=URI;X-ADDRESS=The Green Dragon Tavern 11 Marshall St. Boston MA 02108 United States;X-APPLE-RADIUS=500;X-TITLE=11 Marshall St.:geo:-71.056849,42.361468
END:VEVENT
BEGIN:VEVENT
DTSTART;TZID=America/New_York:20250719T213000
DTEND;TZID=America/New_York:20250720T013000
DTSTAMP:20260424T075856
CREATED:20250704T062238Z
LAST-MODIFIED:20250704T062238Z
UID:10003901-1752960600-1752975000@www.greendragonboston.com
SUMMARY:Mocking Birds till late
DESCRIPTION:
URL:https://www.greendragonboston.com/event/mocking-birds-till-late-2/
LOCATION:The Green Dragon Tavern\, 11 Marshall St.\, Boston\, MA\, 02108\, United States
GEO:42.361468;-71.056849
X-APPLE-STRUCTURED-LOCATION;VALUE=URI;X-ADDRESS=The Green Dragon Tavern 11 Marshall St. Boston MA 02108 United States;X-APPLE-RADIUS=500;X-TITLE=11 Marshall St.:geo:-71.056849,42.361468
END:VEVENT
BEGIN:VEVENT
DTSTART;TZID=America/New_York:20250718T213000
DTEND;TZID=America/New_York:20250719T013000
DTSTAMP:20260424T075856
CREATED:20250704T062153Z
LAST-MODIFIED:20250704T062153Z
UID:10003900-1752874200-1752888600@www.greendragonboston.com
SUMMARY:Wolfpack till late
DESCRIPTION:
URL:https://www.greendragonboston.com/event/wolfpack-till-late-3/
LOCATION:The Green Dragon Tavern\, 11 Marshall St.\, Boston\, MA\, 02108\, United States
GEO:42.361468;-71.056849
X-APPLE-STRUCTURED-LOCATION;VALUE=URI;X-ADDRESS=The Green Dragon Tavern 11 Marshall St. Boston MA 02108 United States;X-APPLE-RADIUS=500;X-TITLE=11 Marshall St.:geo:-71.056849,42.361468
END:VEVENT
BEGIN:VEVENT
DTSTART;TZID=America/New_York:20250717T210000
DTEND;TZID=America/New_York:20250717T233000
DTSTAMP:20260424T075856
CREATED:20240206T180455Z
LAST-MODIFIED:20240206T180455Z
UID:10003487-1752786000-1752795000@www.greendragonboston.com
SUMMARY:Spittin Vinnies
DESCRIPTION:
URL:https://www.greendragonboston.com/event/spittin-vinnies-2/2025-07-17/
LOCATION:The Green Dragon Tavern\, 11 Marshall St.\, Boston\, MA\, 02108\, United States
GEO:42.361468;-71.056849
X-APPLE-STRUCTURED-LOCATION;VALUE=URI;X-ADDRESS=The Green Dragon Tavern 11 Marshall St. Boston MA 02108 United States;X-APPLE-RADIUS=500;X-TITLE=11 Marshall St.:geo:-71.056849,42.361468
END:VEVENT
BEGIN:VEVENT
DTSTART;TZID=America/New_York:20250716T213000
DTEND;TZID=America/New_York:20250716T233000
DTSTAMP:20260424T075856
CREATED:20241119T204840Z
LAST-MODIFIED:20251218T122350Z
UID:10003226-1752701400-1752708600@www.greendragonboston.com
SUMMARY:The Great Blue Wail
DESCRIPTION:
URL:https://www.greendragonboston.com/event/the-great-blue-wail-2/2025-07-16/
LOCATION:The Green Dragon Tavern\, 11 Marshall St.\, Boston\, MA\, 02108\, United States
GEO:42.361468;-71.056849
X-APPLE-STRUCTURED-LOCATION;VALUE=URI;X-ADDRESS=The Green Dragon Tavern 11 Marshall St. Boston MA 02108 United States;X-APPLE-RADIUS=500;X-TITLE=11 Marshall St.:geo:-71.056849,42.361468
END:VEVENT
BEGIN:VEVENT
DTSTART;TZID=America/New_York:20250713T213000
DTEND;TZID=America/New_York:20250714T013000
DTSTAMP:20260424T075856
CREATED:20240206T180217Z
LAST-MODIFIED:20240604T165353Z
UID:10002702-1752442200-1752456600@www.greendragonboston.com
SUMMARY:Bonus Cat
DESCRIPTION:
URL:https://www.greendragonboston.com/event/bonus-cat-2/2025-07-13/
LOCATION:The Green Dragon Tavern\, 11 Marshall St.\, Boston\, MA\, 02108\, United States
GEO:42.361468;-71.056849
X-APPLE-STRUCTURED-LOCATION;VALUE=URI;X-ADDRESS=The Green Dragon Tavern 11 Marshall St. Boston MA 02108 United States;X-APPLE-RADIUS=500;X-TITLE=11 Marshall St.:geo:-71.056849,42.361468
END:VEVENT
BEGIN:VEVENT
DTSTART;TZID=America/New_York:20250712T213000
DTEND;TZID=America/New_York:20250713T013000
DTSTAMP:20260424T075856
CREATED:20250704T062651Z
LAST-MODIFIED:20250704T062651Z
UID:10003906-1752355800-1752370200@www.greendragonboston.com
SUMMARY:Cherry Bomb till late
DESCRIPTION:
URL:https://www.greendragonboston.com/event/cherry-bomb-till-late-7/
LOCATION:The Green Dragon Tavern\, 11 Marshall St.\, Boston\, MA\, 02108\, United States
GEO:42.361468;-71.056849
X-APPLE-STRUCTURED-LOCATION;VALUE=URI;X-ADDRESS=The Green Dragon Tavern 11 Marshall St. Boston MA 02108 United States;X-APPLE-RADIUS=500;X-TITLE=11 Marshall St.:geo:-71.056849,42.361468
END:VEVENT
BEGIN:VEVENT
DTSTART;TZID=America/New_York:20250711T213000
DTEND;TZID=America/New_York:20250712T013000
DTSTAMP:20260424T075856
CREATED:20250704T062046Z
LAST-MODIFIED:20250704T062046Z
UID:10003899-1752269400-1752283800@www.greendragonboston.com
SUMMARY:PAUL BARTON BAND
DESCRIPTION:
URL:https://www.greendragonboston.com/event/paul-barton-band/
LOCATION:The Green Dragon Tavern\, 11 Marshall St.\, Boston\, MA\, 02108\, United States
GEO:42.361468;-71.056849
X-APPLE-STRUCTURED-LOCATION;VALUE=URI;X-ADDRESS=The Green Dragon Tavern 11 Marshall St. Boston MA 02108 United States;X-APPLE-RADIUS=500;X-TITLE=11 Marshall St.:geo:-71.056849,42.361468
END:VEVENT
BEGIN:VEVENT
DTSTART;TZID=America/New_York:20250710T210000
DTEND;TZID=America/New_York:20250710T233000
DTSTAMP:20260424T075856
CREATED:20240206T180455Z
LAST-MODIFIED:20240206T180455Z
UID:10003486-1752181200-1752190200@www.greendragonboston.com
SUMMARY:Spittin Vinnies
DESCRIPTION:
URL:https://www.greendragonboston.com/event/spittin-vinnies-2/2025-07-10/
LOCATION:The Green Dragon Tavern\, 11 Marshall St.\, Boston\, MA\, 02108\, United States
GEO:42.361468;-71.056849
X-APPLE-STRUCTURED-LOCATION;VALUE=URI;X-ADDRESS=The Green Dragon Tavern 11 Marshall St. Boston MA 02108 United States;X-APPLE-RADIUS=500;X-TITLE=11 Marshall St.:geo:-71.056849,42.361468
END:VEVENT
BEGIN:VEVENT
DTSTART;TZID=America/New_York:20250709T213000
DTEND;TZID=America/New_York:20250709T233000
DTSTAMP:20260424T075856
CREATED:20241119T204840Z
LAST-MODIFIED:20251218T122350Z
UID:10003225-1752096600-1752103800@www.greendragonboston.com
SUMMARY:The Great Blue Wail
DESCRIPTION:
URL:https://www.greendragonboston.com/event/the-great-blue-wail-2/2025-07-09/
LOCATION:The Green Dragon Tavern\, 11 Marshall St.\, Boston\, MA\, 02108\, United States
GEO:42.361468;-71.056849
X-APPLE-STRUCTURED-LOCATION;VALUE=URI;X-ADDRESS=The Green Dragon Tavern 11 Marshall St. Boston MA 02108 United States;X-APPLE-RADIUS=500;X-TITLE=11 Marshall St.:geo:-71.056849,42.361468
END:VEVENT
BEGIN:VEVENT
DTSTART;TZID=America/New_York:20250706T213000
DTEND;TZID=America/New_York:20250707T013000
DTSTAMP:20260424T075856
CREATED:20240206T180217Z
LAST-MODIFIED:20240604T165353Z
UID:10002701-1751837400-1751851800@www.greendragonboston.com
SUMMARY:Bonus Cat
DESCRIPTION:
URL:https://www.greendragonboston.com/event/bonus-cat-2/2025-07-06/
LOCATION:The Green Dragon Tavern\, 11 Marshall St.\, Boston\, MA\, 02108\, United States
GEO:42.361468;-71.056849
X-APPLE-STRUCTURED-LOCATION;VALUE=URI;X-ADDRESS=The Green Dragon Tavern 11 Marshall St. Boston MA 02108 United States;X-APPLE-RADIUS=500;X-TITLE=11 Marshall St.:geo:-71.056849,42.361468
END:VEVENT
BEGIN:VEVENT
DTSTART;TZID=America/New_York:20250705T213000
DTEND;TZID=America/New_York:20250706T013000
DTSTAMP:20260424T075856
CREATED:20250425T194739Z
LAST-MODIFIED:20250425T194739Z
UID:10003897-1751751000-1751765400@www.greendragonboston.com
SUMMARY:Prestige worldwide
DESCRIPTION:
URL:https://www.greendragonboston.com/event/prestige-worldwide-2/
LOCATION:The Green Dragon Tavern\, 11 Marshall St.\, Boston\, MA\, 02108\, United States
GEO:42.361468;-71.056849
X-APPLE-STRUCTURED-LOCATION;VALUE=URI;X-ADDRESS=The Green Dragon Tavern 11 Marshall St. Boston MA 02108 United States;X-APPLE-RADIUS=500;X-TITLE=11 Marshall St.:geo:-71.056849,42.361468
END:VEVENT
BEGIN:VEVENT
DTSTART;TZID=America/New_York:20250704T213000
DTEND;TZID=America/New_York:20250705T013000
DTSTAMP:20260424T075856
CREATED:20250425T194700Z
LAST-MODIFIED:20250704T061856Z
UID:10003896-1751664600-1751679000@www.greendragonboston.com
SUMMARY:4 IN A ROW
DESCRIPTION:
URL:https://www.greendragonboston.com/event/undercover-2/
LOCATION:The Green Dragon Tavern\, 11 Marshall St.\, Boston\, MA\, 02108\, United States
GEO:42.361468;-71.056849
X-APPLE-STRUCTURED-LOCATION;VALUE=URI;X-ADDRESS=The Green Dragon Tavern 11 Marshall St. Boston MA 02108 United States;X-APPLE-RADIUS=500;X-TITLE=11 Marshall St.:geo:-71.056849,42.361468
END:VEVENT
BEGIN:VEVENT
DTSTART;TZID=America/New_York:20250703T210000
DTEND;TZID=America/New_York:20250703T233000
DTSTAMP:20260424T075856
CREATED:20240206T180455Z
LAST-MODIFIED:20240206T180455Z
UID:10003485-1751576400-1751585400@www.greendragonboston.com
SUMMARY:Spittin Vinnies
DESCRIPTION:
URL:https://www.greendragonboston.com/event/spittin-vinnies-2/2025-07-03/
LOCATION:The Green Dragon Tavern\, 11 Marshall St.\, Boston\, MA\, 02108\, United States
GEO:42.361468;-71.056849
X-APPLE-STRUCTURED-LOCATION;VALUE=URI;X-ADDRESS=The Green Dragon Tavern 11 Marshall St. Boston MA 02108 United States;X-APPLE-RADIUS=500;X-TITLE=11 Marshall St.:geo:-71.056849,42.361468
END:VEVENT
BEGIN:VEVENT
DTSTART;TZID=America/New_York:20250702T213000
DTEND;TZID=America/New_York:20250702T233000
DTSTAMP:20260424T075856
CREATED:20241119T204840Z
LAST-MODIFIED:20251218T122350Z
UID:10003224-1751491800-1751499000@www.greendragonboston.com
SUMMARY:The Great Blue Wail
DESCRIPTION:
URL:https://www.greendragonboston.com/event/the-great-blue-wail-2/2025-07-02/
LOCATION:The Green Dragon Tavern\, 11 Marshall St.\, Boston\, MA\, 02108\, United States
GEO:42.361468;-71.056849
X-APPLE-STRUCTURED-LOCATION;VALUE=URI;X-ADDRESS=The Green Dragon Tavern 11 Marshall St. Boston MA 02108 United States;X-APPLE-RADIUS=500;X-TITLE=11 Marshall St.:geo:-71.056849,42.361468
END:VEVENT
BEGIN:VEVENT
DTSTART;TZID=America/New_York:20250629T213000
DTEND;TZID=America/New_York:20250630T013000
DTSTAMP:20260424T075856
CREATED:20240206T180217Z
LAST-MODIFIED:20240604T165353Z
UID:10002700-1751232600-1751247000@www.greendragonboston.com
SUMMARY:Bonus Cat
DESCRIPTION:
URL:https://www.greendragonboston.com/event/bonus-cat-2/2025-06-29/
LOCATION:The Green Dragon Tavern\, 11 Marshall St.\, Boston\, MA\, 02108\, United States
GEO:42.361468;-71.056849
X-APPLE-STRUCTURED-LOCATION;VALUE=URI;X-ADDRESS=The Green Dragon Tavern 11 Marshall St. Boston MA 02108 United States;X-APPLE-RADIUS=500;X-TITLE=11 Marshall St.:geo:-71.056849,42.361468
END:VEVENT
BEGIN:VEVENT
DTSTART;TZID=America/New_York:20250628T213000
DTEND;TZID=America/New_York:20250629T013000
DTSTAMP:20260424T075856
CREATED:20250425T194543Z
LAST-MODIFIED:20250425T194543Z
UID:10003895-1751146200-1751160600@www.greendragonboston.com
SUMMARY:CHARING CROSS
DESCRIPTION:
URL:https://www.greendragonboston.com/event/charing-cross-3/
LOCATION:The Green Dragon Tavern\, 11 Marshall St.\, Boston\, MA\, 02108\, United States
GEO:42.361468;-71.056849
X-APPLE-STRUCTURED-LOCATION;VALUE=URI;X-ADDRESS=The Green Dragon Tavern 11 Marshall St. Boston MA 02108 United States;X-APPLE-RADIUS=500;X-TITLE=11 Marshall St.:geo:-71.056849,42.361468
END:VEVENT
BEGIN:VEVENT
DTSTART;TZID=America/New_York:20250627T213000
DTEND;TZID=America/New_York:20250628T013000
DTSTAMP:20260424T075856
CREATED:20250425T194453Z
LAST-MODIFIED:20250425T194453Z
UID:10003894-1751059800-1751074200@www.greendragonboston.com
SUMMARY:Wolfpack till late
DESCRIPTION:
URL:https://www.greendragonboston.com/event/wolfpack-till-late-2/
LOCATION:The Green Dragon Tavern\, 11 Marshall St.\, Boston\, MA\, 02108\, United States
GEO:42.361468;-71.056849
X-APPLE-STRUCTURED-LOCATION;VALUE=URI;X-ADDRESS=The Green Dragon Tavern 11 Marshall St. Boston MA 02108 United States;X-APPLE-RADIUS=500;X-TITLE=11 Marshall St.:geo:-71.056849,42.361468
END:VEVENT
BEGIN:VEVENT
DTSTART;TZID=America/New_York:20250626T210000
DTEND;TZID=America/New_York:20250626T233000
DTSTAMP:20260424T075856
CREATED:20240206T180455Z
LAST-MODIFIED:20240206T180455Z
UID:10003484-1750971600-1750980600@www.greendragonboston.com
SUMMARY:Spittin Vinnies
DESCRIPTION:
URL:https://www.greendragonboston.com/event/spittin-vinnies-2/2025-06-26/
LOCATION:The Green Dragon Tavern\, 11 Marshall St.\, Boston\, MA\, 02108\, United States
GEO:42.361468;-71.056849
X-APPLE-STRUCTURED-LOCATION;VALUE=URI;X-ADDRESS=The Green Dragon Tavern 11 Marshall St. Boston MA 02108 United States;X-APPLE-RADIUS=500;X-TITLE=11 Marshall St.:geo:-71.056849,42.361468
END:VEVENT
BEGIN:VEVENT
DTSTART;TZID=America/New_York:20250625T213000
DTEND;TZID=America/New_York:20250625T233000
DTSTAMP:20260424T075856
CREATED:20241119T204840Z
LAST-MODIFIED:20251218T122350Z
UID:10003223-1750887000-1750894200@www.greendragonboston.com
SUMMARY:The Great Blue Wail
DESCRIPTION:
URL:https://www.greendragonboston.com/event/the-great-blue-wail-2/2025-06-25/
LOCATION:The Green Dragon Tavern\, 11 Marshall St.\, Boston\, MA\, 02108\, United States
GEO:42.361468;-71.056849
X-APPLE-STRUCTURED-LOCATION;VALUE=URI;X-ADDRESS=The Green Dragon Tavern 11 Marshall St. Boston MA 02108 United States;X-APPLE-RADIUS=500;X-TITLE=11 Marshall St.:geo:-71.056849,42.361468
END:VEVENT
BEGIN:VEVENT
DTSTART;TZID=America/New_York:20250622T213000
DTEND;TZID=America/New_York:20250623T013000
DTSTAMP:20260424T075856
CREATED:20240206T180217Z
LAST-MODIFIED:20240604T165353Z
UID:10002699-1750627800-1750642200@www.greendragonboston.com
SUMMARY:Bonus Cat
DESCRIPTION:
URL:https://www.greendragonboston.com/event/bonus-cat-2/2025-06-22/
LOCATION:The Green Dragon Tavern\, 11 Marshall St.\, Boston\, MA\, 02108\, United States
GEO:42.361468;-71.056849
X-APPLE-STRUCTURED-LOCATION;VALUE=URI;X-ADDRESS=The Green Dragon Tavern 11 Marshall St. Boston MA 02108 United States;X-APPLE-RADIUS=500;X-TITLE=11 Marshall St.:geo:-71.056849,42.361468
END:VEVENT
BEGIN:VEVENT
DTSTART;TZID=America/New_York:20250621T213000
DTEND;TZID=America/New_York:20250622T013000
DTSTAMP:20260424T075856
CREATED:20250425T194412Z
LAST-MODIFIED:20250425T194412Z
UID:10003893-1750541400-1750555800@www.greendragonboston.com
SUMMARY:OVERTONE
DESCRIPTION:
URL:https://www.greendragonboston.com/event/overtone-6/
LOCATION:The Green Dragon Tavern\, 11 Marshall St.\, Boston\, MA\, 02108\, United States
GEO:42.361468;-71.056849
X-APPLE-STRUCTURED-LOCATION;VALUE=URI;X-ADDRESS=The Green Dragon Tavern 11 Marshall St. Boston MA 02108 United States;X-APPLE-RADIUS=500;X-TITLE=11 Marshall St.:geo:-71.056849,42.361468
END:VEVENT
BEGIN:VEVENT
DTSTART;TZID=America/New_York:20250620T213000
DTEND;TZID=America/New_York:20250621T013000
DTSTAMP:20260424T075856
CREATED:20250605T195334Z
LAST-MODIFIED:20250605T195334Z
UID:10003898-1750455000-1750469400@www.greendragonboston.com
SUMMARY:BAND WITH NO NAME
DESCRIPTION:
URL:https://www.greendragonboston.com/event/band-with-no-name/
LOCATION:The Green Dragon Tavern\, 11 Marshall St.\, Boston\, MA\, 02108\, United States
GEO:42.361468;-71.056849
X-APPLE-STRUCTURED-LOCATION;VALUE=URI;X-ADDRESS=The Green Dragon Tavern 11 Marshall St. Boston MA 02108 United States;X-APPLE-RADIUS=500;X-TITLE=11 Marshall St.:geo:-71.056849,42.361468
END:VEVENT
BEGIN:VEVENT
DTSTART;TZID=America/New_York:20250619T210000
DTEND;TZID=America/New_York:20250619T233000
DTSTAMP:20260424T075856
CREATED:20240206T180455Z
LAST-MODIFIED:20240206T180455Z
UID:10003483-1750366800-1750375800@www.greendragonboston.com
SUMMARY:Spittin Vinnies
DESCRIPTION:
URL:https://www.greendragonboston.com/event/spittin-vinnies-2/2025-06-19/
LOCATION:The Green Dragon Tavern\, 11 Marshall St.\, Boston\, MA\, 02108\, United States
GEO:42.361468;-71.056849
X-APPLE-STRUCTURED-LOCATION;VALUE=URI;X-ADDRESS=The Green Dragon Tavern 11 Marshall St. Boston MA 02108 United States;X-APPLE-RADIUS=500;X-TITLE=11 Marshall St.:geo:-71.056849,42.361468
END:VEVENT
BEGIN:VEVENT
DTSTART;TZID=America/New_York:20250618T213000
DTEND;TZID=America/New_York:20250618T233000
DTSTAMP:20260424T075856
CREATED:20241119T204840Z
LAST-MODIFIED:20251218T122350Z
UID:10003222-1750282200-1750289400@www.greendragonboston.com
SUMMARY:The Great Blue Wail
DESCRIPTION:
URL:https://www.greendragonboston.com/event/the-great-blue-wail-2/2025-06-18/
LOCATION:The Green Dragon Tavern\, 11 Marshall St.\, Boston\, MA\, 02108\, United States
GEO:42.361468;-71.056849
X-APPLE-STRUCTURED-LOCATION;VALUE=URI;X-ADDRESS=The Green Dragon Tavern 11 Marshall St. Boston MA 02108 United States;X-APPLE-RADIUS=500;X-TITLE=11 Marshall St.:geo:-71.056849,42.361468
END:VEVENT
BEGIN:VEVENT
DTSTART;TZID=America/New_York:20250615T213000
DTEND;TZID=America/New_York:20250616T013000
DTSTAMP:20260424T075856
CREATED:20240206T180217Z
LAST-MODIFIED:20240604T165353Z
UID:10002698-1750023000-1750037400@www.greendragonboston.com
SUMMARY:Bonus Cat
DESCRIPTION:
URL:https://www.greendragonboston.com/event/bonus-cat-2/2025-06-15/
LOCATION:The Green Dragon Tavern\, 11 Marshall St.\, Boston\, MA\, 02108\, United States
GEO:42.361468;-71.056849
X-APPLE-STRUCTURED-LOCATION;VALUE=URI;X-ADDRESS=The Green Dragon Tavern 11 Marshall St. Boston MA 02108 United States;X-APPLE-RADIUS=500;X-TITLE=11 Marshall St.:geo:-71.056849,42.361468
END:VEVENT
BEGIN:VEVENT
DTSTART;TZID=America/New_York:20250614T213000
DTEND;TZID=America/New_York:20250615T013000
DTSTAMP:20260424T075856
CREATED:20250425T194333Z
LAST-MODIFIED:20250425T194333Z
UID:10003892-1749936600-1749951000@www.greendragonboston.com
SUMMARY:Cherry Bomb till late
DESCRIPTION:
URL:https://www.greendragonboston.com/event/cherry-bomb-till-late-6/
LOCATION:The Green Dragon Tavern\, 11 Marshall St.\, Boston\, MA\, 02108\, United States
GEO:42.361468;-71.056849
X-APPLE-STRUCTURED-LOCATION;VALUE=URI;X-ADDRESS=The Green Dragon Tavern 11 Marshall St. Boston MA 02108 United States;X-APPLE-RADIUS=500;X-TITLE=11 Marshall St.:geo:-71.056849,42.361468
END:VEVENT
BEGIN:VEVENT
DTSTART;TZID=America/New_York:20250613T213000
DTEND;TZID=America/New_York:20250614T013000
DTSTAMP:20260424T075856
CREATED:20250425T194222Z
LAST-MODIFIED:20250425T194222Z
UID:10003891-1749850200-1749864600@www.greendragonboston.com
SUMMARY:Vibrant 9:30pm till late
DESCRIPTION:
URL:https://www.greendragonboston.com/event/vibrant-930pm-till-late-2/
LOCATION:The Green Dragon Tavern\, 11 Marshall St.\, Boston\, MA\, 02108\, United States
GEO:42.361468;-71.056849
X-APPLE-STRUCTURED-LOCATION;VALUE=URI;X-ADDRESS=The Green Dragon Tavern 11 Marshall St. Boston MA 02108 United States;X-APPLE-RADIUS=500;X-TITLE=11 Marshall St.:geo:-71.056849,42.361468
END:VEVENT
END:VCALENDAR